BEGIN:VCALENDAR
VERSION:2.0
PRODID:-//French Tech Côte d&#039;Azur - ECPv6.15.20//NONSGML v1.0//EN
CALSCALE:GREGORIAN
METHOD:PUBLISH
X-ORIGINAL-URL:https://www.frenchtechcotedazur.fr
X-WR-CALDESC:Évènements pour French Tech Côte d&#039;Azur
REFRESH-INTERVAL;VALUE=DURATION:PT1H
X-Robots-Tag:noindex
X-PUBLISHED-TTL:PT1H
BEGIN:VTIMEZONE
TZID:Europe/Paris
BEGIN:DAYLIGHT
TZOFFSETFROM:+0100
TZOFFSETTO:+0200
TZNAME:CEST
DTSTART:20240331T010000
END:DAYLIGHT
BEGIN:STANDARD
TZOFFSETFROM:+0200
TZOFFSETTO:+0100
TZNAME:CET
DTSTART:20241027T010000
END:STANDARD
BEGIN:DAYLIGHT
TZOFFSETFROM:+0100
TZOFFSETTO:+0200
TZNAME:CEST
DTSTART:20250330T010000
END:DAYLIGHT
BEGIN:STANDARD
TZOFFSETFROM:+0200
TZOFFSETTO:+0100
TZNAME:CET
DTSTART:20251026T010000
END:STANDARD
BEGIN:DAYLIGHT
TZOFFSETFROM:+0100
TZOFFSETTO:+0200
TZNAME:CEST
DTSTART:20260329T010000
END:DAYLIGHT
BEGIN:STANDARD
TZOFFSETFROM:+0200
TZOFFSETTO:+0100
TZNAME:CET
DTSTART:20261025T010000
END:STANDARD
END:VTIMEZONE
BEGIN:VEVENT
DTSTART;TZID=Europe/Paris:20250401T080000
DTEND;TZID=Europe/Paris:20250401T100000
DTSTAMP:20260419T204024
CREATED:20240827T083109Z
LAST-MODIFIED:20250331T164713Z
UID:7742-1743494400-1743501600@www.frenchtechcotedazur.fr
SUMMARY:Petit-déjeuner institutionnel par France Invest
DESCRIPTION:France Invest\, l’association professionnelle qui fédère les sociétés de capital-investissement actives en France\, sera à Nice les lundi 31 mars et ce  mardi 1er avril. L’objectif principal de ce rendez-vous est de réunir plus de dirigeants d’entreprise qui n’ont pas encore ouvert le capital de leur entreprise afin de leur présenter les atouts de notre secteur pour les accompagner dans le développement de leur activité. \n📅 Mardi 1 avril 2025 de 8h à 10h \n📍Crowne Plaza Nice – Grand Arénas\, Rue Costes et Bellonte\, Nice \nLa conférence sera articulée autour des temps fort suivants :\n18h – 19h : l’actualité et des chiffres nationaux et régionaux du capital-investissement français\n19h – 19h45 : table-ronde réunissant des entrepreneurs ayant ouvert leur capital\n19h45 – 20h15 : intervention de Patrick Artus\, économiste\n20h15 : cocktail apéritif \nSur invitation
URL:https://www.frenchtechcotedazur.fr/event/petit-dejeuner-institutionnel-par-france-invest/
ATTACH;FMTTYPE=image/jpeg:https://www.frenchtechcotedazur.fr/wp-content/uploads/2024/08/th-3.jpeg
END:VEVENT
BEGIN:VEVENT
DTSTART;TZID=Europe/Paris:20250401T123000
DTEND;TZID=Europe/Paris:20250401T133000
DTSTAMP:20260419T204025
CREATED:20240827T083109Z
LAST-MODIFIED:20250324T142025Z
UID:7693-1743510600-1743514200@www.frenchtechcotedazur.fr
SUMMARY:Atelier : Les financements en 2025 - Qui finance quoi ? par Cannes Is Up
DESCRIPTION:Cannes is Up vous invite à un atelier interactif consacré aux financements en 2025\, animé par Fumi Partners et le cabinet Leyton qui se tiendra : \n📅 Le mardi 1 avril 2025 12h30 à 13h30 \n📍 Campus Georges Méliès – 214 Av. Francis Tonner\, 06150 Cannes \nAu programme :\n\nLes opportunités de financements : Dettes bancaires\, Business Angels\, fonds d’investissement…\nLes dispositifs de financements publics en 2025 : CIR\, CII\, subventions\, aides européennes…\nLes évolutions réglementaires et tendances à surveiller.\nConseils pratiques pour maximiser vos chances d’obtention de financements.\n\nDans un contexte économique en mutation\, identifier les meilleures sources de financement est essentiel pour les entreprises innovantes. Découvrez les opportunités de financement privé et public\, les tendances à surveiller et bénéficiez de conseils pratiques pour maximiser vos chances d’obtention de fonds ! \nUn temps d’échange et de questions-réponses vous permettra d’obtenir des conseils adaptés à vos besoins. \nPour vous inscrire : cliquez-ici
URL:https://www.frenchtechcotedazur.fr/event/atelier-les-financements-en-2025-qui-finance-quoi-par-cannes-is-up/
ATTACH;FMTTYPE=image/png:https://www.frenchtechcotedazur.fr/wp-content/uploads/2024/08/Capture-decran-2025-03-24-a-15.09.50-e1742825428702.png
END:VEVENT
BEGIN:VEVENT
DTSTART;TZID=Europe/Paris:20250403T113000
DTEND;TZID=Europe/Paris:20250403T140000
DTSTAMP:20260419T204025
CREATED:20240827T083109Z
LAST-MODIFIED:20250401T124852Z
UID:7747-1743679800-1743688800@www.frenchtechcotedazur.fr
SUMMARY:Conférence : l'immobilier au service de votre performance ! par CBRE x BpiFrance
DESCRIPTION:CBRE\, partenaire de la French Tech Côte d’Azur\, est heureux de vous convier à sa conférence en partenariat avec BpiFrance qui se tiendra : \n🗓 Jeudi 3 avril 2025 de 11h30 à 14h00 \n📍Flex-O Sophia Antipolis Centrium – 230 Rte des Dolines\, 06560 Valbonne \nPour vous inscrire : cliquez- ici
URL:https://www.frenchtechcotedazur.fr/event/conference-limmobilier-au-service-de-votre-performance-par-cbre-x-bpifrance/
ATTACH;FMTTYPE=image/png:https://www.frenchtechcotedazur.fr/wp-content/uploads/2024/08/Capture-decran-2025-03-24-a-15.26.43-e1742826428423.png
END:VEVENT
BEGIN:VEVENT
DTSTART;TZID=Europe/Paris:20250403T122000
DTEND;TZID=Europe/Paris:20250403T134000
DTSTAMP:20260419T204025
CREATED:20240827T083109Z
LAST-MODIFIED:20250327T165231Z
UID:7709-1743682800-1743687600@www.frenchtechcotedazur.fr
SUMMARY:Petit-déjeuner adhérents par Telecom Valley
DESCRIPTION:Telecom Valley | communauté Agilité est heureux de vous convier à son atelier de travail qui se tiendra : \n📅 Jeudi 3 avril 2025 12h20 à 13h40 \n📍 SII – Société pour l’Informatique Industrielle – 291 Rue Albert Caquot\, 06560 Valbonne \nPréparation des activités sur le prochain trimestre. Le format établi pour chaque rencontre est :\n• 20 mn de revue de ce qui a été fait pendant les dernières semaines (tour de table)\n• 40 mn sur un sujet (ex : sujet du jour)\n• 20 mn pour prévoir la suite (discussion sur les sujets non traités\, non planifiés) \nPour vous inscrire : cliquez-ici
URL:https://www.frenchtechcotedazur.fr/event/petit-dejeuner-adherents-par-telecom-valley-6/
ATTACH;FMTTYPE=image/png:https://www.frenchtechcotedazur.fr/wp-content/uploads/2024/08/Logo-Communaute-Agilite_Classique-e1743094336626.png
END:VEVENT
BEGIN:VEVENT
DTSTART;TZID=Europe/Paris:20250403T180000
DTEND;TZID=Europe/Paris:20250404T220000
DTSTAMP:20260419T204025
CREATED:20240827T083109Z
LAST-MODIFIED:20250401T125927Z
UID:7749-1743703200-1743804000@www.frenchtechcotedazur.fr
SUMMARY:AI-Pepper Talk par I-Pepper
DESCRIPTION:I-Pepper vous convie pour une immersion au cœur de l’IA. \n🗓 Jeudi 3 avril 2025 à partir de 18 \n📍NIDAIX – 1330 avenue Guillibert de la Lauzière\, Aix-en-Provence \nAu programme : \n\ndes cas d’usage concrets\,\ndes échanges avec des experts\,\nune présentation exclusive des partenaire Cleyrop\, spécialiste des plateformes de données souveraines.\n\nNe manquez pas cette occasion unique d’explorer le potentiel de l’IA et de la data pour votre activité. \nLes places sont limitées ! Inscrivez-vous dès maintenant \n Lien d’inscription \n 
URL:https://www.frenchtechcotedazur.fr/event/ai-pepper-talk-par-i-pepper/
ATTACH;FMTTYPE=image/png:https://www.frenchtechcotedazur.fr/wp-content/uploads/2024/08/unnamed-6.png
END:VEVENT
BEGIN:VEVENT
DTSTART;TZID=Europe/Paris:20250408T183000
DTEND;TZID=Europe/Paris:20250408T213000
DTSTAMP:20260419T204025
CREATED:20240827T083109Z
LAST-MODIFIED:20250401T130611Z
UID:7752-1744137000-1744147800@www.frenchtechcotedazur.fr
SUMMARY:AFTERWORK Startup on Air EXCLUSIF CHEZ RECORDIA par Nice Start(s) Up
DESCRIPTION:Nice Start(s) Up vous convie pour une soirée immersive au cœur des nouveaux studios Recordia ! \n📅 Le mardi 8 avril 2025 18h30 à 21h30 \n📍Recordia – 400 Promenade des Anglais\, Nice \nAu programme : \n\nVisite exclusive des studios et découverte des coulisses d’un lieu unique dédié à l’audiovisuel et à la création de contenu.\nInterviews express : Vous êtes entrepreneur(e) ? Prenez la parole face caméra et mettez votre projet en lumière !\nCocktail dinatoire offert par Ketchain & networking : Un moment convivial pour échanger entre membres de Nice Start(s) Up et élargir votre réseau.\n\nRéservé aux membres Nice Start(s) Up – Places limitées\, inscrivez-vous vite !
URL:https://www.frenchtechcotedazur.fr/event/afterwork-startup-on-air-exclusif-chez-recordia-par-nice-starts-up/
ATTACH;FMTTYPE=image/jpeg:https://www.frenchtechcotedazur.fr/wp-content/uploads/2024/08/Afterwork-startups-On-Air-2-1024x1024-1.jpg
END:VEVENT
BEGIN:VEVENT
DTSTART;TZID=Europe/Paris:20250411T083000
DTEND;TZID=Europe/Paris:20250411T093000
DTSTAMP:20260419T204025
CREATED:20240827T083109Z
LAST-MODIFIED:20250324T141829Z
UID:7691-1744360200-1744363800@www.frenchtechcotedazur.fr
SUMMARY:Petit-déjeuner adhérents par Telecom Valley
DESCRIPTION:Telecom Valley est heureux de vous convier à son petit-déjeuner adhérents  qui se tiendra : \n📅 Le vendredi 11 avril 2025 8h30 à 9h30 \n📍 Campus Epitech Nice – 131 boulevard René Cassin\, bât. Les Cimes\, 06200 NICE \nAu programme :\n\nInformations sur les événements à venir\nL’occasion de faire connaissance avec les nouveaux membres\, de revoir les plus anciens\, de discuter et d’évoquer les projets des prochaines semaines.\n\nPour vous inscrire : cliquez-ici
URL:https://www.frenchtechcotedazur.fr/event/petit-dejeuner-adherents-par-telecom-valley-7/
ATTACH;FMTTYPE=image/png:https://www.frenchtechcotedazur.fr/wp-content/uploads/2024/08/Header-PDA-Avril-2025-1.png
END:VEVENT
BEGIN:VEVENT
DTSTART;TZID=Europe/Paris:20250411T183000
DTEND;TZID=Europe/Paris:20250412T220000
DTSTAMP:20260419T204025
CREATED:20240827T083109Z
LAST-MODIFIED:20250328T104216Z
UID:7739-1744396200-1744495200@www.frenchtechcotedazur.fr
SUMMARY:1ère édition du World AI Film Festival par le Département des Alpes Maritimes x Institut Europia x Maison de l'Intelligence Artificielle
DESCRIPTION:Le Département des Alpes Maritimes x Institut Europia x Maison de l’Intelligence Artificielle est heureux proposer la Cérémonie Officielle de la 1ère édition du World AI Film Festival et au Procès fictif de l’IA au Cinéma qui se tiendra : \n🗓 Vendredi 11 avril 2025 à partir de 18h30 \n📍Pathé Gare du Sud – 06000 Nice \nPour plus d’information contactez : waiff2025@departement06.fr \n 
URL:https://www.frenchtechcotedazur.fr/event/1ere-edition-du-world-ai-film-festival-par-le-departement-des-alpes-maritimes-x-institut-europia-x-maison-de-lintelligence-artificielle/
ATTACH;FMTTYPE=image/png:https://www.frenchtechcotedazur.fr/wp-content/uploads/2024/08/Capture-decran-2025-03-28-a-11.34.48.png
END:VEVENT
BEGIN:VEVENT
DTSTART;TZID=Europe/Paris:20250417T114500
DTEND;TZID=Europe/Paris:20250417T140000
DTSTAMP:20260419T204025
CREATED:20240827T083109Z
LAST-MODIFIED:20250411T092608Z
UID:7838-1744890300-1744898400@www.frenchtechcotedazur.fr
SUMMARY:Monaco Women in Finance Institute MWFI par onaco Women Finance Institute\, MonacoTech Startup Program et CMB Monaco
DESCRIPTION:Monaco Women Finance Institute\, MonacoTech Startup Program et CMB Monaco sont heureux de vous convier à leur evenement à l’occasion de la Journée de la Femme Digitale qui se tiendra : \n🗓 Jeudi 17 avril 2025 de 11h45 à 14h \n📍MonacoTech – 6\, avenue Albert II\, Zone F\, Entrée B\, 8ᵉ étage\, 98000 Monaco \nInvité d’honneur : Marco Landi\, ancien CEO d’Apple et président de l’Institut EuropIA. \nUn panel d’expertes et experts\, animé par Pascale Caron\, co-auteure de EntrepreneurIA\, réunira : \n\nLaura Degioanni\, SaaS Office – Groupe Courtin\nDr Hala Najmeddine\, Active Asset Allocation\nDr Aida Meghraoui-Kheddar\, CEO de AMK Biotech\nStartups IA de MonacoTech : Maliz.ai et Altores\n\nL’échange sera suivi d’un moment de convivialité autour d’une collation. \nInscrivez-vous en cliquant ici
URL:https://www.frenchtechcotedazur.fr/event/monaco-women-in-finance-institute-mwfi-par-onaco-women-finance-institute-monacotech-startup-program-et-cmb-monaco/
ATTACH;FMTTYPE=image/jpeg:https://www.frenchtechcotedazur.fr/wp-content/uploads/2024/08/newFile_UNjdblj-e1744363335264.jpeg
END:VEVENT
BEGIN:VEVENT
DTSTART;TZID=Europe/Paris:20250417T140000
DTEND;TZID=Europe/Paris:20250417T180000
DTSTAMP:20260419T204025
CREATED:20240213T135602Z
LAST-MODIFIED:20250415T084734Z
UID:7945-1744898400-1744912800@www.frenchtechcotedazur.fr
SUMMARY:Salon Pro'Pulse par la FACE06 et la Métropole Nice Côte d'Azur
DESCRIPTION:La Fédération des Associations et Corporations étudiantes des Alpes-Maritimes (FACE06) et la Métropole Nice Côte d’Azur sont heureuses de vous convier à leur événement « Pro’Pulse » sur l’emploi pour les étudiants qui se tiendra: \n📅 Le jeudi 17 avril 2025 de 14h à 18h \n📍Méditerranéo (Gare du Sud\, Nice)\, 35 Av. Malaussena\, 06000 Nice \nQue vous cherchiez un stage\, une alternance\, un premier emploi ou des conseils pour votre projet professionnel\, Pro’Pulse est l’événement à ne pas manquer. Avec 4 000 offres disponibles et des rencontres directes avec des recruteurs\, ce salon est conçu pour simplifier votre insertion sur le marché du travail. \nAu programme : \n\nRencontrez des entreprises qui recrutent : Échangez avec des employeurs locaux et internationaux.\nDécouvrez les tendances de votre secteur : Assistez à des conférences et tables rondes animées par des experts.\nDéveloppez votre réseau : Profitez de l’afterwork convivial pour discuter avec des pros et d’autres étudiants.\nExplorez les métiers de demain : Parcourez les stands dédiés à l’hôtellerie-restauration\, l’industrie\, la communication\, l’environnement\, ou encore les opportunités européennes.\nObtenez des conseils personnalisés : Optimisez votre CV\, préparez vos entretiens et découvrez les programmes de mobilité (Erasmus+\, Service Civique Franco-Italien).\n\nPour vous inscrire\, cliquez ici  \n 
URL:https://www.frenchtechcotedazur.fr/event/salon-propulse-par-la-face06-et-la-metropole-nice-cote-dazur/
ATTACH;FMTTYPE=image/jpeg:https://www.frenchtechcotedazur.fr/wp-content/uploads/2024/02/1742212864003.jpg
END:VEVENT
BEGIN:VEVENT
DTSTART;TZID=Europe/Paris:20250422T140000
DTEND;TZID=Europe/Paris:20250422T160000
DTSTAMP:20260419T204025
CREATED:20240213T135602Z
LAST-MODIFIED:20250415T082718Z
UID:7940-1745330400-1745337600@www.frenchtechcotedazur.fr
SUMMARY:Session Pitch Ulysseus Start-up par l'Université Côte d'Azur
DESCRIPTION:L’Université Côte d’Azur est heureuse de vous convier à leur session de pitch dédiée aux start-ups innovantes du domaine de la santé dans le cadre de leur programme Ulysseus Health – Ageing & Well-being qui se tiendra: \n📅 Le mardi 22 avril 2025 de 14h à 16h \n📍IMREDD\, 9 rue Julien Lauprêtre 06200 Nice \nCet événement est une occasion pour les investisseurs\, partenaires\, industriels et business angels de découvrir des projets prometteurs et d’échanger avec des entrepreneurs du secteur de la santé. Nous aurons également la présence de 12 investisseurs de San Francisco\, USA\, offrant ainsi une perspective internationale et des opportunités de collaboration uniques. \nNe manquez pas cette occasion de repérer les pépites de demain et d’explorer de nouvelles synergies ! \nPour vous inscrire\, cliquez ici 
URL:https://www.frenchtechcotedazur.fr/event/session-pitch-ulysseus-start-up-par-luniversite-cote-dazur/
ATTACH;FMTTYPE=image/png:https://www.frenchtechcotedazur.fr/wp-content/uploads/2024/02/unnamed-e1744705627593.png
END:VEVENT
BEGIN:VEVENT
DTSTART;TZID=Europe/Paris:20250423T140000
DTEND;TZID=Europe/Paris:20250423T180000
DTSTAMP:20260419T204025
CREATED:20240827T083109Z
LAST-MODIFIED:20250327T170014Z
UID:7712-1745416800-1745431200@www.frenchtechcotedazur.fr
SUMMARY:Unlocking Life Sciences Opportunities in the South of France par Team Nice Côte d'Azur
DESCRIPTION:Team Nice Côte d’Azur\, SIC Venture Studio\, Université Côte d’Azur\, Ulysseus\, Eurobiomed\, et soutenu par RisingSUD sont heureux de vous convier à leur événement qui se tiendra : \n📅 Mercredi 23 avril 2025 de 14h à 18h \n📍EDHEC Business School – 393 Promenade des Anglais\, 06200 Nice \nCet evenement est conçu pour les investisseurs\, les leaders de l’industrie et les innovateurs qui cherchent à explorer les opportunités d’investissement stratégique dans le secteur florissant des Sciences de la Vie dans la région. \nPourquoi participer ? \n\nDécouvrir les principaux projets prêts à être investis dans le secteur des sciences de la vie\nEntrez en contact avec des acteurs de premier plan de l’industrie et des institutions de recherche\nDécouvrez le flux d’affaires et le potentiel de croissance dans la région\nExplorer les partenariats stratégiques dans l’un des écosystèmes de technologies de la santé les plus dynamiques d’Europe.\n\nNe manquez pas cette occasion de débloquer de nouvelles opportunités d’affaires et d’explorer des investissements à fort impact dans les sciences de la vie au cœur de la Côte d’Azur ! \nPour vous inscrire : cliquez-ici
URL:https://www.frenchtechcotedazur.fr/event/unlocking-life-sciences-opportunities-in-the-south-of-france-par-team-nice-cote-dazur/
ATTACH;FMTTYPE=image/png:https://www.frenchtechcotedazur.fr/wp-content/uploads/2024/08/Capture-decran-2025-03-27-a-17.58.21.png
END:VEVENT
BEGIN:VEVENT
DTSTART;TZID=Europe/Paris:20250423T170000
DTEND;TZID=Europe/Paris:20250423T200000
DTSTAMP:20260419T204025
CREATED:20240827T083109Z
LAST-MODIFIED:20250411T082334Z
UID:7835-1745427600-1745438400@www.frenchtechcotedazur.fr
SUMMARY:Afterwork "Dans la peau du banquier" par Start Innovation CIC x French Tech Côte d'Azur
DESCRIPTION:Nous sommes heureux de vous convier à notre afterwork « Dans la peau du banquier » dédié au financement bancaire en collaboration avec notre partenaire Start Innovation CIC qui se tiendra : \n📅 Le mercredi 23 avril de 17h à 20h00 \n📍 Totem French Tech Côte d’Azur\, 9 rue d’Italie Nice \nApprenez à analyser votre dossier comme le ferait un banquier et comprenez les clés de décision du financement bancaire avec l’intervention de Yann Gozlan Animateur commercial de la filière Innovation du CIC Lyonnaise de Banque\, Lucile Eleouet et Florent DEMARIA chargés d’affaires entreprises et innovation 🚀. Grâce à leurs expertises\, vous : \n✅ Comprendrez les différents mécanismes de financement proposés par les banques\n✅Décoderez les critères d’analyse des banquiers\n✅ Identifierez les moments stratégiques pour solliciter un prêt\n✅ Optimiserez la relation avec votre conseiller bancaire \nInscrivez-vous en cliquant ici
URL:https://www.frenchtechcotedazur.fr/event/afterwork-dans-la-peau-du-banquier-par-start-innovation-cic-x-french-tech-cote-dazur/
ATTACH;FMTTYPE=image/png:https://www.frenchtechcotedazur.fr/wp-content/uploads/2024/08/FRENCH-TECH-PARTENAIRES-e1744359780198.png
END:VEVENT
BEGIN:VEVENT
DTSTART;TZID=Europe/Paris:20250423T180000
DTEND;TZID=Europe/Paris:20250423T210000
DTSTAMP:20260419T204025
CREATED:20240213T135602Z
LAST-MODIFIED:20250415T092646Z
UID:7947-1745431200-1745442000@www.frenchtechcotedazur.fr
SUMMARY:Conférence et table ronde sur la gouvernance par Réseau Entreprendre Côte d'Azur x Les Premières Sud
DESCRIPTION:Le Réseau Entreprendre Côte d’Azur en partenariat avec les Premières Sud vous invite à leur conférence sur la gouvernance qui se tiendra: \n📅 Le mercredi 23 avril 2025 de 18h à 21h \n📍Banque Populaire Méditerranée (BPMED) : Auditorium 457 Prom. des Anglais\, 06200 Nice \nCet événement sera rythmé par des témoignages d’entrepreneurs et d’experts : \n\nSandrine MARTIN\, Directrice Générale Adjointe chez osmaïa :\nMarc Raiola\, dirigeant de INTERIMA GROUPE\, réseau indépendant d’intérim (CA ~ 20 M€).\nCaroline L. co-fondatrice de la startup MiYé\, une marque de produits naturels dédiée à l’accompagnement des femmes\, qui a ouvert son capital au laboratoire Pierre Fabre.\nNicolas Ivaldi\, avocat chez EY Ventury Avocats\, spécialiste des levées de fonds.\nThomas Collet\, représentant du fonds d’investissement Turenne Groupe\, expert en capital investissement régional.\n\nPour vous inscrire\, cliquez ici 
URL:https://www.frenchtechcotedazur.fr/event/conference-et-table-ronde-sur-la-gouvernance-par-reseau-entreprendre-cote-dazur-x-les-premieres-sud/
ATTACH;FMTTYPE=image/png:https://www.frenchtechcotedazur.fr/wp-content/uploads/2024/02/Capture-decran-2025-04-15-a-11.21.53-e1744709178563.png
END:VEVENT
BEGIN:VEVENT
DTSTART;TZID=Europe/Paris:20250424T090000
DTEND;TZID=Europe/Paris:20250424T120000
DTSTAMP:20260419T204025
CREATED:20240827T083109Z
LAST-MODIFIED:20250401T132010Z
UID:7759-1745485200-1745496000@www.frenchtechcotedazur.fr
SUMMARY:Expert Connect#1 – Vos rendez-vous privilégiés avec des experts !par Nice Start(s) Up
DESCRIPTION:Nice Start(s) Up lance un format inédit de permanences pour vous offrir un accompagnement privilégié et personnalisé sur des sujets essentiels à votre développement : \,Finance & levée de fonds\, Propriété intellectuelle & brevets\, Droit des affaires & contrats\, Assurances & gestion des risques. \n📅 Le jeudi 24 avril 2025  de 9hoo à 12h00 \n📍DSO – 455 Promenade des Anglais\, Porte de l’Arénas C\, Nice \n Pourquoi participer ? \n\nAccédez à des conseils d’experts adaptés à votre startup\nGagnez du temps et évitez les erreurs coûteuses\nBénéficiez d’un cadre privilégié pour un échange direct\n\nPour en savoir plus : cliquez-ici
URL:https://www.frenchtechcotedazur.fr/event/expert-connect1-vos-rendez-vous-privilegies-avec-des-experts-par-nice-starts-up/
ATTACH;FMTTYPE=image/png:https://www.frenchtechcotedazur.fr/wp-content/uploads/2024/08/Expert-Connect-NSU-1-1024x1024-1.png
END:VEVENT
BEGIN:VEVENT
DTSTART;TZID=Europe/Paris:20250424T123000
DTEND;TZID=Europe/Paris:20250424T140000
DTSTAMP:20260419T204025
CREATED:20240827T083109Z
LAST-MODIFIED:20250401T131445Z
UID:7757-1745497800-1745503200@www.frenchtechcotedazur.fr
SUMMARY:Contrats commerciaux : Les différents types\, leurs utilités et usages par Business Pôle
DESCRIPTION:Business vous acceuil pour une session sur les contrats commerciaux. Les contrats commerciaux sont un pilier fondamental du succès et de la protection des entreprises\, en particulier pour les startups en pleine croissance. Cependant\, leur complexité juridique peut parfois être un obstacle. \n📅 Le jeudi 24 avril 2025 12h30 à 14h \n📍NIDA – 1047 Route des Dolines\, All. Pierre Ziller\, Valbonne \nAu programme : \n\n les points clés à maîtriser pour garantir la conformité\,\nla sécurité juridique\nune relation commerciale durable avec vos partenaires.
URL:https://www.frenchtechcotedazur.fr/event/contrats-commerciaux-les-differents-types-leurs-utilites-et-usages-par-business-pole/
ATTACH;FMTTYPE=image/jpeg:https://www.frenchtechcotedazur.fr/wp-content/uploads/2024/08/image001.jpg
END:VEVENT
BEGIN:VEVENT
DTSTART;TZID=Europe/Paris:20250425T110000
DTEND;TZID=Europe/Paris:20250425T120000
DTSTAMP:20260419T204025
CREATED:20240213T135602Z
LAST-MODIFIED:20250415T100155Z
UID:7960-1745578800-1745582400@www.frenchtechcotedazur.fr
SUMMARY:Webinaire transition écologique par Aktantis
DESCRIPTION:Aktantis est heureux de vous convier à leur webinaire transition écologique « Comment agir sur la consommation énergétique des logiciels ? » qui se tiendra: \n📅 Le vendredi 25 avril 2025 de 11h à 12h \n📍En ligne \nA l’heure de l’essor de l’intelligence artificielle\, l’enjeu autour de la consommation de l’énergie est central pour le développement du numérique. Les efforts sont tout à fait réels mais ils se concentrent avant tout sur les terminaux\, les composants et les infrastructures (datacenters) et dans une moindre mesure sur les parties logicielles. \nAu final\, connaître l’empreinte énergétique des logiciels est donc d’abord liée à celle de l’infrastructure qu’ils exploitent et à l’utilisation faites des applications. Or\, agir sur les logiciels\, c’est pouvoir suivre les consommations et savoir arbitrer entre performance et énergie consommée. \nAu programme : \n\nIntroduction générale d’AKTANTIS\nGrand Témoin :\n\nPrésentation par Amadeus des enjeux et des moyens d’actions pour agir sur la consommation énergétique des solutions logicielles \n\nInsights :\n\nTémoignage de l’’association Boavizta\, qui évalue les impacts environnementaux du numérique des organisations\, \nEclairage de D-Carbonize sur quelques valeurs de référence dans le calcul carbone des solutions logicielles. \n\nTemps d’échange\n\nPour vous inscrire\, cliquez ici
URL:https://www.frenchtechcotedazur.fr/event/webinaire-transition-ecologique-par-aktantis/
ATTACH;FMTTYPE=image/png:https://www.frenchtechcotedazur.fr/wp-content/uploads/2024/02/Capture-decran-2025-04-15-a-11.58.15-e1744711133498.png
END:VEVENT
END:VCALENDAR