BEGIN:VCALENDAR
VERSION:2.0
PRODID:-//French Tech Côte d&#039;Azur - ECPv6.15.20//NONSGML v1.0//EN
CALSCALE:GREGORIAN
METHOD:PUBLISH
X-WR-CALNAME:French Tech Côte d&#039;Azur
X-ORIGINAL-URL:https://www.frenchtechcotedazur.fr
X-WR-CALDESC:Évènements pour French Tech Côte d&#039;Azur
REFRESH-INTERVAL;VALUE=DURATION:PT1H
X-Robots-Tag:noindex
X-PUBLISHED-TTL:PT1H
BEGIN:VTIMEZONE
TZID:Europe/Paris
BEGIN:DAYLIGHT
TZOFFSETFROM:+0100
TZOFFSETTO:+0200
TZNAME:CEST
DTSTART:20240331T010000
END:DAYLIGHT
BEGIN:STANDARD
TZOFFSETFROM:+0200
TZOFFSETTO:+0100
TZNAME:CET
DTSTART:20241027T010000
END:STANDARD
BEGIN:DAYLIGHT
TZOFFSETFROM:+0100
TZOFFSETTO:+0200
TZNAME:CEST
DTSTART:20250330T010000
END:DAYLIGHT
BEGIN:STANDARD
TZOFFSETFROM:+0200
TZOFFSETTO:+0100
TZNAME:CET
DTSTART:20251026T010000
END:STANDARD
BEGIN:DAYLIGHT
TZOFFSETFROM:+0100
TZOFFSETTO:+0200
TZNAME:CEST
DTSTART:20260329T010000
END:DAYLIGHT
BEGIN:STANDARD
TZOFFSETFROM:+0200
TZOFFSETTO:+0100
TZNAME:CET
DTSTART:20261025T010000
END:STANDARD
END:VTIMEZONE
BEGIN:VEVENT
DTSTART;TZID=Europe/Paris:20250304T140000
DTEND;TZID=Europe/Paris:20250304T220000
DTSTAMP:20260419T220223
CREATED:20240827T083109Z
LAST-MODIFIED:20250211T102145Z
UID:7571-1741096800-1741125600@www.frenchtechcotedazur.fr
SUMMARY:AgriTech en région Sud\, quelle agriculture pour demain ? - French Tech Côte d'Azur x Le Club des Entrepreneurs du Pays de Grasse
DESCRIPTION:La French Tech Côte d’Azur est heureuse de vous convier à son évenement « AgriTech en région Sud\, quelle agriculture pour demain ? » en collaboration avec Le Club des Entrepreneurs du Pays de Grasse qui se tiendra : \n📅  Le mardi 4 mars 2025 à partir de 14h \n📍Palais des Congrès de GRASSE\, 22 Cr Honoré Cresp\, 06130 Grasse \nAu programme : \n\n14h00 – Accueil/Expositions\nStands Start-up & Entreprises & Associations\nStands partenaires\nAteliers\nFresque Agriculture\n18h00 – Allocutions 🎤\n18h15 – TABLE RONDE 1 – Panorama de l’agriculture en Région Sud\n18h35 – TABLE RONDE 2 – Enjeux et problématiques par filières\n18h55 – TABLE RONDE 3 – AgriTech : Des solutions tech innovantes\n19h15 – Questions & Réponses\n19h30 – Cocktail 🍹\n\nN’attendez plus et inscrivez-vous dès maintenant en cliquant-ici
URL:https://www.frenchtechcotedazur.fr/event/agritech-en-region-sud-quelle-agriculture-pour-demain-french-tech-cote-dazur-x-le-club-des-entrepreneurs-du-pays-de-grasse/
ATTACH;FMTTYPE=image/png:https://www.frenchtechcotedazur.fr/wp-content/uploads/2024/08/3-2.png
END:VEVENT
BEGIN:VEVENT
DTSTART;TZID=Europe/Paris:20250308T100000
DTEND;TZID=Europe/Paris:20250308T120000
DTSTAMP:20260419T220223
CREATED:20240213T135602Z
LAST-MODIFIED:20250307T131746Z
UID:7653-1741428000-1741435200@www.frenchtechcotedazur.fr
SUMMARY:L'entrepreneurriat au féminin par la Mairie de la Colle sur Loup
DESCRIPTION:La Mairie de la Colle sur Loup organise pour la journée internationle des droits des femmes une table ronde sur l’entreprenariat au féminin qui se tiendra: \n📅 Samedi 8 mars de 10h à 12h \n📌 Espace rose de mai\, 17 Rue Clémenceau\, 06480 La Colle-sur-Loup \nCette table ronde sera animée par Alice André\, secrétaire générale de la French Tech Côte d’Azur. \nParce que c’est un sujet qui tient particulièrement à cœur\, la mairie de la Colle-sur-Loup organise un programme inspirant et engagé autour de la thématique de l’entrepreneuriat au féminin : \nExpostions :  “Ces femmes qui font bouger les lignes” et « Eclat de Femme ou l’audace d’entreprendre à la Colle-sur-Loup » \nThéatre : “A fleur d’elles”\, proposé par l’association Eveil ton Art \nVenez célébrer l’audace\, la créativité et la force des femmes entrepreneures ! \nÉvénement payant (10€) sur inscription : 06.52.16.45.91
URL:https://www.frenchtechcotedazur.fr/event/lentreprenariat-au-feminin-par-la-mairie-de-la-colle-sur-loup/
ATTACH;FMTTYPE=image/jpeg:https://www.frenchtechcotedazur.fr/wp-content/uploads/2024/02/480995815_1060096256152504_19662957179975684_n-e1741257496475.jpg
END:VEVENT
BEGIN:VEVENT
DTSTART;TZID=Europe/Paris:20250311T130000
DTEND;TZID=Europe/Paris:20250311T170000
DTSTAMP:20260419T220223
CREATED:20240827T083109Z
LAST-MODIFIED:20250305T110924Z
UID:7626-1741698000-1741712400@www.frenchtechcotedazur.fr
SUMMARY:Cybersécurité au féminin : Comprendre\, prévenir\, agir par Nice Start(s) x Les Premières Sud
DESCRIPTION:Nice Start(s) Up et les Les Premières Sud vous convi à leur atelier sur le thème suivant : Cybersécurité au féminin : Comprendre\, prévenir\, agir. Cet atelier a pour but de sensibiliser les Femmes Entrepreneures à la cybersécurité. Découvrez\, aux côtés d’experts\, comment sécuriser votre activité face aux cyberattaques \n📅 Le mardi 11 mars 2025 de 13h à 17h \n📍Campus 42Nice – 61 Avenue Simone Veil Nice \nPour vous inscrire (événement gratuit sur inscription) : cliquez-ici
URL:https://www.frenchtechcotedazur.fr/event/cybersecurite-au-feminin-comprendre-prevenir-agir-par-nice-starts-x-les-premieres-sud/
ATTACH;FMTTYPE=image/png:https://www.frenchtechcotedazur.fr/wp-content/uploads/2024/08/cyber-au-feminin-4c74f8fa8e0441ccb13ff95d1f318912-e1741172931637.png
END:VEVENT
BEGIN:VEVENT
DTSTART;TZID=Europe/Paris:20250311T170000
DTEND;TZID=Europe/Paris:20250311T210000
DTSTAMP:20260419T220223
CREATED:20240228T112238Z
LAST-MODIFIED:20250305T113550Z
UID:7638-1741712400-1741726800@www.frenchtechcotedazur.fr
SUMMARY:Finale - Challenge Jeunes Pousses - Telecom Valley
DESCRIPTION:Telecom Valley vous invite à la grande Finale du Challenge Jeunes Pousses\, le rendez-vous annuel de la création de startups étudiantes sur le territoire : \n\n\n\n\n\n\n\n\n\n\n🗓️Mardi 11 Mars 2025 à 17h \n📍 Amadeus Nice – Sophia – 485 Rte du Pin Montard\, 06410 Biot \n\n\n\n\n\n\n\n\n\n\nProgramme\n17H00 : Accueil et discours de bienvenue par Max CHAZARRA  et Jean-François CARRASCO\, membres du Comité de Pilotage du Challenge Jeunes Pousses \n17H20 : Début des présentations \nPour chaque équipe : 15 minutes de présentation + 10 minutes de questions du jury \n19H00 : Fin des présentations – Délibération des membres du Jury \n19H20 : Annonce des résultats  \n19h30 : Cocktail de clôture
URL:https://www.frenchtechcotedazur.fr/event/finale-challenge-jeunes-pousses-telecom-valley/
ATTACH;FMTTYPE=image/png:https://www.frenchtechcotedazur.fr/wp-content/uploads/2024/02/Finale-CJP-2025.png
END:VEVENT
BEGIN:VEVENT
DTSTART;TZID=Europe/Paris:20250313T183000
DTEND;TZID=Europe/Paris:20250313T213000
DTSTAMP:20260419T220224
CREATED:20230906T085430Z
LAST-MODIFIED:20250305T112757Z
UID:7635-1741890600-1741901400@www.frenchtechcotedazur.fr
SUMMARY:Tech Talk : Femmes Dirigeantes & Levées de Fonds par Cannes Is Up
DESCRIPTION:À l’occasion de la Journée internationale des droits des femmes\, Cannes Is Up vous invite à un Tech Talk sur la thématique : Femmes Dirigeantes et Levées de Fonds : une véritable égalité des chances ? \n🗓️ Jeudi 13 mars de 18h30 à 21h30 \n📍 Campus Georges Méliès\, 214 Av. Francis Tonner\, 06150 Cannes \nCet événement réunira entrepreneurs\, porteuses de projets\, étudiantes et élus locaux pour échanger sur les défis uniques rencontrés par les femmes dans le parcours entrepreneurial\, notamment lors de la levée de fonds. \nInscrivez-vous en cliquant ici
URL:https://www.frenchtechcotedazur.fr/event/tech-talk-femmes-dirigeantes-levees-de-fonds-par-cannes-is-up/
ATTACH;FMTTYPE=image/jpeg:https://www.frenchtechcotedazur.fr/wp-content/uploads/2023/09/1738233964142-e1741174042939.jpeg
END:VEVENT
BEGIN:VEVENT
DTSTART;VALUE=DATE:20250314
DTEND;VALUE=DATE:20250317
DTSTAMP:20260419T220224
CREATED:20230223T091750Z
LAST-MODIFIED:20250306T104943Z
UID:7660-1741910400-1742169599@www.frenchtechcotedazur.fr
SUMMARY:Créathon 2025 - "48H Chrono" par Initiative Nice Côte d'Azur\, Pépite PACA Est\, Université Côte d'Azur\, Play Azur
DESCRIPTION:Vous souhaitez donner un coup de boost à votre projet ou vous impliquer dans un projet qui a un impact positif sur notre territoire ? Le créathon du 14 au 16 mars est fait pour vous ! \nL’événement\, gratuit\, est ouvert à tous ceux qui souhaitent donner un coup de boost à leur projet ou s’impliquer dans un projet qui a un impact positif sur notre territoire. \nProgramme : \n\nVendredi 14 mars 18h-21h : Pitchs\, Création des équipes et apéritif dinatoire\nSamedi 15 mars 8h-18h : Travail sur projets encadrés de mentors et coachs\nDimanche 16 mars 8h-18h : Finalisation projet\, entrainement pitch\, jury\, cérémonie et cocktail dinatoire\n\n  \nInformations et inscription en cliquant ici.
URL:https://www.frenchtechcotedazur.fr/event/creathon-2025-48h-chrono-par-initiative-nice-cote-dazur-pepite-paca-est-universite-cote-dazur-play-azur/
ATTACH;FMTTYPE=image/png:https://www.frenchtechcotedazur.fr/wp-content/uploads/2023/02/Visuel_-_carre-e1741258078575.png
END:VEVENT
BEGIN:VEVENT
DTSTART;TZID=Europe/Paris:20250314T083000
DTEND;TZID=Europe/Paris:20250314T093000
DTSTAMP:20260419T220224
CREATED:20240827T083109Z
LAST-MODIFIED:20250305T114155Z
UID:7641-1741941000-1741944600@www.frenchtechcotedazur.fr
SUMMARY:Petit-déjeuner adhérents par Telecom Valley
DESCRIPTION:Telecom Valley est heureux de vous convier à son petit-déjeuner adhérents en partenariat avec Web4Europe qui se tiendra : \n📅 Le vendredi 14 mars 2025 8h30 à 9h30 \n📍 – 1501 Route des Dolines\, 06560 Sophia Antipolis \nAu programme :\n\nInformations sur les événements à venir\nL’occasion de faire connaissance avec les nouveaux membres\, de revoir les plus anciens\, de discuter et d’évoquer les projets des prochaines semaines.\n\nPour vous inscrire : cliquez-ici
URL:https://www.frenchtechcotedazur.fr/event/petit-dejeuner-adherents-par-telecom-valley-5/
LOCATION:Sophia Antipolis
ATTACH;FMTTYPE=image/png:https://www.frenchtechcotedazur.fr/wp-content/uploads/2024/08/Header-PDA-Mars-1-2025-e1741174895210.png
END:VEVENT
BEGIN:VEVENT
DTSTART;TZID=Europe/Paris:20250318T090000
DTEND;TZID=Europe/Paris:20250318T120000
DTSTAMP:20260419T220224
CREATED:20240827T083109Z
LAST-MODIFIED:20250305T111259Z
UID:7629-1742288400-1742299200@www.frenchtechcotedazur.fr
SUMMARY:Café Connect#4 par Nice Start(s) Up
DESCRIPTION:Nice Start(s) Up vous convie autour d’un petit-déjeuner pour découvrir l’association et échanger avec des entrepreneurs qui vous ressemblent ! \n📅 Le mardi 18 mars 2025  de 9hoo à 12h00 \n📍Hub de l’Innovation Métropole Nice Côte d’Azur – Openloft\, RDC – 61 Av. Simone Veil\, 06200 Nice \nPour vous inscrire : cliquez-ici
URL:https://www.frenchtechcotedazur.fr/event/cafe-connect4-par-nice-starts-up/
ATTACH;FMTTYPE=image/png:https://www.frenchtechcotedazur.fr/wp-content/uploads/2024/08/cafe-connect-nsu-4-3-dc85f71f6db04012973289ec37d47a00-e1741173155877.png
END:VEVENT
BEGIN:VEVENT
DTSTART;TZID=Europe/Paris:20250320T113000
DTEND;TZID=Europe/Paris:20250320T123000
DTSTAMP:20260419T220224
CREATED:20240213T135602Z
LAST-MODIFIED:20250306T104440Z
UID:7656-1742470200-1742473800@www.frenchtechcotedazur.fr
SUMMARY:Maximisez votre impact sur les salons : Stratégies et Retours d'Expérience par le Hub de l'Innovation
DESCRIPTION:Le Hub de l’Innovation est heureux de vous convier à son événement qui se tiendra: \n📅 Jeudi 20 mars de 11h30 à 12h30 \n📌 Hub de l’Innovation\, 61-63 Avenue Simone Veil\, 06200 Nice \nCet événement vous offre l’opportunité d’apprendre des meilleures pratiques pour tirer le meilleur parti de votre participation aux salons. Découvrez des stratégies efficaces et des retours d’expérience inspirants pour vous démarquer lors de vos prochains salons. Ne manquez pas cette occasion d’améliorer votre impact et de booster votre visibilité. \nÉvénement gratuit sur inscription : cliquez-ici
URL:https://www.frenchtechcotedazur.fr/event/maximisez-votre-impact-sur-les-salons-strategies-et-retours-dexperience-par-le-hub-de-linnovation/
ATTACH;FMTTYPE=image/jpeg:https://www.frenchtechcotedazur.fr/wp-content/uploads/2024/02/unnamed-2.jpg
END:VEVENT
BEGIN:VEVENT
DTSTART;TZID=Europe/Paris:20250320T140000
DTEND;TZID=Europe/Paris:20250320T153000
DTSTAMP:20260419T220224
CREATED:20240827T083109Z
LAST-MODIFIED:20250306T111802Z
UID:7668-1742479200-1742484600@www.frenchtechcotedazur.fr
SUMMARY:WEBINAIRE - Mener un entretien professionnel\, les incontournables par l'APEC Provence Alpes Côte d'Azur et Corse
DESCRIPTION:L’APEC Provence Alpes Côte d’Azur et Corse a le plaisir de vous inviter à son événement en ligne qui se tiendra : \n📅 Le jeudi 20 mars de 14h à 15h30 \nLes objectifs de cet atelier : \n\nIdentifier les éléments essentiels de l’entretien professionnel\nSensibiliser aux incontournables de cet échange\nRépartir avec des idées et conseils directement applicables\n\nPour vous inscrire : envoyer « Je souhaite m’inscrire à un Webatelier ! » à scnice@apec.fr
URL:https://www.frenchtechcotedazur.fr/event/webinaire-mener-un-entretien-professionnel-les-incontournables-par-lapec-provence-alpes-cote-dazur-et-corse/
ATTACH;FMTTYPE=image/png:https://www.frenchtechcotedazur.fr/wp-content/uploads/2024/08/Capture-decran-2025-03-06-a-12.16.55-e1741259852609.png
END:VEVENT
BEGIN:VEVENT
DTSTART;TZID=Europe/Paris:20250321T090000
DTEND;TZID=Europe/Paris:20250321T113000
DTSTAMP:20260419T220224
CREATED:20240827T083109Z
LAST-MODIFIED:20250306T110133Z
UID:7664-1742547600-1742556600@www.frenchtechcotedazur.fr
SUMMARY:WEBINAIRE - Trouvez votre match entrepreneurial ! par l'APEC Provence Alpes Côte d'Azur et Corse
DESCRIPTION:L’APEC Provence Alpes Côte d’Azur et Corse a le plaisir de vous inviter à son événement en ligne qui se tiendra : \n📅 Le vendredi 21 mars de 9h à 11h30 \nVous êtes une startup de la région Sud en quête de l’associé idéal ? Ou un cadre prêt à plonger dans l’univers passionnant de l’entrepreneuriat ? Ne manquez pas le coup d’envoi de la saison 2 d’Adopte ton associé.e ! Découvrez les enjeux humains\, administratifs et financiers de l’association\, et repartez avec les clés pour établir un pacte d’associés solide. \nPour en savoir et vous inscrire : cliquez-ici
URL:https://www.frenchtechcotedazur.fr/event/webinaire-trouvez-votre-match-entrepreneurial-par-lapec-provence-alpes-cote-dazur-et-corse/
ATTACH;FMTTYPE=image/jpeg:https://www.frenchtechcotedazur.fr/wp-content/uploads/2024/08/1740675538797.jpeg
END:VEVENT
BEGIN:VEVENT
DTSTART;TZID=Europe/Paris:20250325T120000
DTEND;TZID=Europe/Paris:20250325T133000
DTSTAMP:20260419T220224
CREATED:20240827T083109Z
LAST-MODIFIED:20250305T114631Z
UID:7644-1742904000-1742909400@www.frenchtechcotedazur.fr
SUMMARY:Communautés open source x Cybersécurité par Telecom Valley
DESCRIPTION:Les communautés Open Source X Cybersécurité par Telecom Valley vous proposent une rencontre commune qui se tiendra : \n📅 Le mardi 25 mars 2025 12h à 13h30 \n📍 Business Pole – 1047 route des Dolines\, Allée Pierre Ziller 06560 Valbonne Sophia Antipolis \n« Sécurité des modèles LLM pour l’IA générative »\n\nChatGPT\, DeepSeek\, programme Stargate\, l’IA est en train de révolutionner les entreprises et la société en même temps qu’elle entraine de nombreux enjeux dont celui de la sécurité des modèles de LLM. \nDans ce cadre\, Slim Trabelsi\, nous présentera un nouvel outil opensource développé au sein de SAP afin de réaliser des tests d’intrusion sur les modèles LLM et identifier les vulnérabilités qui pourraient être exploitées en cas d’utilisation dans les applications. \n\nPour vous inscrire : cliquez-ici
URL:https://www.frenchtechcotedazur.fr/event/communautes-open-source-x-cybersecurite-par-telecom-valley-2/
LOCATION:Sophia Antipolis
ATTACH;FMTTYPE=image/png:https://www.frenchtechcotedazur.fr/wp-content/uploads/2024/08/Header-communautes-open-source-x-cybersecurite-e1741175047646.png
END:VEVENT
BEGIN:VEVENT
DTSTART;TZID=Europe/Paris:20250325T183000
DTEND;TZID=Europe/Paris:20250325T213000
DTSTAMP:20260419T220224
CREATED:20240213T135602Z
LAST-MODIFIED:20250305T112001Z
UID:7632-1742927400-1742938200@www.frenchtechcotedazur.fr
SUMMARY:Ap€uro #9 Protégez vos idées sans prise de tête ! par Nice Start(s) Up
DESCRIPTION:Nice Start(s) Up organise la neuvième édition de leur Ap€uro « rotégez vos idées sans prise de tête ! »  en partenariat avec Cabinet Hautier qui se tiendra: \n📅 Mardi 25 mars de 18h30 à 21h30 \n📌 École ISCAE\, 15/17 rue de la Liberté\, Nice \nUn afterwork convivial et interactif sur la propriété intellectuelle\, en compagnie d’experts juristes en PI et ingénieurs brevets prêts à répondre à toutes vos questions ! suivie d’un moment de networking autour d’un cocktail ! 🥂 \nÉvénement gratuit sur inscription (places limitées): lien d’inscription
URL:https://www.frenchtechcotedazur.fr/event/apeuro-9-protegez-vos-idees-sans-prise-de-tete-par-nice-starts-up/
ATTACH;FMTTYPE=image/png:https://www.frenchtechcotedazur.fr/wp-content/uploads/2024/02/ap-uro-9-hautier-nsu-8451e5de4f954711b6aa96ba66a88d63-e1741173574951.png
END:VEVENT
BEGIN:VEVENT
DTSTART;TZID=Europe/Paris:20250325T183000
DTEND;TZID=Europe/Paris:20250325T220000
DTSTAMP:20260419T220224
CREATED:20240827T083109Z
LAST-MODIFIED:20250325T142927Z
UID:7706-1742927400-1742940000@www.frenchtechcotedazur.fr
SUMMARY:Générez de nouvelles opportunités business ! par CJD - Section Cannes Sophia Antipolis
DESCRIPTION:CJD – Section Cannes Sophia Antipolis est heureux de vous convier à leur conférence qui se tiendra : \n🗓 Mardi 25 mars 2025 de 18h30 à 22h \n📍Cannes Bastide Rouge – Avenue Francis Tonner\, 06150 Cannes \nDans cette conférence dynamique et pragmatique animée par Bruno LOPEZ\, consultant en stratégie et en prospection commerciale\, nous allons voir comment structurer\, optimiser et sécuriser votre croissance commerciale pour devenir un expert en vente\, sans en être un ! \nAu programme : \n\nComment arrêter de subir son chiffre d’affaires ?\nComment bâtir une vraie machine de prospection ?\nRecruter\, externaliser ou déléguer : quelle solution pour son entreprise ?\nQuelles sont les indicateurs de performance clés à suivre pour ne plus naviguer à l’aveugle ?\nComment structurer une offre irrésistible pour éviter la guerre des prix ?\n\nPour vous inscrire : cliquez-ici
URL:https://www.frenchtechcotedazur.fr/event/generez-de-nouvelles-opportunites-business-par-cjd-section-cannes-sophia-antipolis/
ATTACH;FMTTYPE=image/jpeg:https://www.frenchtechcotedazur.fr/wp-content/uploads/2024/08/cjd-cannes_bruno-lopez-25-mars_4-e33adce6e5d4470e93ba0503f626f362-scaled-e1742912953566.jpg
END:VEVENT
BEGIN:VEVENT
DTSTART;TZID=Europe/Paris:20250327T093000
DTEND;TZID=Europe/Paris:20250327T130000
DTSTAMP:20260419T220224
CREATED:20240827T083109Z
LAST-MODIFIED:20250325T142233Z
UID:7702-1743067800-1743080400@www.frenchtechcotedazur.fr
SUMMARY:Design & Technologies au service de la société par CEA
DESCRIPTION:Le CEA est heureux de vous convier à son événement qui se tiendra :   \n🗓 Jeudi 27 mars 2025 de 9h30 à 13h \n📍Besign School – 1 chemin du Val Fleury\, 06800 Cagnes sur Mer \nAu programme : \n\n9h30 – Accueil café\n10h00 – Qu’est-ce que le design ? – Maurille Larivière – Directeur de Besign School\n10h20 – Comment le CEA intègre les méthodes de design pour vos développements technologiques ? – Marjorie Nanteuil – Responsable thématique d’innovation\n11h00 – Illustrations de partenariats\n–  Donner du sens à la technologie grâce à l’accompagnement Explor du CEA – Thierry Gricourt – Président Directeur Général de la société SocialDream\n– Donner de l’élan à l’innovation par le design grâce au Hub CoLab for Silver – Laurent Bouzige – Chef Designer Stratégie et Mobilité – Toyota / centre européen de design\n12h – Buffet déjeunatoire autour de démonstrateurs technologiques\n13h – Visite de Besign et de son Lab autour d’un café\n\nPour vous inscrire : cliquez-ici
URL:https://www.frenchtechcotedazur.fr/event/design-technologies-au-service-de-la-societe-par-cea/
ATTACH;FMTTYPE=image/jpeg:https://www.frenchtechcotedazur.fr/wp-content/uploads/2024/08/unnamed.jpg
END:VEVENT
END:VCALENDAR