BEGIN:VCALENDAR
VERSION:2.0
PRODID:-//French Tech Côte d&#039;Azur - ECPv6.15.20//NONSGML v1.0//EN
CALSCALE:GREGORIAN
METHOD:PUBLISH
X-WR-CALNAME:French Tech Côte d&#039;Azur
X-ORIGINAL-URL:https://www.frenchtechcotedazur.fr
X-WR-CALDESC:Évènements pour French Tech Côte d&#039;Azur
REFRESH-INTERVAL;VALUE=DURATION:PT1H
X-Robots-Tag:noindex
X-PUBLISHED-TTL:PT1H
BEGIN:VTIMEZONE
TZID:Europe/Paris
BEGIN:DAYLIGHT
TZOFFSETFROM:+0100
TZOFFSETTO:+0200
TZNAME:CEST
DTSTART:20240331T010000
END:DAYLIGHT
BEGIN:STANDARD
TZOFFSETFROM:+0200
TZOFFSETTO:+0100
TZNAME:CET
DTSTART:20241027T010000
END:STANDARD
BEGIN:DAYLIGHT
TZOFFSETFROM:+0100
TZOFFSETTO:+0200
TZNAME:CEST
DTSTART:20250330T010000
END:DAYLIGHT
BEGIN:STANDARD
TZOFFSETFROM:+0200
TZOFFSETTO:+0100
TZNAME:CET
DTSTART:20251026T010000
END:STANDARD
BEGIN:DAYLIGHT
TZOFFSETFROM:+0100
TZOFFSETTO:+0200
TZNAME:CEST
DTSTART:20260329T010000
END:DAYLIGHT
BEGIN:STANDARD
TZOFFSETFROM:+0200
TZOFFSETTO:+0100
TZNAME:CET
DTSTART:20261025T010000
END:STANDARD
END:VTIMEZONE
BEGIN:VEVENT
DTSTART;TZID=Europe/Paris:20250211T183000
DTEND;TZID=Europe/Paris:20250211T213000
DTSTAMP:20260419T233149
CREATED:20240827T083109Z
LAST-MODIFIED:20250205T131904Z
UID:7561-1739298600-1739309400@www.frenchtechcotedazur.fr
SUMMARY:Afterwork nouvelle année par Cannes Is Up
DESCRIPTION:Cannes Is Up est ravie de vous inviter à une soirée spéciale pour célébrer ensemble cette nouvelle année. \n📅 Le Jeudi 11 février 2025 de 18h30 à 21h30 \n📍 Lieu : OKKO Hôtels Cannes – 6bis Pl. de la Gare\, 06400 Cannes \nPour en savoir et vous inscrire : cliquez-ici
URL:https://www.frenchtechcotedazur.fr/event/afterwork-nouvelle-annee-par-cannes-is-up/
ATTACH;FMTTYPE=image/jpeg:https://www.frenchtechcotedazur.fr/wp-content/uploads/2024/08/1738062800625.jpg
END:VEVENT
BEGIN:VEVENT
DTSTART;TZID=Europe/Paris:20250212T110000
DTEND;TZID=Europe/Paris:20250212T123000
DTSTAMP:20260419T233149
CREATED:20240212T103109Z
LAST-MODIFIED:20250205T112030Z
UID:7558-1739358000-1739363400@www.frenchtechcotedazur.fr
SUMMARY:Colloque IA & Énergie par IMREDD et French Tech Côte d'Azur
DESCRIPTION:Nous vous proposons d’assister à notre colloque pour un retours d’expérience et vision prospective de Start-up et entreprises innovantes pour un futur énergétique plus résilient et responsable sur notre territoire. \n📅 Le mercredi 12 février 2025 de 11h00 à 12h30 \n📍IMREDD – Université Côte d’Azur\, 9 rue Julien Lauprêtre\, Nice \nPour en savoir et vous inscrire : cliquez-ici
URL:https://www.frenchtechcotedazur.fr/event/colloque-ia-energie-par-imredd-et-french-tech-cote-dazur/
ATTACH;FMTTYPE=image/png:https://www.frenchtechcotedazur.fr/wp-content/uploads/2024/08/F77D6277KITCOMMCOLLOQUE.png
END:VEVENT
BEGIN:VEVENT
DTSTART;VALUE=DATE:20250213
DTEND;VALUE=DATE:20250216
DTSTAMP:20260419T233149
CREATED:20240827T083109Z
LAST-MODIFIED:20250205T110436Z
UID:7553-1739404800-1739663999@www.frenchtechcotedazur.fr
SUMMARY:WAICF - World AI Cannes Festival par CORP Agency
DESCRIPTION:Cannes accueille la troisième édition du « World Artificial Intelligence Cannes Festival » (WAICF)\, le salon mondial de l’Intelligence Artificielle (IA). Organisé par CORP Agency (filiale du groupe RX) et initié par la Mairie de Cannes\, le Département des Alpes-Maritimes et l’Institut EuropIA \n📅 du 13 au 15 février 2025 \n📍 𝗣𝗮𝗹𝗮𝗶𝘀 𝗱𝗲𝘀 𝗙𝗲𝘀𝘁𝗶𝘃𝗮𝗹𝘀 𝗲𝘁 𝗱𝗲𝘀 𝗖𝗼𝗻𝗴𝗿𝗲̀𝘀 𝗱𝗲 𝗖𝗮𝗻𝗻𝗲𝘀\, La Croisette\, 06414 CANNES \n 
URL:https://www.frenchtechcotedazur.fr/event/waicf-world-ai-cannes-festival-par-corp-agency/
ATTACH;FMTTYPE=image/jpeg:https://www.frenchtechcotedazur.fr/wp-content/uploads/2024/08/1737729759831.jpg
END:VEVENT
BEGIN:VEVENT
DTSTART;TZID=Europe/Paris:20250224T183000
DTEND;TZID=Europe/Paris:20250224T213000
DTSTAMP:20260419T233149
CREATED:20240827T083109Z
LAST-MODIFIED:20250205T101634Z
UID:7544-1740421800-1740432600@www.frenchtechcotedazur.fr
SUMMARY:Les 5 règles d’or pour relever tous les challenges par Ecole ENTRE HEAD
DESCRIPTION:Ecole ENTRE HEAD vous convie à son deuxième atelier de l’Ecole Entre Head dont le sujet est : « Les 5 règles d’or pour relever tous les challenges : skippers et managers\, tous dans le même bateau ! » \n📅 Le Lundi 24 Février 2025 de 18h30 à 21h30 \n📍Riviera Plaisance 10 Avenue de la Libération – Antibes (parking Port Vauban) \nPour en savoir et vous inscrire : cliquez-ici
URL:https://www.frenchtechcotedazur.fr/event/les-5-regles-dor-pour-relever-tous-les-challenges-par-ecole-entre-head/
ATTACH;FMTTYPE=image/jpeg:https://www.frenchtechcotedazur.fr/wp-content/uploads/2024/08/th-2.jpeg
END:VEVENT
BEGIN:VEVENT
DTSTART;TZID=Europe/Paris:20250225T093000
DTEND;TZID=Europe/Paris:20250225T113000
DTSTAMP:20260419T233149
CREATED:20240827T083109Z
LAST-MODIFIED:20250205T134020Z
UID:7566-1740475800-1740483000@www.frenchtechcotedazur.fr
SUMMARY:Startup Solution#3 par Nice Start(s) Up
DESCRIPTION:Nice Start(s) Up vous à son atelier sur le thème suivant : « L’Europe au service de vos projets\, tout savoir sur les opportunités et financements ». Cet atelier est conçu pour vous offrir un véritable tour d’horizon des appels à projets européens et des nombreuses opportunités de financement accessibles aux entreprises de notre région. \n📅 Le mardi 25 février 2025 de 9h30 à 11h30 \n📍Hub de l’Innovation – Openloft 61 Avenue Simone Veil\, 06200 Nice \nPour en savoir et vous inscrire : cliquez-ici
URL:https://www.frenchtechcotedazur.fr/event/startup-solution3-par-nice-starts-up/
ATTACH;FMTTYPE=image/png:https://www.frenchtechcotedazur.fr/wp-content/uploads/2024/08/Startup-solution-financements-europeens-2.png
END:VEVENT
BEGIN:VEVENT
DTSTART;TZID=Europe/Paris:20250227T110000
DTEND;TZID=Europe/Paris:20250227T120000
DTSTAMP:20260419T233149
CREATED:20240827T083109Z
LAST-MODIFIED:20250205T131015Z
UID:7560-1740654000-1740657600@www.frenchtechcotedazur.fr
SUMMARY:WEBTECH : Le passeport numérique produit par AKTANTIS
DESCRIPTION:Aktantis vous donne rendez-vous à son webtech : Le passeport numérique produit (dpp) : authentification et tracabilite d’un objet. Echangez avec les experts de KeeeX\, éditeur marseillais et STMicroelectronics pour comprendre comment la combinaison de leurs technologies respectives (Traçabilité et tag NFC sécurisé) ont permis d’aboutir à une solution efficace et sécurisée de preuve de présence à côté de l’objet et garantie d’authenticité et d’unicité d’un produit. \n📅 Le Jeudi 27 février 2025 de 11h à 12h \nPour en savoir et vous inscrire : cliquez-ici
URL:https://www.frenchtechcotedazur.fr/event/webtech-le-passeport-numerique-produit-par-aktantis/
ATTACH;FMTTYPE=image/png:https://www.frenchtechcotedazur.fr/wp-content/uploads/2024/08/unnamed-3-1.png
END:VEVENT
BEGIN:VEVENT
DTSTART;TZID=Europe/Paris:20250227T120000
DTEND;TZID=Europe/Paris:20250227T140000
DTSTAMP:20260419T233149
CREATED:20240827T083109Z
LAST-MODIFIED:20250205T103523Z
UID:7548-1740657600-1740664800@www.frenchtechcotedazur.fr
SUMMARY:Communautés Sobriété numérique & Eco-conception X Data & IA par Telecom Valley
DESCRIPTION:Les communautés Sobriété numérique & Éco-conception et Data & IA vous invitent à une rencontre commune autour de la question : « Peut-on concevoir une intelligence artificielle à la fois sobre et éthique ? » \n📅 Le Jeudi 27 février 2025 de 12h à 14h \n📍Sophia Antipolis\, Business Pole 1\, Entrée A\, RDC\, salle NIDA\, 1047 route des Dolines\, Allée Pierre Ziller 06560 Valbonne Sophia Antipolis \nPour en savoir et vous inscrire : cliquez-ici
URL:https://www.frenchtechcotedazur.fr/event/communautes-sobriete-numerique-eco-conception-x-data-ia-par-telecom-valley/
ATTACH;FMTTYPE=image/jpeg:https://www.frenchtechcotedazur.fr/wp-content/uploads/2024/08/1738585583549.jpg
END:VEVENT
END:VCALENDAR