BEGIN:VCALENDAR
VERSION:2.0
PRODID:-//French Tech Côte d&#039;Azur - ECPv6.15.20//NONSGML v1.0//EN
CALSCALE:GREGORIAN
METHOD:PUBLISH
X-ORIGINAL-URL:https://www.frenchtechcotedazur.fr
X-WR-CALDESC:Évènements pour French Tech Côte d&#039;Azur
REFRESH-INTERVAL;VALUE=DURATION:PT1H
X-Robots-Tag:noindex
X-PUBLISHED-TTL:PT1H
BEGIN:VTIMEZONE
TZID:Europe/Paris
BEGIN:DAYLIGHT
TZOFFSETFROM:+0100
TZOFFSETTO:+0200
TZNAME:CEST
DTSTART:20230326T010000
END:DAYLIGHT
BEGIN:STANDARD
TZOFFSETFROM:+0200
TZOFFSETTO:+0100
TZNAME:CET
DTSTART:20231029T010000
END:STANDARD
BEGIN:DAYLIGHT
TZOFFSETFROM:+0100
TZOFFSETTO:+0200
TZNAME:CEST
DTSTART:20240331T010000
END:DAYLIGHT
BEGIN:STANDARD
TZOFFSETFROM:+0200
TZOFFSETTO:+0100
TZNAME:CET
DTSTART:20241027T010000
END:STANDARD
BEGIN:DAYLIGHT
TZOFFSETFROM:+0100
TZOFFSETTO:+0200
TZNAME:CEST
DTSTART:20250330T010000
END:DAYLIGHT
BEGIN:STANDARD
TZOFFSETFROM:+0200
TZOFFSETTO:+0100
TZNAME:CET
DTSTART:20251026T010000
END:STANDARD
END:VTIMEZONE
BEGIN:VEVENT
DTSTART;TZID=Europe/Paris:20240603T090000
DTEND;TZID=Europe/Paris:20240603T170000
DTSTAMP:20260420T102428
CREATED:20230920T103614Z
LAST-MODIFIED:20240523T092801Z
UID:6695-1717405200-1717434000@www.frenchtechcotedazur.fr
SUMMARY:Learning Days par Cannes Is Up et la Communauté d'Agglomération Cannes Lérins
DESCRIPTION:Cannes Is Up et la Communauté d’Agglomération Cannes Lérins sont heureux de vous proposer en ce mois de juin un nouveau Learning Days autour de la thématique :  \nOsez les relations presse pour booster votre business animé par Carine Petrucci (Fondatrice de l’agence Influence Média) \n📅 Lundi 3 juin 2024 de 9h00 à 17h00\n📍 Campus George Méliès\, Cité d’entreprise\, 06150 Cannes \nLes relations presse sont un outil puissant pour les startups\, elles permettent non seulement d’accroître la visibilité et la crédibilité\, mais aussi d’influencer positivement la perception du public\, ce qui peut avoir un impact significatif sur la croissance et le succès de l’entreprise \nÉvénement payant sur inscription : lien d’inscription \n 
URL:https://www.frenchtechcotedazur.fr/event/learning-day-par-cannes-is-up-et-la-communaute-dagglomeration-cannes-lerins/
ATTACH;FMTTYPE=image/jpeg:https://www.frenchtechcotedazur.fr/wp-content/uploads/2023/09/1711464333589.jpeg
END:VEVENT
BEGIN:VEVENT
DTSTART;TZID=Europe/Paris:20240604T113000
DTEND;TZID=Europe/Paris:20240604T123000
DTSTAMP:20260420T102428
CREATED:20230920T103614Z
LAST-MODIFIED:20240523T092432Z
UID:6703-1717500600-1717504200@www.frenchtechcotedazur.fr
SUMMARY:MEET’UP DU HUB par la Métropole Nice Côte d'Azur
DESCRIPTION:La Métropole Nice Côte d’Azur vous convie à sa session « Comment vendre à l’étranger et attirer des investisseurs » qui se tiendra: \n📅 Mardi 4 juin 2024 de 11h30 à 12h30\n📍 Hub de l’Innovation – Métropole Nice Côte d’Azur\, 61-63 Av. Simone Veil\, 06200 Nice \nVous découvrirez les stratégies de vente à l’étranger et l’attraction d’investisseurs locaux avec la mise en lumière  de l’expérience de Karl ABOUZEID\, fondateur de la société FUNDBOT\, au Moyent Orient. \nVous apprendrez les bonnes pratiques pour pénétrer un nouveau marché mais aussi comment adapter votre stratégie aux cultures et aux exigences commerciales spécifiques du Moyen-Orient et obtiendrez les clés pour attirer des investisseurs étrangers et les convaincre de soutenir votre entreprise ! \nÉvénement sur inscription : lien d’inscription \n 
URL:https://www.frenchtechcotedazur.fr/event/meetup-du-hub-par-la-metropole-nice-cote-dazur/
ATTACH;FMTTYPE=image/png:https://www.frenchtechcotedazur.fr/wp-content/uploads/2023/09/Design-sans-titre.png
END:VEVENT
BEGIN:VEVENT
DTSTART;TZID=Europe/Paris:20240607T190000
DTEND;TZID=Europe/Paris:20240607T213000
DTSTAMP:20260420T102428
CREATED:20230920T103614Z
LAST-MODIFIED:20240523T093154Z
UID:6712-1717786800-1717795800@www.frenchtechcotedazur.fr
SUMMARY:Afterwork par Cannes is Up
DESCRIPTION:Cannes Is Up est heureux de vous proposer en ce mois de juin un afterwork qui se tiendra:  \n📅 Vendredi 7 juin 2024 des 19h\n📍 Skyfall Cannes x Kingdom\, 21 Bd de la République\, 06400 Cannes \nAu programme : \n\nMoment d’échange privilégié entre professionnels\nSoirée stand up\nApéro dinatoire\n\nÉvénement payant sur inscription : lien d’inscription \n 
URL:https://www.frenchtechcotedazur.fr/event/afterwork-par-cannes-is-up/
ATTACH;FMTTYPE=image/jpeg:https://www.frenchtechcotedazur.fr/wp-content/uploads/2023/09/1713973218323.jpeg
END:VEVENT
BEGIN:VEVENT
DTSTART;TZID=Europe/Paris:20240608T093000
DTEND;TZID=Europe/Paris:20240608T120000
DTSTAMP:20260420T102428
CREATED:20231108T144201Z
LAST-MODIFIED:20240528T133736Z
UID:6754-1717839000-1717848000@www.frenchtechcotedazur.fr
SUMMARY:Pic-Mixte: la mixité\, une clé de performance par Nice Start(s) Up
DESCRIPTION:Nice Strat(s) Up vous invite à son événement co-organisé en partenariat avec Bouge ta boite. \n🗓️ Samedi 8 Juin 2024 de 9h30 à 12h  \n📍 Hôtel Mercure Grimaldis\, 15 Rue Grimaldi\, 06000 Nice \nVous pourrez découvrir autour d’un déjeuner convivial en quoi la mixité est un levier de performance pour votre entreprise et rencontrer un grand nombre d’entrepreneurs et personnes inspirantes qui contribuent au rayonnement de notre territoire. \nAu programme: \n\n9h30 / 10h : Accueil café viennoiseries\n10h / 10h05 : Mot de bienvenue de Maty Diouf\, Adjointe au Maire de Nice\, déléguée à la lutte contre les discriminations\, au droit des femmes\, à l’action humanitaire et à la coopération.\n10h05 : Table ronde avec 4 témoignages inspirants en incluant divers domaines de compétences\n10h55: Atelier d’intelligence collective & networking animé par les 4 intervenants\n\n  \nÉvénement sur inscription : lien d’inscription
URL:https://www.frenchtechcotedazur.fr/event/pic-mixte-la-mixite-une-cle-de-performance-par-nice-starts-up/
ATTACH;FMTTYPE=image/jpeg:https://www.frenchtechcotedazur.fr/wp-content/uploads/2023/11/https-cdn.evbuc_.com-images-773888089-1606555312193-1-original.20240522-150916.jpeg
END:VEVENT
BEGIN:VEVENT
DTSTART;TZID=Europe/Paris:20240611T090000
DTEND;TZID=Europe/Paris:20240611T170000
DTSTAMP:20260420T102428
CREATED:20240604T095339Z
LAST-MODIFIED:20240604T095339Z
UID:6773-1718096400-1718125200@www.frenchtechcotedazur.fr
SUMMARY:Les Rencontres de la Team France Export
DESCRIPTION:La Team France Export organise le 11 juin à la CCI Nice Côte d’Azur\, (Bd Carabacel) les Rencontres de la Team France Export : une occasion unique pour les entreprises régionales qui souhaitent se développer à l’international ou découvrir des nouveaux marchés pour échanger avec les experts de l’international venus du monde entier (Business France\, cabinets d’avocats\, cabinets comptables\, banques\, transporteurs\, CCI\, douanes\, INPI\, Bpifrance\, …) !\n \nParmi les pays représentés : USA\, Japon\, Allemagne\, Canada\, Espagne\, UK\, Suisse\, Brésil\, Emirats Arabes Unis\, Afrique\, Inde….\n \nLa participation est gratuite et les entreprises bénéficieront de :\n\nRendez-vous B2B avec les professionnels de l’international (vous pouvez demander des rendez-vous aux personnes que vous souhaitez rencontrer directement via le site de l’événement) – bureaux Business France\, avocats\, douanes\, INPI\, transporteurs\, banques\, OSCI\, risingSUD\, BpiFrance\, CCEF…)\nAteliers thématiques sur l’actualité du commerce international (programme détaillé sur le site web)\nDéjeuner de networking\n\nRemise des trophées de l’export\n \nProgramme complet et liste des participants sur le site de l’événement : Home | Rencontrez les experts de l’export ! (b2match.com)\n \nSi vous pensez que cette opportunité peut intéresser vos adhérents merci de leur transmettre l’information.\n \nLe point de contact sur cet événement est : silvia.bozzuto@paca.cci.fr
URL:https://www.frenchtechcotedazur.fr/event/les-rencontres-de-la-team-france-export/
ATTACH;FMTTYPE=image/png:https://www.frenchtechcotedazur.fr/wp-content/uploads/2024/06/Capture-decran-2024-06-04-114618.png
END:VEVENT
BEGIN:VEVENT
DTSTART;TZID=Europe/Paris:20240612T143000
DTEND;TZID=Europe/Paris:20240612T160000
DTSTAMP:20260420T102428
CREATED:20240119T104452Z
LAST-MODIFIED:20240119T104452Z
UID:6309-1718202600-1718208000@www.frenchtechcotedazur.fr
SUMMARY:Atelier Orange Digital Center - Sécuriser son smartphone
DESCRIPTION:Parlez-en à vos proches et inscrivez-vous directement au Totem de la French Tech Côte d’Azur\, 9 rue d’Italie à Nice ou bien EN CLIQUANT ICI. \n 
URL:https://www.frenchtechcotedazur.fr/event/atelier-orange-digital-center-securiser-son-smartphone-3/
ATTACH;FMTTYPE=image/png:https://www.frenchtechcotedazur.fr/wp-content/uploads/2023/09/9-e1705661074321.png
END:VEVENT
BEGIN:VEVENT
DTSTART;TZID=Europe/Paris:20240612T193000
DTEND;TZID=Europe/Paris:20240612T230000
DTSTAMP:20260420T102428
CREATED:20240604T132151Z
LAST-MODIFIED:20240604T132211Z
UID:6782-1718220600-1718233200@www.frenchtechcotedazur.fr
SUMMARY:Verre de l'amitié par Nice Start(s) Up
DESCRIPTION:NSU est ravie de vous inviter au moment de convivialité qu’ils organisent à l’issue de leur Assemblée Générale Mixte \n \n Mercredi 12 Juin à partir de 19h30\n\n \n L’évènement se tiendra au sein du nouveau campus de Mediaschool situé à l’adresse suivante\, 33 avenue Notre-Dame\, 06000 Nice (6ème étage – Code 1935#).\n\n \n Nous vous attendons nombreux autour d’un verre de l’amitié pour célébrer et remercier leur présidente sortante Nathalie ORVOËN qui œuvre pour l’association depuis sa création !\n \nL’occasion également de découvrir les nouveaux membres du Conseil d’Administration ainsi que la nouvelle feuille de route de Nice Start(s) Up \n \nMais aussi au programme de la soirée: Dj Set\, quiz et surprises \n \nMerci de répondre directement sur ce lien google form
URL:https://www.frenchtechcotedazur.fr/event/verre-de-lamitie-par-nice-starts-up/
ATTACH;FMTTYPE=image/png:https://www.frenchtechcotedazur.fr/wp-content/uploads/2024/06/NSU.png
END:VEVENT
BEGIN:VEVENT
DTSTART;TZID=Europe/Paris:20240613T083000
DTEND;TZID=Europe/Paris:20240613T110000
DTSTAMP:20260420T102428
CREATED:20230920T103614Z
LAST-MODIFIED:20240523T150219Z
UID:6742-1718267400-1718276400@www.frenchtechcotedazur.fr
SUMMARY:La Place Business par la CCI Nice Côte d'Azur
DESCRIPTION:La CCI Nice Côte d’Azur vous convie à une matinée dédiée aux appels d’offres publics et plus précisément  » Comment répondre à un appel d’offre public«  qui se tiendra: \n📅 Jeudi 13 juin 2024 de 8h30 à 11h\n📍CCI Nice Côte d’Azur\, 20 Bd Carabacel\, 06005 Nice \nAu programme :  \n\nIntroduction\n– Définition et importance des appels d’offres publics.\n– Les avantages des marchés publics par rapport aux marchés privés\nModule 1 : Comprendre le cadre juridique des marchés publics\n– Connaître les principes fondamentaux guidant les marchés publics.\n– Maîtriser les différents types de procédures et de seuils.\n– Appréhender les pièces contenues dans un dossier de consultation\nModule 2 : Savoir sélectionner son appel d’offre\n– Les supports et plateformes à connaître pour trouver des appels d’offres.\n– L’importance de la veille marché\n– Sélectionner un marché adapté à son profil et à ses compétences.\nModule 3 : Le déroulement d’une réponse à un marché public \n– Comprendre les pièces d’un dossier de consultation.\n– Réaliser un dossier de candidature\n– Savoir comment sont jugées les offres.\nModule 4 : Les stratégies gagnantes trop souvent négligées par les entreprises \n– Ne pas comprendre l’intérêt du sourcing\n– Ne pas adapter son mémoire technique à l’offre visée\n– Méconnaître sa concurrence\n\nLe but de cette matinée est de comprendre le processus général des appels d’offres publics et maîtriser les étapes essentielles pour répondre à un appel d’offres afin de faire des marchés publics un levier de développement pour son entreprise \nÉvénement sur inscription : lien d’inscription \n 
URL:https://www.frenchtechcotedazur.fr/event/la-place-business-par-la-cci-nice-cote-dazur/
ATTACH;FMTTYPE=image/png:https://www.frenchtechcotedazur.fr/wp-content/uploads/2023/09/Design-sans-titre-2.png
END:VEVENT
BEGIN:VEVENT
DTSTART;TZID=Europe/Paris:20240619T150000
DTEND;TZID=Europe/Paris:20240619T170000
DTSTAMP:20260420T102428
CREATED:20240604T085801Z
LAST-MODIFIED:20240617T134609Z
UID:6800-1718809200-1718816400@www.frenchtechcotedazur.fr
SUMMARY:Enjeux d'innovation pour les Industries Culturelles et Créatives
DESCRIPTION:Nous vous invitons à venir débattre des solutions innovantes pour les ICC  sur le thème « Quels enjeux d’innovation pour les Industries culturelles et créatives sur le territoire ? » avec José PARRA-DIAZ\, Responsable Open Innovation\, France Télévisions qui se tiendra : \n🗓️ Mercredi 19 juin de 15h00 à 17h00 \n📍Totem de la French Tech Côte d’Azur\, 9 rue d’Italie\, Nice \nLes Industries Culturelles et Créatives\, la VR\, l’IA ainsi que le rôle d’un grand groupe tel que France Télévisions seront autant de sujets partagés lors de cette séquence. \nProgramme : \n\n15h00 : Mot de bienvenue\n15h15 : Présentation de José Parra-Diaz\n15h45 : Echanges avec les Startups\, Ecoles et Spécialistes ICC\n16h15 : Goûter Networking\n17h00 : Fin\n\nÉvènement gratuit\, confirmer votre présence par mail à business@nicecotedazur.org
URL:https://www.frenchtechcotedazur.fr/event/enjeux-dinnovation-pour-les-industries-culturelles-et-creatives/
ATTACH;FMTTYPE=image/png:https://www.frenchtechcotedazur.fr/wp-content/uploads/2024/06/Design-sans-titre.png
END:VEVENT
BEGIN:VEVENT
DTSTART;TZID=Europe/Paris:20240621T090000
DTEND;TZID=Europe/Paris:20240621T110000
DTSTAMP:20260420T102428
CREATED:20230920T103614Z
LAST-MODIFIED:20240523T095705Z
UID:6720-1718960400-1718967600@www.frenchtechcotedazur.fr
SUMMARY:La Matinée des Entrepreneurs par BGE Côte d'Azur
DESCRIPTION:BGE Côte d’Azur vous convie à sa matinée pitch autour de la thématique :  \n« Pitch Battle\, Votre Idée\, Votre Voix » \n📅 Vendredi 21 juin 2024 de 9h00 à 11h00\n📍 CréACannes\, 11 Av. Maurice Chevalier\, 06150 Cannes \nVous aurez l’opportunité de maîtriser l’art du pitch\, d’échanger avec d’autres entrepreneurs passionnés et de développer des compétences essentielles dans une ambiance ludique et conviviale. \nAu programme :  \n\nAccueil et petit déjeuner\nAteliers Pitch par groupe pour apprendre à structurer et délivrer un pitch efficace\nPitch Battle pour mettre pratique ce que vous avez appris\nNetworking pour rencontrer d’autres entrepreneurs et explorez des pistes de collaboration.\n\nCet événement est ouvert à tous les entrepreneurs et porteurs de projets\, qu’ils soient en phase de création\, de développement ou simplement en quête d’inspiration et de conseils. \nÉvénement sur inscription : lien d’inscription \n 
URL:https://www.frenchtechcotedazur.fr/event/la-matinee-des-entrepreneurs-par-bge-cote-dazur/
ATTACH;FMTTYPE=image/png:https://www.frenchtechcotedazur.fr/wp-content/uploads/2023/09/LamatinedesentrepreneursPITCHCannes26061png_664c71d1844916.34018630.png
END:VEVENT
BEGIN:VEVENT
DTSTART;TZID=Europe/Paris:20240625T183000
DTEND;TZID=Europe/Paris:20240625T210000
DTSTAMP:20260420T102428
CREATED:20240604T101030Z
LAST-MODIFIED:20240604T101240Z
UID:6776-1719340200-1719349200@www.frenchtechcotedazur.fr
SUMMARY:Table Ronde - Equipes dirigeantes mixtes : forces & impacts
DESCRIPTION:🌟 𝗔𝗳𝘁𝗲𝗿𝘄𝗼𝗿𝗸 𝗘́𝗾𝘂𝗶𝗽𝗲𝘀 𝗗𝗶𝗿𝗶𝗴𝗲𝗮𝗻𝘁𝗲𝘀 𝗠𝗶𝘅𝘁𝗲𝘀 : 𝗙𝗼𝗿𝗰𝗲𝘀 & 𝗜𝗺𝗽𝗮𝗰𝘁𝘀 🌟 \n📅 Mardi 25 juin 2024\n🕕 18h30 – 21h\n📍 Pépinière d’entreprises InnovaGrasse\, Espace Jacques Louis Lions\, 06130 Grasse\, Alpes-Maritimes \n🔹 Organisé par la Communauté d’Agglomération du Pays de Grasse\, Initiative Terres d’Azur – Grasse\, Le Club des Entrepreneurs du Pays de Grasse\, Live for Good\, Bouge ta Boite · France\, et Les Premières Sud \n🎙️ Animé par Sibylle Sanchez et Mathieu MERIAN \nDécouvrez comment la mixité des équipes dirigeantes renforce le fonctionnement des entreprises.\nVous entendrez des témoignages inspirants et des conseils pratiques pour trouver votre associé et former une équipe dirigeante de choc ! \n👥 Cette soirée sera introduite par Monsieur Jérôme Viaud\, Président de la Communauté d’Agglomération du Pays de Grasse et Maire de la Ville de Grasse. \n🍸 Un cocktail convivial clôturera la soirée.\n📩 Inscriptions : https://sud.objectif-mixite.com/evenement/equipes-dirigeantes-mixte-forces-impacts/
URL:https://www.frenchtechcotedazur.fr/event/table-ronde-equipes-dirigeantes-mixtes-forces-impacts/
ATTACH;FMTTYPE=image/jpeg:https://www.frenchtechcotedazur.fr/wp-content/uploads/2024/06/1716803141060.jpg
END:VEVENT
BEGIN:VEVENT
DTSTART;TZID=Europe/Paris:20240626T143000
DTEND;TZID=Europe/Paris:20240626T160000
DTSTAMP:20260420T102428
CREATED:20230906T085430Z
LAST-MODIFIED:20240119T104652Z
UID:6290-1719412200-1719417600@www.frenchtechcotedazur.fr
SUMMARY:Atelier Orange Digital Center - Découvrir les réseaux sociaux
DESCRIPTION:Parlez-en à vos proches et inscrivez-vous directement au Totem de la French Tech Côte d’Azur\, 9 rue d’Italie à Nice ou bien EN CLIQUANT ICI. \n 
URL:https://www.frenchtechcotedazur.fr/event/atelier-orange-digital-center-decouvrir-les-reseaux-sociaux-2/
ATTACH;FMTTYPE=image/png:https://www.frenchtechcotedazur.fr/wp-content/uploads/2023/09/10-e1705661188469.png
END:VEVENT
BEGIN:VEVENT
DTSTART;TZID=Europe/Paris:20240627T093000
DTEND;TZID=Europe/Paris:20240627T170000
DTSTAMP:20260420T102428
CREATED:20230920T103614Z
LAST-MODIFIED:20240530T095712Z
UID:6759-1719480600-1719507600@www.frenchtechcotedazur.fr
SUMMARY:La Rencontre de la Silver Eco par la CCI Nice Côte d'Azur
DESCRIPTION:La CCI Nice Côte d’Azur vous convie à une journée centrée sur les tendances actuelles et futures en matière de parcours de santé pour relever les défis du vieillissement actif qui se tiendra: \n📅 Jeudi 27 juin 2024 de 9h30 à 17h\n📍IMREDD\, 9 rue Julien Lauprêtre\, 06200 Nice \nAu programme :  \n\n9h – 9h30 : Accueil des visiteurs\n9h30 – 10h : Introduction de la Rencontre Silver Eco\n10h – 12h30 : Matinée Tables rondes : \n\n1 – Initiatives et Innovations pour un bien vieillir actif et en bonne santé \nDécouvrez les tendances actuelles et futures en matière de parcours de santé\, d’accès aux soins et de bien vieillir actif ! Les intervenants partageront leurs idées novatrices pour garantir une vie saine et active à mesure que nous avançons en âge \nIntervenants :\n– Dr Frederic PRATE\, CHU Nice\, Projet « Bien Vieillir Ensemble »\n– Jean-Jacques TEMPRADO\, Aix-Marseille Université\, Chaire Active Aging\, Responsable du DU Entreprendre en Silver Economie)\n– Dr David DARMON\, Living lab Ulysseus\, vice-président santé Université Côte d’Azur\n– M Francis KHUN\, représentant de Provence Alpes Agglo \nAnimateur :\n– Marjorie NANTEUIL\, responsable thématique silver eco au CEA \n2 – Comment anticiper et préparer sa sécurité financière ? \nRejoignez-nous pour des discussions enrichissantes sur la préparation de la retraite\, la protection contre les arnaques\, la planification successorale… \nIntervenants :\n– Jean-Charles CHEMIN\, CEO LEGAPASS\n– Sébastien MORONI\, COO TOPIZY\n– Garance DEVIS\, HARMONIE MUTUELLE \nAnimateur : \n– Robert JIMENEZ\, Directeur Région SUD HARMONIE MUTUELLE \n3 – Quelles perspectives pour un bien vivre chez soi demain ? \nLes changements dans la société influencent de manière significative les modes d’habitat. Participez au débat sur l’habitat de demain (résidence autonomie\, intergénérationnel\, …) pour comprendre notre dynamique locale grâce aux résultats d’une étude socio-démographique. \nIntervenants :\n– Sophie TASQUE\, Responsable des études socio-économiques\, Région Sud\n– Roberta PENNUCCI\, Chargée de partenariats et d’animation scientifique\, Institut Méditerranéen du Risque\, de l’Environnement et du Développement Durable (IMREDD\n– Elena ELIA\, Direction des Opérations\, résidence senior Porte Neuve à Grasse \nAnimateur : \n– Muriel FERNAND\, CCI Nice Côte d’Azur \n\n12h30 – 14h : Buffet déjeunatoire\n14h – 16h30 : Ateliers (plus de détails à venir)\n\n  \nÉvénement sur inscription : lien d’inscription \n 
URL:https://www.frenchtechcotedazur.fr/event/la-rencontre-de-la-silver-eco-par-la-cci-nice-cote-dazur/
ATTACH;FMTTYPE=image/png:https://www.frenchtechcotedazur.fr/wp-content/uploads/2023/09/Capture-decran-2024-05-30-a-11.39.52-e1717062905471.png
END:VEVENT
BEGIN:VEVENT
DTSTART;TZID=Europe/Paris:20240628T143000
DTEND;TZID=Europe/Paris:20240628T160000
DTSTAMP:20260420T102428
CREATED:20240119T104452Z
LAST-MODIFIED:20240827T140330Z
UID:7074-1719585000-1719590400@www.frenchtechcotedazur.fr
SUMMARY:Atelier Orange Digital Center - Débuter avec son smartphone
DESCRIPTION:Parlez-en à vos proches et inscrivez-vous directement au Totem de la French Tech Côte d’Azur\, 9 rue d’Italie à Nice ou bien EN CLIQUANT ICI. \n 
URL:https://www.frenchtechcotedazur.fr/event/atelier-orange-digital-center-debuter-avec-son-smartphone-5/
ATTACH;FMTTYPE=image/png:https://www.frenchtechcotedazur.fr/wp-content/uploads/2024/01/8-e1724767362311.png
END:VEVENT
END:VCALENDAR