BEGIN:VCALENDAR
VERSION:2.0
PRODID:-//French Tech Côte d&#039;Azur - ECPv6.15.20//NONSGML v1.0//EN
CALSCALE:GREGORIAN
METHOD:PUBLISH
X-WR-CALNAME:French Tech Côte d&#039;Azur
X-ORIGINAL-URL:https://www.frenchtechcotedazur.fr
X-WR-CALDESC:Évènements pour French Tech Côte d&#039;Azur
REFRESH-INTERVAL;VALUE=DURATION:PT1H
X-Robots-Tag:noindex
X-PUBLISHED-TTL:PT1H
BEGIN:VTIMEZONE
TZID:Europe/Paris
BEGIN:DAYLIGHT
TZOFFSETFROM:+0100
TZOFFSETTO:+0200
TZNAME:CEST
DTSTART:20230326T010000
END:DAYLIGHT
BEGIN:STANDARD
TZOFFSETFROM:+0200
TZOFFSETTO:+0100
TZNAME:CET
DTSTART:20231029T010000
END:STANDARD
BEGIN:DAYLIGHT
TZOFFSETFROM:+0100
TZOFFSETTO:+0200
TZNAME:CEST
DTSTART:20240331T010000
END:DAYLIGHT
BEGIN:STANDARD
TZOFFSETFROM:+0200
TZOFFSETTO:+0100
TZNAME:CET
DTSTART:20241027T010000
END:STANDARD
BEGIN:DAYLIGHT
TZOFFSETFROM:+0100
TZOFFSETTO:+0200
TZNAME:CEST
DTSTART:20250330T010000
END:DAYLIGHT
BEGIN:STANDARD
TZOFFSETFROM:+0200
TZOFFSETTO:+0100
TZNAME:CET
DTSTART:20251026T010000
END:STANDARD
END:VTIMEZONE
BEGIN:VEVENT
DTSTART;TZID=Europe/Paris:20240507T120000
DTEND;TZID=Europe/Paris:20240507T140000
DTSTAMP:20260422T102705
CREATED:20231108T144201Z
LAST-MODIFIED:20240429T082456Z
UID:6615-1715083200-1715090400@www.frenchtechcotedazur.fr
SUMMARY:Session d'échanges en amont de VIVATECH par Nice Start(s) Up
DESCRIPTION:Nice Strat(s) Up vous invite à un moment d’échange sur le salon Vivatech qui se tient du 22 au 25 mai à Paris ! \n🗓️ Mardi 7 Mai 2024 de 12h à 14h \n📍 Hub de l’Innovation – Métropole Nice Côte d’Azur\, 61-63 Av. Simone Veil\, 06200 Nice \nL’occasion de faire un tour d’horizon du salon\, d’entendre pitcher les 7 start-up accompagnées par la Métropole Nice Côte d’Azur/Rising Sud mais aussi d’entendre témoigner des membres qui ont participé aux précédentes éditions ! \nCet échange se terminera par un moment de networking autour d’un cocktail déjeunatoire ! \nInscrivez-vous en cliquant ici
URL:https://www.frenchtechcotedazur.fr/event/session-dechanges-en-amont-de-vivatech-par-nice-starts-up/
ATTACH;FMTTYPE=image/jpeg:https://www.frenchtechcotedazur.fr/wp-content/uploads/2023/11/5A489ABD-B5D2-45AD-BCD5-2D2C56A3582D-e1714378966260.jpg
END:VEVENT
BEGIN:VEVENT
DTSTART;TZID=Europe/Paris:20240514T103000
DTEND;TZID=Europe/Paris:20240514T160000
DTSTAMP:20260422T102705
CREATED:20240507T095123Z
LAST-MODIFIED:20240507T095753Z
UID:6643-1715682600-1715702400@www.frenchtechcotedazur.fr
SUMMARY:Opportunités d’affaires en Serbie et développement de partenariats avec les entreprises Azuréennes
DESCRIPTION:MEDEF International et l’UPE06 vous invite à participer à leur prochaine réunion autour de Mme Ana HRUSTANOVIC\, Ambassadrice de Serbie en France\, et M. Marko CADEZ\, Président de la Chamber of Commerce and Industry of Serbia (PKS). \nEn partenariat avec French tech Cote d’Azur et la CCI Nice Cote d’Azur\, cette réunion se tiendra le mardi 14 mai de 10h30 à 13h30\, à Saint-Laurent-du-Var. \nA l’approche de l’Exposition thématique Belgrade 2027\, la Serbie cherche à moderniser sa connectivité régionale et sa compétitivité globale dans le domaine des infrastructures\, transport\, énergie\, agroalimentaire\, numérique – secteurs sur lesquels les entreprises françaises peuvent apporter leur savoir-faire et solutions. \nDestinée aux entreprises azuréennes\, cette réunion d’information sera l’occasion de présenter les opportunités d’affaires pour les entreprises françaises en Serbie\, et d’échanger directement avec les autorités et le secteur privé serbes. \nVeuillez noter qu’une délégation d’entreprises serbes du secteur du numérique sera également présente : \n\nAct Digital\nBrainrs\nBitgear\nWollson\nKolosek\n\nPour tout complément d’informations\, veuillez contacter Mathilde RAYMOND\, responsable de projet Europe (mraymond@medef.fr). \nEn partenariat avec La French Tech Côte d’Azur\, CCI Nice Côte d’Azur\, La Fondation Sophia-Antipoliset Monaco Economic Board \nInscrivez-vous via ce lien 
URL:https://www.frenchtechcotedazur.fr/event/6643/
ATTACH;FMTTYPE=image/png:https://www.frenchtechcotedazur.fr/wp-content/uploads/2024/05/Capture-decran-2024-05-07-115445.png
END:VEVENT
BEGIN:VEVENT
DTSTART;TZID=Europe/Paris:20240514T180000
DTEND;TZID=Europe/Paris:20240514T210000
DTSTAMP:20260422T102705
CREATED:20240507T075930Z
LAST-MODIFIED:20240507T075955Z
UID:6639-1715709600-1715720400@www.frenchtechcotedazur.fr
SUMMARY:Rez'Up : l'apéro réseau des acteurs de l'ESS des Alpes-Maritimes par Az'Up
DESCRIPTION:Comment puis-je collaborer collectivement ? et durablement ? Quels sont les niveaux d’interactions que je vis dans un groupe ? Quel est l’impact de mes représentations individuelles et collectives sur la création et la vie du collectif ? \nAz’Up vous invite à une soirée réseau pour échanger sur les besoins et pratiques entrepreneuriales avec les acteurs de l’écosystème qui participent au développement de l’économie sociale et solidaire du territoire des Alpes-Maritimes ! \nDans le cadre de la semaine internationale du coaching 2024\, Katya Benmedjdoub et Camille Toselli de la Fédération internationale de coaching (ICF) seront les intervenantes de cet atelier sur la dynamique collective ! \n📅 Mardi 14 mai 2024 à 18h\n📌 Totem French Tech Côte d’Azur à Nice \nInscription : en cliquant ici
URL:https://www.frenchtechcotedazur.fr/event/rezup-lapero-reseau-des-acteurs-de-less-des-alpes-maritimes-par-azup/
ATTACH;FMTTYPE=image/png:https://www.frenchtechcotedazur.fr/wp-content/uploads/2024/05/AZUP.png
END:VEVENT
BEGIN:VEVENT
DTSTART;TZID=Europe/Paris:20240515T143000
DTEND;TZID=Europe/Paris:20240515T160000
DTSTAMP:20260422T102705
CREATED:20230906T085430Z
LAST-MODIFIED:20240119T102934Z
UID:6287-1715783400-1715788800@www.frenchtechcotedazur.fr
SUMMARY:Atelier Orange Digital Center - Garder le lien avec WhatsApp
DESCRIPTION:Parlez-en à vos proches et inscrivez-vous directement au Totem de la French Tech Côte d’Azur\, 9 rue d’Italie à Nice ou bien EN CLIQUANT ICI. \n 
URL:https://www.frenchtechcotedazur.fr/event/atelier-orange-digital-center-garder-le-lien-avec-whatsapp-2/
ATTACH;FMTTYPE=image/png:https://www.frenchtechcotedazur.fr/wp-content/uploads/2023/09/7-e1705660142689.png
END:VEVENT
BEGIN:VEVENT
DTSTART;TZID=Europe/Paris:20240521T180000
DTEND;TZID=Europe/Paris:20240521T200000
DTSTAMP:20260422T102705
CREATED:20231108T144201Z
LAST-MODIFIED:20240429T093951Z
UID:6621-1716314400-1716321600@www.frenchtechcotedazur.fr
SUMMARY:Booste ton CA en 50 min par Nice Start(s) Up
DESCRIPTION:Nice Strat(s) Up vous invite à son événement « Booste ton CA en 50 min » co-organisé en partenariat avec Rocket School \n🗓️ Mardi 21 mai 2024 de 18h à 20h \n📍 Hub de l’Innovation – Métropole Nice Côte d’Azur\, 61-63 Av. Simone Veil\, 06200 Nice \nVous cherchez à développer votre business ? Besoin de plus de clients pour augmenter votre chiffre d’affaires ?\nCet événement est fait pour vous ! Vous apprendrez quels outils et process mettre en place pour générer des prospects mais aussi : \n\nAutomatiser la création de listes de leads\nEnrichir automatiquement des listes de leads avec des emails et des numéros de téléphone\nAutomatiser et personnaliser la prise de contact par email et par LinkedIn\n\nLe CEO de Rocket School\, Cyril Pierre de Geyer\, fera une démonstration en temps réel pour cibler et engager des leads. \nInscrivez-vous en cliquant ici
URL:https://www.frenchtechcotedazur.fr/event/booste-ton-ca-en-50-min-par-nice-starts-up/
ATTACH;FMTTYPE=image/jpeg:https://www.frenchtechcotedazur.fr/wp-content/uploads/2023/11/https-cdn.evbuc_.com-images-752948429-274155391508-1-original.20240426-082232.jpeg
END:VEVENT
BEGIN:VEVENT
DTSTART;VALUE=DATE:20240522
DTEND;VALUE=DATE:20240526
DTSTAMP:20260422T102705
CREATED:20231108T144201Z
LAST-MODIFIED:20240429T125213Z
UID:6624-1716336000-1716681599@www.frenchtechcotedazur.fr
SUMMARY:Salon Viva Technology
DESCRIPTION:La French Tech Côte d’Azur a le plaisir de vous convier au plus grand événement européen dédié aux start-up\, Viva Technology ! \n🗓️ Du 22 mai au 25 mai 2024 \n📍Paris Expo Porte de Versailles\, 1 Pl. de la Prte de Versailles\, 75015 Paris \nVenez rencontrer tous les acteurs qui font bouger l’économie et la société : start-up\, leaders technologiques\, industriels\, grandes entreprises\, investisseurs\, organismes publics… \nLe but est d’accélérer les innovations et les transformations au service des grands enjeux sociétaux\, environnementaux\, économiques et humains\, mais aussi de faire naître de nouvelles opportunités de croissance pour les entreprises et les start-up.\nPour cette nouvelle édition 2024\, l’intelligence artificielle\, la durabilité et la mobilité seront mises à l’honneur à travers des conférences\, expositions\, expériences tout au long du salon ! \nCet événement vous permettra pendant 4 jours de multiplier vos rencontres professionnelles avec des investisseurs\, des startups en présence de plus de 150 000 visiteurs et 3 000 journalistes. \nInscrivez-vous en cliquant ici
URL:https://www.frenchtechcotedazur.fr/event/salon-viva-technology/
ATTACH;FMTTYPE=image/png:https://www.frenchtechcotedazur.fr/wp-content/uploads/2023/11/image-1-e1714391284856.png
END:VEVENT
BEGIN:VEVENT
DTSTART;TZID=Europe/Paris:20240522T173000
DTEND;TZID=Europe/Paris:20240522T210000
DTSTAMP:20260422T102705
CREATED:20240507T074705Z
LAST-MODIFIED:20240507T075433Z
UID:6634-1716399000-1716411600@www.frenchtechcotedazur.fr
SUMMARY:Trophées Women In Tech Sud 2024 par WHAT06
DESCRIPTION:Les Trophées Women In Tech Sud – Mercredi 22 Mai\, Palais des Congrès d’Antibes Juan les Pins🏆👩🏼‍💻👩‍🎓👩🏾‍🔬\nSoutenez et célébrez les femmes dans le monde de la tech !\nL’association WHAT06 est heureuse de vous annoncer la tenue de la troisième édition des Trophées Women in Tech Sud ! \n📅 Mercredi 22 mai à partir de 17h30/18h \n📌 Palais des Congrès d’Antibes Juan les Pins \nAu cours de cette cérémonie\, seront élues\, sous l’égide d’un jury prestigieux\, trois femmes dont le parcours exemplaire constitue une source d’inspiration dans le domaine de la Tech. \nCe concours est destiné à mettre en valeur les femmes travaillant dans la technologie\, en France et plus particulièrement dans la Région Sud. \nLes lauréates seront choisies parmi 3 catégories distinctes : \n👉 Startupeuse dans la Tech \n👉 Chercheuse dans la Tech \n👉 Salariée dans la Tech \nPour plus d’informations sur cet événement\, veuillez consulter le site web de l’association :  www.what06.fr. \nLa cérémonie sera suivie un cocktail de clôture ou vous pourrez échanger sur la place de la femme dans l’univers de la Tech. \nPour s’inscrire\, cliquez-ici
URL:https://www.frenchtechcotedazur.fr/event/trophees-women-in-tech-sud-2024-par-what06/
ATTACH;FMTTYPE=image/png:https://www.frenchtechcotedazur.fr/wp-content/uploads/2024/05/TWITS-2024-INVITATION-1-e1715068335215.png
END:VEVENT
BEGIN:VEVENT
DTSTART;TZID=Europe/Paris:20240529T143000
DTEND;TZID=Europe/Paris:20240529T160000
DTSTAMP:20260422T102705
CREATED:20230906T085430Z
LAST-MODIFIED:20240119T104937Z
UID:6291-1716993000-1716998400@www.frenchtechcotedazur.fr
SUMMARY:Atelier Orange Digital Center - Débuter avec son smartphone
DESCRIPTION:Parlez-en à vos proches et inscrivez-vous directement au Totem de la French Tech Côte d’Azur\, 9 rue d’Italie à Nice ou bien EN CLIQUANT ICI. \n 
URL:https://www.frenchtechcotedazur.fr/event/atelier-orange-digital-center-debuter-avec-son-smartphone-3/
ATTACH;FMTTYPE=image/png:https://www.frenchtechcotedazur.fr/wp-content/uploads/2023/09/8-e1705661358303.png
END:VEVENT
BEGIN:VEVENT
DTSTART;TZID=Europe/Paris:20240530T170000
DTEND;TZID=Europe/Paris:20240530T203000
DTSTAMP:20260422T102705
CREATED:20231108T144201Z
LAST-MODIFIED:20240429T092506Z
UID:6618-1717088400-1717101000@www.frenchtechcotedazur.fr
SUMMARY:Numeum Tour par Numeum et Telecom Valley
DESCRIPTION:Telecom Valley vous convient à une soirée du numérique « Le Numeum Tour » en collaboration avec Numeum \n🗓️ Jeudi 30 Mai à partir de 17h \n📍Fragrance Center\, 1300 Rte des Crêtes ECOPOLIS Bat L\, 06560 Valbonne \nEn présence d’Olivier Cazzulo\, Délégué Régional de la région Sud et Membre du COMEX\, Teresa Colombi et Julien Holtzer\, co-présidents de Telecom Valley\, le Numeum Tour à Sophia Antipolis s’adresse aux entreprises innovantes du numérique de la Côte d’Azur. \nIl a pour vocation d’informer les entreprises sur les grands projets nationaux portés par Numeum et leurs services d’accompagnement mais aussi sur les actualités et tendances du secteur du numérique sur les mois à venir avec un zoom sur l’économie\, l’emploi et les talents du territoire sud. \nInscrivez-vous en cliquant ici
URL:https://www.frenchtechcotedazur.fr/event/numeum-tour-par-numeum-et-telecom-valley/
ATTACH;FMTTYPE=image/png:https://www.frenchtechcotedazur.fr/wp-content/uploads/2023/11/image001-14-1.png
END:VEVENT
END:VCALENDAR