BEGIN:VCALENDAR
VERSION:2.0
PRODID:-//French Tech Côte d&#039;Azur - ECPv6.15.20//NONSGML v1.0//EN
CALSCALE:GREGORIAN
METHOD:PUBLISH
X-ORIGINAL-URL:https://www.frenchtechcotedazur.fr
X-WR-CALDESC:Évènements pour French Tech Côte d&#039;Azur
REFRESH-INTERVAL;VALUE=DURATION:PT1H
X-Robots-Tag:noindex
X-PUBLISHED-TTL:PT1H
BEGIN:VTIMEZONE
TZID:Europe/Paris
BEGIN:DAYLIGHT
TZOFFSETFROM:+0100
TZOFFSETTO:+0200
TZNAME:CEST
DTSTART:20230326T010000
END:DAYLIGHT
BEGIN:STANDARD
TZOFFSETFROM:+0200
TZOFFSETTO:+0100
TZNAME:CET
DTSTART:20231029T010000
END:STANDARD
BEGIN:DAYLIGHT
TZOFFSETFROM:+0100
TZOFFSETTO:+0200
TZNAME:CEST
DTSTART:20240331T010000
END:DAYLIGHT
BEGIN:STANDARD
TZOFFSETFROM:+0200
TZOFFSETTO:+0100
TZNAME:CET
DTSTART:20241027T010000
END:STANDARD
BEGIN:DAYLIGHT
TZOFFSETFROM:+0100
TZOFFSETTO:+0200
TZNAME:CEST
DTSTART:20250330T010000
END:DAYLIGHT
BEGIN:STANDARD
TZOFFSETFROM:+0200
TZOFFSETTO:+0100
TZNAME:CET
DTSTART:20251026T010000
END:STANDARD
END:VTIMEZONE
BEGIN:VEVENT
DTSTART;TZID=Europe/Paris:20240306T180000
DTEND;TZID=Europe/Paris:20240306T220000
DTSTAMP:20260422T125407
CREATED:20240228T100807Z
LAST-MODIFIED:20240228T102115Z
UID:6431-1709748000-1709762400@www.frenchtechcotedazur.fr
SUMMARY:Women TechUE : quelles perspectives européennes pour les femmes dans la tech ?
DESCRIPTION:Nice start-up co-organise avec le Centre Europe Direct Nice Côte d’Azur et le Campus Ipag Nice une conférence !  \n\n📅Le 6 mars 2024 à 18h\nIPAG – 4 Bd Carabacel\, 06000 NICE\n\n\n\n\n\n\n\n\nCet évènement permettra de: \n\n\n\n\nMettre en lumière ce que l’Union Européenne initiée dans le domaine de la tech (notamment via le programme Women TechEU) ;\nValoriser les femmes\, leurs talents et leurs expériences ;\nPromouvoir et soutenir les acteurs du territoire œuvrant en ce sens.\n\nAvec l’aimable participation de Laurence FAUCHON\, Directrice Générale Quantilia et de Laetitia PIERAZZI\, Co-fondatrice MyCelium Technologies membres de Nice Start(s) Up qui témoigneront sur leurs parcours en présence d’Alexandra BREHIER\, Présidente et Co-fondatrice TalentCoin et secrétaire de notre association qui pourra apporter son expertise sur les sujets. \n\n\n\n A l’issue des prises de paroles de nos intervenants (entrepreneurs\, professeurs\, élus\,..)\, nous proposerons un temps d’échanges et nous clôturerons la soirée par un cocktail ! \nÉvènement gratuit sur inscription: Lien d’inscription
URL:https://www.frenchtechcotedazur.fr/event/6431/
ATTACH;FMTTYPE=image/jpeg:https://www.frenchtechcotedazur.fr/wp-content/uploads/2024/02/Affiche-WomenTechEU-06.03.2024.pdf-Publication-Instagram.jpg
END:VEVENT
BEGIN:VEVENT
DTSTART;TZID=Europe/Paris:20240307T090000
DTEND;TZID=Europe/Paris:20240307T130000
DTSTAMP:20260422T125407
CREATED:20240228T101646Z
LAST-MODIFIED:20240228T102716Z
UID:6436-1709802000-1709816400@www.frenchtechcotedazur.fr
SUMMARY:Evènement No-Code par Les Premières Sud
DESCRIPTION:📢 WOMEN\, NO CODE IS POWER! \nSAVE THE DATE – 7 MARS – Atelier NO CODE – NICE \nLes Premières Sud vous propose un atelier gratuit pour découvrir la puissance des outils NO CODE à l’occasion de la Journée de la Femme\, en partenariat avec la Métropole Nice Côte d’Azur\, la Ville de Nice\, La French Tech Côte d’Azur \, Martin D. de Founders Copilot et l’Ecole 42. \nVous êtes une femme\, entrepreneure\, et vous rêvez de gagner en productivité ? Alors\, venez découvrir les outils NO CODE pour optimiser vos opérations du quotidien\, en toute autonomie. \nRDV le 7 mars de 9h à 13h au sein de l’Ecole 42 à Nice. \nEn la présence de DIOUF Maty Adjointe au maire\, déléguée à la Lutte contre les discriminations\, au Droit des femmes\, aux Actions humanitaires et à la Coopération\, de Magali Altounian – Adjointe au maire\, déléguée aux Affaires Européennes\, Rayonnement de la Ville et Territoire des Collines Niçoises\, Conseillère régionale Région Sud\, de Betty Seroussi Co Présidente French Tech Côte d’azur\, et Damien Lallement\, Directeur de l’Ecole 42. \nInscription Obligatoire et places limitées à 20 : https://lnkd.in/diByVA-v
URL:https://www.frenchtechcotedazur.fr/event/6436/
ATTACH;FMTTYPE=image/jpeg:https://www.frenchtechcotedazur.fr/wp-content/uploads/2024/02/1708636597590-1-e1709115480892.jpg
END:VEVENT
BEGIN:VEVENT
DTSTART;TZID=Europe/Paris:20240308T100000
DTEND;TZID=Europe/Paris:20240308T120000
DTSTAMP:20260422T125407
CREATED:20230906T085430Z
LAST-MODIFIED:20240214T092446Z
UID:6395-1709892000-1709899200@www.frenchtechcotedazur.fr
SUMMARY:Tech Talk : Femmes et Technologie par Cannes Is Up
DESCRIPTION:À l’occasion de la Journée Internationale des Droits des Femmes\, Cannes Is Up vous invite à sa 3ème édition de son Tech Talk « Femmes et Technologie : Construire un Avenir Inclusif ». \n🗓️ Vendredi 8 mars de 10h à 12h \n📍 Campus Georges Méliès\, 214 Av. Francis Tonner\, 06150 Cannes \nSous forme de table ronde\, près de 120 participants sont attendus dont l’objectif est de développer des synergies entre les lycéens\, les étudiants et étudiantes en écoles supérieures\, ainsi que les professionnels engagés. \nInscrivez-vous en cliquant ici
URL:https://www.frenchtechcotedazur.fr/event/tech-talk-femmes-et-technologie-par-cannes-is-up/
ATTACH;FMTTYPE=image/jpeg:https://www.frenchtechcotedazur.fr/wp-content/uploads/2023/09/1707392480461-e1707902623844.jpeg
END:VEVENT
BEGIN:VEVENT
DTSTART;TZID=Europe/Paris:20240308T210000
DTEND;TZID=Europe/Paris:20240308T230000
DTSTAMP:20260422T125407
CREATED:20240228T103238Z
LAST-MODIFIED:20240228T103627Z
UID:6445-1709931600-1709938800@www.frenchtechcotedazur.fr
SUMMARY:OGC Nice x FTCA - Journée de la Femme
DESCRIPTION:Le vendredi 8 mars\, rejoignez-nous pour une journée spéciale où le football et la cause féminine se rencontrent sur le terrain ! Pour le match opposant nos Aiglons à Montpellier\, La French Tech Côte d’Azur s’associe à l’OGC Nice pour mettre en lumière la cause des Femmes. \n🎉 Expérience exclusive \nParce que cette journée est la cause de tous\, venez vivre une expérience inédite à l’Allianz Riviera avec de nombreuses animations pour seulement 15€. Chaque billet comprend en association avec La French Tech Côte d’Azur : votre place de match\, un coffret cadeau exclusif en édition limitée et une boisson offerte en avant-match🎁🥂 \nNe manquez pas cette opportunité de profiter ou de faire profiter vos collaborateurs\, fournisseurs ou clients d’un moment de football inoubliable tout en mettant les Femmes à l’honneur⚽ \nPour rejoindre un événement qui allie sport\, solidarité et engagement\, réservez vos places en cliquant ci-dessous : \nSociété – contactez notre partenaire sur : service.commercial@ogcnice.com \nParticulier – rendez-vous sur : billetterie.ogcnice.com
URL:https://www.frenchtechcotedazur.fr/event/ogc-nice-x-ftca-journee-de-la-femme/
ATTACH;FMTTYPE=image/png:https://www.frenchtechcotedazur.fr/wp-content/uploads/2024/02/Journee-de-la-Femme-1-1-1-e1709116396238.png
END:VEVENT
BEGIN:VEVENT
DTSTART;TZID=Europe/Paris:20240313T143000
DTEND;TZID=Europe/Paris:20240313T160000
DTSTAMP:20260422T125407
CREATED:20230906T085430Z
LAST-MODIFIED:20240119T102058Z
UID:6283-1710340200-1710345600@www.frenchtechcotedazur.fr
SUMMARY:Atelier Orange Digital Center - Sécuriser ses données personnelles
DESCRIPTION:Parlez-en à vos proches et inscrivez-vous directement au Totem de la French Tech Côte d’Azur\, 9 rue d’Italie à Nice ou bien EN CLIQUANT ICI. \n 
URL:https://www.frenchtechcotedazur.fr/event/atelier-orange-digital-center-securiser-ses-donnees-personnelles/
ATTACH;FMTTYPE=image/png:https://www.frenchtechcotedazur.fr/wp-content/uploads/2023/09/3-e1705659635369.png
END:VEVENT
BEGIN:VEVENT
DTSTART;TZID=Europe/Paris:20240315T083000
DTEND;TZID=Europe/Paris:20240315T143000
DTSTAMP:20260422T125407
CREATED:20240229T090402Z
LAST-MODIFIED:20240229T091733Z
UID:6459-1710491400-1710513000@www.frenchtechcotedazur.fr
SUMMARY:Select USA\, renforcer vos relations d’affaires aux Etats-Unis !
DESCRIPTION:INVITATION \nEntrepreneurs et Entreprises de la Côte d’Azur et de la Région Sud\, venez à la découverte des opportunités d’affaires aux Etats-Unis lors de la journée « Select USA » : \n\nDate : le 15 mars 2024 à Nice.\nLieu : Chambre de Commerce et d’Industrie Nice Côte d’Azur\, 20 Bd Carabacel\, 06000 Nice\n\nRencontrez les autorités du Département du Commerce\, de l’Ambassade des Etats-Unis à Paris et du Programme Select USA ainsi que les représentants de 15 Etats américains\, l’occasion de renforcer vos relations d’affaires aux Etats-Unis\, de préparer votre implantation ou d’étudier les opportunités de nouveaux marchés et partenariats business. \nPROGRAMME PREVISIONNEL \n\n08h30 Enregistrement\n09h00 Accueil Café\n09h30 Propos d’accueil et ouverture\n09h50 Opportunités d’affaires aux Etats Unis et présentation de Select USA\n10h10 Opportunités dans les Etats Alabama\, Georgia\, Illinois\, Iowa\, New Mexico\, Ohio\, South Carolina\, Virginia\, New York\, Florida\, Indiana\, Louisiana\, Texas\, West Virginia\, Connecticut\n10h20 S’implanter aux USA : avantages et conseils légaux et fiscaux\n11h30 Expériences d’entreprises ayant fait le choix des Etats-Unis\n12h15 Conclusions\n\nEn présence notamment de : \n\n Christopher WEISSBERG\, Député des Français de l’étranger\nBernard KLEYNHOFF\, Président de Rising Sud\nPhilippe RENAUDI\, Président de la CCIR\nPierre IPPOLITO\, Président de l’UPE06\nElodie BLONDI\, Co-présidente de la FTCA\nXavier GESNOUIN\, Président du Comité Régional Provence Alpes Côte d’Azur Corse CCE\n\nSuivi d’un cocktail déjeunatoire et networking de 12h30 à 14h30 \nCette manifestation s’adresse en particulier aux entreprises qui \n\nenvisagent de s’implanter aux États-Unis dans les 2 à 5 prochaines années.\nont décidé de s’implanter aux États-Unis\, même si l’Etat d’implantation est toujours en cours de réflexion ;\nsont déjà présentes aux États-Unis\, souhaitent se développer et s’informer sur d’autres États ou lieux adaptés à leurs marchés.\n\nPour participer à cette Rencontre d’affaires\, INSCRIPTION OBLIGATOIRE : France SelectUSA Economic Investment Mission – March 2024 (trade.gov) \n\nRETOUR SUR LE PROGRAMME\nSelect USA est un programme du gouvernement américain qui a pour mission de favoriser les implantations et investissements aux États-Unis. Ce programme accompagne les entreprises de toutes tailles pour disposer des bonnes informations propices à leur développement aux Etats Unis et se connecter avec les bons interlocuteurs localement et toute en fournissant une information sur le système de réglementation fédéral. \n\nLa venue de la délégation Select USA en Région Sud le 15 mars intervient en amont du « Select USA Investment Summit » les 23 et 24 juin 2024\, Maryland\, évènement majeur de l’investissement et des affaires aux Etats-Unis. Pour candidater et vous inscrire : Investment Summit Application. \nInformation complémentaire : pierre.caligiuri@paca.cci.fr
URL:https://www.frenchtechcotedazur.fr/event/6459/
ATTACH;FMTTYPE=image/png:https://www.frenchtechcotedazur.fr/wp-content/uploads/2024/02/Capture-decran-2024-02-29-100003.png
END:VEVENT
BEGIN:VEVENT
DTSTART;TZID=Europe/Paris:20240319T170000
DTEND;TZID=Europe/Paris:20240319T210000
DTSTAMP:20260422T125407
CREATED:20240228T112238Z
LAST-MODIFIED:20240228T112357Z
UID:6451-1710867600-1710882000@www.frenchtechcotedazur.fr
SUMMARY:Finale - Challenge Jeunes Pousses - Telecom Valley x FTCA
DESCRIPTION:Telecom Valley\, en partenariat avec La French Tech Côte d’Azur vous invite à la Finale du Challenge Jeunes Pousses\, le rendez-vous annuel de la création de startups étudiante sur le territoire le : \n\n\n\n\n\n\n\n\n\n\n\n\nMardi 19 Mars 2024 à 17h\n📍 Université Côte d’Azur – Campus des Lucioles\, 1645 Rte des Lucioles\, 06410 Biot –  Plan d’accès\nInscription gratuite et obligatoire avant le 18 mars : INSCRIPTION\n\n\n\n\n\n\n\n\n\n\n\n\nProgramme\n17H00 : Accueil et discours de bienvenue par Max CHAZARRA  et Jean-François CARRASCO\, membres du Comité de Pilotage du Challenge Jeunes Pousses \n17H20 : Début des présentations \nPour chaque équipe : 15 minutes de présentation + 10 minutes de questions du jury \n19H00 : Fin des présentations – Délibération des membres du Jury \n19H20 : Annonce des résultats  \n19h30 : Cocktail de clôture \n\n\n\n\n\n\n\n\n\nINFORMATION PRATIQUE\n> L’inscription est obligatoire  \n> En cas de désistement\, merci de vous désinscrire directement depuis le lien fourni à cet effet dans l’e-mail de confirmation d’inscription\, reçu de la part du site Weezevent.
URL:https://www.frenchtechcotedazur.fr/event/finale-challenge-jeunes-pousses-telecom-valley-x-ftca/
ATTACH;FMTTYPE=image/png:https://www.frenchtechcotedazur.fr/wp-content/uploads/2024/02/Capture-decran-2024-02-28-122115.png
END:VEVENT
BEGIN:VEVENT
DTSTART;TZID=Europe/Paris:20240320T143000
DTEND;TZID=Europe/Paris:20240320T160000
DTSTAMP:20260422T125407
CREATED:20230906T085430Z
LAST-MODIFIED:20240123T084529Z
UID:6317-1710945000-1710950400@www.frenchtechcotedazur.fr
SUMMARY:Atelier Orange Digital Center - Éviter les arnaques en ligne
DESCRIPTION:Parlez-en à vos proches et inscrivez-vous directement au Totem de la French Tech Côte d’Azur\, 9 rue d’Italie à Nice ou bien EN CLIQUANT ICI. \n 
URL:https://www.frenchtechcotedazur.fr/event/atelier-orange-digital-center-eviter-les-arnaques-en-ligne-2/
ATTACH;FMTTYPE=image/png:https://www.frenchtechcotedazur.fr/wp-content/uploads/2023/09/4-e1705999484218.png
END:VEVENT
BEGIN:VEVENT
DTSTART;TZID=Europe/Paris:20240321T120000
DTEND;TZID=Europe/Paris:20240321T140000
DTSTAMP:20260422T125407
CREATED:20231108T144201Z
LAST-MODIFIED:20240207T095237Z
UID:6335-1711022400-1711029600@www.frenchtechcotedazur.fr
SUMMARY:PIC-MIXTE par Nice Start(s) Up
DESCRIPTION:Nice Strat(s) Up vous invite à son événement co-organisé en partenariat avec Bouge ta boite. \n🗓️ Jeudi 21 mars 2024 à partir de 12h \n📍 Sundesk Nice Arenas\, 4 Chem. de l’Arénas\, 06200 Nice \nVous pourrez découvrir autour d’un déjeuner convivial en quoi la mixité est un levier de performance pour votre entreprise et rencontrer un grand nombre d’entrepreneurs et personnes inspirantes qui contribuent au rayonnement de notre territoire. \nAu programme: \n\n12h30: Mot d’accueil de Sundesk et des élues\n12h40 : Table ronde inspirante avec témoignages de :\nJulie BODIN\, Directrice Générale Bouge ta Boîte & Bouge ton Groupe\nDelphine GARCIA\, Fondatrice de Delphea\, co-associée de Rise partners et Trésorière Nice Start(s) Up\nDelphine FANTOBA\, Responsable marché des Professionnels & TPE pour la région Sud-Est chez BNP Paribas\nJean-Charles CHEMIN\, CEO Legapass & membre au CA FTCA et NSU\nMallaury LOPEZ\, triathlète et entrepreneure La Roda French Riviera\nKarine ARNEODO\, Fondatrice & dirigeante Comisk Coaching\n13h15 : Networking ludique animé par nos intervenants\n\nMadame Maty Diouf Adjointe au Maire de Nice déléguée au Droit des femmes & Magali Altounian Adjointe au Maire de Nice déléguée au rayonnement de la ville et aux institutions européennes seront également présentes lors de cet événement. \nInscrivez-vous en cliquant ici * \n*Événement payant\, code réduction disponible pour les adhérents Nice Start(s) Up et French Tech Côte d’Azur sur demande à l’adresse coordination@nicestartsup.fr
URL:https://www.frenchtechcotedazur.fr/event/pic-mixte-par-nice-starts-up/
ATTACH;FMTTYPE=image/png:https://www.frenchtechcotedazur.fr/wp-content/uploads/2023/11/Capture-decran-2024-02-07-a-10.50.02-e1707299434464.png
END:VEVENT
BEGIN:VEVENT
DTSTART;TZID=Europe/Paris:20240321T190000
DTEND;TZID=Europe/Paris:20240321T220000
DTSTAMP:20260422T125407
CREATED:20240229T111947Z
LAST-MODIFIED:20240229T111947Z
UID:6466-1711047600-1711058400@www.frenchtechcotedazur.fr
SUMMARY:Afterwork Spécial Raclette
DESCRIPTION:🧀🍷🌟 Rejoignez Cannes Is Up pour un Afterwork Spécial Raclette! 🌟🍷🧀 \nEnvie de terminer l’hiver avec une bonne dose de convivialité et de réseautage ? 🎉 \nCannes Is Up vous invite  pour une soirée placée sous le signe de la chaleur et du fromage. 🧀✨ \nVotre inscription comprend : \n\nUne coupe de bienvenue\nRaclette à volonté – Fromage fondant accompagné de pommes de terre\, légumes\, et charcuterie …\n\nAttention\, les places sont limitées ! 📆✨ \n\n📌 Date: Jeudi 21 Mars \n🕕 Heure: 19h00\n📍 Lieu: OKKO Hotel\, Cannes \n\nInscription : https://www.helloasso.com/associations/cannes-is-up/evenements/afterwork-soiree-raclette
URL:https://www.frenchtechcotedazur.fr/event/6466/
ATTACH;FMTTYPE=image/png:https://www.frenchtechcotedazur.fr/wp-content/uploads/2024/02/AfterWork-Raclette.png
END:VEVENT
BEGIN:VEVENT
DTSTART;TZID=Europe/Paris:20240326T190000
DTEND;TZID=Europe/Paris:20240326T210000
DTSTAMP:20260422T125407
CREATED:20231108T144201Z
LAST-MODIFIED:20240301T151530Z
UID:6469-1711479600-1711486800@www.frenchtechcotedazur.fr
SUMMARY:Afterwork "L’Art et l’Innovation" par Nice Start(s) Up
DESCRIPTION:Nice Strat(s) Up vous invite à son événement co-organisé en partenariat avec Diapo.io. \n🗓️ Jeudi 26 mars 2024 de 19h à 21h \n📍 Galerie Ephémère\, 62 Avenue Pierre de Coubertin\, 06200 Nice \nVenez découvrir comment\, de la toile en lin aux écrans numériques\, l’art du collage continue de capturer l’essence de notre époque\, témoignant de la constante évolution de l’expression artistique à travers les âges ! \nNice Start(s) Up profitera de ce moment pour  vous présenter leurs membres qui évoluent dans le domaine de l’Industrie Culturelle et Créative dont les écoles Isart & E-ArtSup. \nUn cocktail sera servi à l’issue pour un moment de networking ! \nInscrivez-vous en cliquant ici
URL:https://www.frenchtechcotedazur.fr/event/afterwork-lart-et-linnovation-par-nice-starts-up/
ATTACH;FMTTYPE=image/png:https://www.frenchtechcotedazur.fr/wp-content/uploads/2023/11/publi-insta-Afterwork-NSU-diapo.io_-e1709306087758.png
END:VEVENT
END:VCALENDAR