BEGIN:VCALENDAR
VERSION:2.0
PRODID:-//French Tech Côte d&#039;Azur - ECPv6.15.20//NONSGML v1.0//EN
CALSCALE:GREGORIAN
METHOD:PUBLISH
X-WR-CALNAME:French Tech Côte d&#039;Azur
X-ORIGINAL-URL:https://www.frenchtechcotedazur.fr
X-WR-CALDESC:Évènements pour French Tech Côte d&#039;Azur
REFRESH-INTERVAL;VALUE=DURATION:PT1H
X-Robots-Tag:noindex
X-PUBLISHED-TTL:PT1H
BEGIN:VTIMEZONE
TZID:Europe/Paris
BEGIN:DAYLIGHT
TZOFFSETFROM:+0100
TZOFFSETTO:+0200
TZNAME:CEST
DTSTART:20230326T010000
END:DAYLIGHT
BEGIN:STANDARD
TZOFFSETFROM:+0200
TZOFFSETTO:+0100
TZNAME:CET
DTSTART:20231029T010000
END:STANDARD
BEGIN:DAYLIGHT
TZOFFSETFROM:+0100
TZOFFSETTO:+0200
TZNAME:CEST
DTSTART:20240331T010000
END:DAYLIGHT
BEGIN:STANDARD
TZOFFSETFROM:+0200
TZOFFSETTO:+0100
TZNAME:CET
DTSTART:20241027T010000
END:STANDARD
BEGIN:DAYLIGHT
TZOFFSETFROM:+0100
TZOFFSETTO:+0200
TZNAME:CEST
DTSTART:20250330T010000
END:DAYLIGHT
BEGIN:STANDARD
TZOFFSETFROM:+0200
TZOFFSETTO:+0100
TZNAME:CET
DTSTART:20251026T010000
END:STANDARD
END:VTIMEZONE
BEGIN:VEVENT
DTSTART;TZID=Europe/Paris:20240208T090000
DTEND;TZID=Europe/Paris:20240210T170000
DTSTAMP:20260422T141757
CREATED:20240130T162313Z
LAST-MODIFIED:20240130T162813Z
UID:6347-1707382800-1707584400@www.frenchtechcotedazur.fr
SUMMARY:La French Tech Côte d'Azur sera présente au WAICF 2024
DESCRIPTION:La French Tech Côte d’Azur est heureuse de vous annoncer sa présence au WAICF 2024  :\n\n📅 Les 8 et 9 février 2024\n📍 Palais des Festivals et des Congrès de Cannes\, La Croisette\, 06414 CANNES\n\n  \nOu nous trouver ?\n\n🗨️ Au Stand B40 les 8 et 9 février\n🎤 Lors de la Conférence “France 2030 et IA” le 9 février à 11h30\n\n🤖 Cet événement international dédié à l’intelligence artificielle (IA) rassemble des organisations et des individus pour explorer la façon dont l‘IA façonnera l’avenir des entreprises et de notre société \nL’occasion de vous mettre en contact avec des acteurs de notre écosystème spécialisé dans le domaine ! Nous avons hâte de vous y retrouver ! 🗨️ \nPrenez votre pass juste ici 
URL:https://www.frenchtechcotedazur.fr/event/la-french-tech-cote-dazur-sera-presente-au-waicf-2024/
ATTACH;FMTTYPE=image/jpeg:https://www.frenchtechcotedazur.fr/wp-content/uploads/2024/01/Design-sans-titre-6-e1706632066923.jpg
END:VEVENT
BEGIN:VEVENT
DTSTART;TZID=Europe/Paris:20240215T110000
DTEND;TZID=Europe/Paris:20240215T140000
DTSTAMP:20260422T141757
CREATED:20240130T154130Z
LAST-MODIFIED:20240130T154130Z
UID:6336-1707994800-1708005600@www.frenchtechcotedazur.fr
SUMMARY:Du MVP au Produit : les pièges à éviter
DESCRIPTION:Si vous vous efforcez de créer un produit réussi\, vous ne voudrez pas manquer cette occasion de découvrir les erreurs courantes à éviter et les bonnes pratiques.\nVenez écouter des experts partager leurs expériences et obtenir des conseils précieux pour développer votre produit avec succès. \nInscrivez-vous maintenant et prenez une longueur d’avance dans votre aventure entrepreneuriale ! \n  \n\n📅 Jeudi 15 Février\n📍Le Village by CA\, Rue Claude Daunesse\, 06560 Valbonne\n\nUn événement organisé par Le Village by CA PCA en partenariat avec Telecom Valley\, La French Tech Côte d’azur et le Club des Entrepreneurs du Pays de Grasse. \nLe Programme : \nAccueil dès 11h00 \nIntroduction : Le cycle de vie du produit \nConférence 1 : Comment assurer et mesurer de la qualité de son produit ?\nEric Gavaldo\, CEO de XQual et Julien Van Quackebeke\, CEO de ALL4TEST \nConférence 2 : Comment assurer et mesurer la sécurité et la conformité de son produit ?\nJean Michel Brossard\, CEO de Moabi.com. \nConférence 3 : Comment créer un produit évolutif et scalable ?\nDenis Carniel\, CTO de iPepper \nConférence 4 : Les avantages et erreurs fréquentes en cas d’internalisation / externalisation de son développement et son test qualité ? \n– Conclusion et cocktail networking à 12h45. \nContact : aurelien.lallemant@levillagebyca.com \nPour s’inscrire\, c’est ici \n  \n*Note pratique pour le stationnement : Vous pouvez utiliser le parking situé à côté de la place Sophie Lafitte (à 200 m du Village) ou celui juste au-dessus si vous trouvez des places disponibles. Suivez l’itinéraire pour vous rendre au Village ici
URL:https://www.frenchtechcotedazur.fr/event/du-mvp-au-produit-les-pieges-a-eviter-by-le-village-by-ca-provence-cote-dazur/
ATTACH;FMTTYPE=image/png:https://www.frenchtechcotedazur.fr/wp-content/uploads/2024/01/Village-by-CA.png
END:VEVENT
BEGIN:VEVENT
DTSTART;TZID=Europe/Paris:20240220T190000
DTEND;TZID=Europe/Paris:20240220T220000
DTSTAMP:20260422T141757
CREATED:20240213T135602Z
LAST-MODIFIED:20240213T135708Z
UID:6383-1708455600-1708466400@www.frenchtechcotedazur.fr
SUMMARY:Ap€uro #6  Médiation en entreprise et médiation de projets par Nice Start(s) Up
DESCRIPTION:Nice Start(s) Up organise la sixième édition de leur Ap€uro sur le thème de la Médiation en entreprise et médiation de projets en partenariat avec le Cabinet Talliance-Avocats qui se tiendra: \n📅 Mardi 20 février à 19h (accueil à partir de 18h30) \n📌 TOTEM French Tech Côte d’Azur\, 9 rue d’Italie Nice \nMaître Olivier LIPERINI\,  animera une conférence sur la médiation en entreprise et médiation de projets afin de te donner des conseils utiles pour ta startup sur la restructuration\, la mise en place de partenariats\, les levées de fonds\, etc. \nUn temps d’échange sera proposé à l’issue pour ensuite se réunir autour d’un verre ! \nEvénement gratuit sur inscription: lien d’inscription
URL:https://www.frenchtechcotedazur.fr/event/6383/
ATTACH;FMTTYPE=image/jpeg:https://www.frenchtechcotedazur.fr/wp-content/uploads/2024/02/APEURO-6.jpg
END:VEVENT
BEGIN:VEVENT
DTSTART;TZID=Europe/Paris:20240221T143000
DTEND;TZID=Europe/Paris:20240221T160000
DTSTAMP:20260422T141757
CREATED:20230906T085430Z
LAST-MODIFIED:20240119T101816Z
UID:6282-1708525800-1708531200@www.frenchtechcotedazur.fr
SUMMARY:Atelier Orange Digital Center - Sécuriser son smartphone
DESCRIPTION:Parlez-en à vos proches et inscrivez-vous directement au Totem de la French Tech Côte d’Azur\, 9 rue d’Italie à Nice ou bien EN CLIQUANT ICI. \n 
URL:https://www.frenchtechcotedazur.fr/event/atelier-orange-digital-center-securiser-son-smartphone-2/
ATTACH;FMTTYPE=image/png:https://www.frenchtechcotedazur.fr/wp-content/uploads/2023/09/2-1-e1705659480540.png
END:VEVENT
BEGIN:VEVENT
DTSTART;TZID=Europe/Paris:20240222T090000
DTEND;TZID=Europe/Paris:20240222T160000
DTSTAMP:20260422T141757
CREATED:20240213T140909Z
LAST-MODIFIED:20240213T142318Z
UID:6388-1708592400-1708617600@www.frenchtechcotedazur.fr
SUMMARY:Task Force International par Club CIC International en collaboration avec UPE06 et La French Tech Côte d’Azur
DESCRIPTION:Rendez-vous le jeudi 22 février de 9 h à 16h dans les locaux UPE06 pour une journée dédiée au développement international de votre activité. \nOrganisée par Club CIC International\, en collaboration avec l’UPE06 et la French Tech Côte d’Azur. \nProgramme : \n\n9h : Accueil café\, rencontre et échanges\n10h : Opportunités d’affaires avec les représentantes CIC en Espagne et en Allemagne\n11h : Point de conjoncture « Les priorités changent » avec Adrien Régnier-Laurent\, économiste CIC :\n\n« La bataille contre l’inflation progresse\, au prix d’une croissance ralentie : quelles sont les perspectives de rebond économique pour 2024\, et quelles seront les conséquences sur les taux\, le change\, et les actifs risqués ? » \n\n12h à 14h : Cocktail déjeunatoire offert par le Club CIC International\n14h à 16h : Entretiens individuels en présentiel avec l’Allemagne et l’Espagne\, pour vous accompagner dans votre développement à l’international.\n\nDes entretiens pourront avoir lieu en visio de 9h à 16h avec le reste du Monde. \nPour vous inscrire\, cliquez-ici \nAdresse : 273 Avenue Georges Guynemer\, Cap Var – C2 –. 06 700 – Saint-Laurent-du-Var.
URL:https://www.frenchtechcotedazur.fr/event/task-force-international-par-club-cic-international-en-collaboration-avec-upe06-et-la-french-tech-cote-dazur/
ATTACH;FMTTYPE=image/jpeg:https://www.frenchtechcotedazur.fr/wp-content/uploads/2024/02/1707237766160.jpg
END:VEVENT
BEGIN:VEVENT
DTSTART;TZID=Europe/Paris:20240229T090000
DTEND;TZID=Europe/Paris:20240229T170000
DTSTAMP:20260422T141757
CREATED:20230906T085430Z
LAST-MODIFIED:20240214T094434Z
UID:6399-1709197200-1709226000@www.frenchtechcotedazur.fr
SUMMARY:Learning Days par Cannes Is Up
DESCRIPTION:Cannes Is Up vous invite à sa journée Learning Days « S’engager dans la Transition Écologique »\, co-organisé en partenariat avec la la Communauté d’Agglomération Cannes Lérins. \n🗓️ Jeudi 29 février de 9h00 à 17h00  \n📍 Campus Georges Méliès\, 214 Av. Francis Tonner\, 06150 Cannes \nCette formation est destinée aux entreprises souhaitant s’engager dans une démarche de transition écologique. En présence de Stephanie Michelot\, Co-fondatrice d’ISTEA CONSEIL et Léna Felderhoff\, Consultante\, Formatrice et Conférencière Mission Eco Humans\, cette journée vous permettra de sensibiliser vos collaborateurs aux enjeux écologiques actuels\, de comprendre les impacts de votre activité sur le climat\, et d’examiner des pistes d’actions concrètes et cohérentes avec vos valeurs. \nInscrivez-vous en cliquant ici
URL:https://www.frenchtechcotedazur.fr/event/learning-days-par-cannes-is-up/
ATTACH;FMTTYPE=image/png:https://www.frenchtechcotedazur.fr/wp-content/uploads/2023/09/Copie-de-LEARNING-DAYS-e1707903830152.png
END:VEVENT
END:VCALENDAR