BEGIN:VCALENDAR
VERSION:2.0
PRODID:-//French Tech Côte d&#039;Azur - ECPv6.15.20//NONSGML v1.0//EN
CALSCALE:GREGORIAN
METHOD:PUBLISH
X-WR-CALNAME:French Tech Côte d&#039;Azur
X-ORIGINAL-URL:https://www.frenchtechcotedazur.fr
X-WR-CALDESC:Évènements pour French Tech Côte d&#039;Azur
REFRESH-INTERVAL;VALUE=DURATION:PT1H
X-Robots-Tag:noindex
X-PUBLISHED-TTL:PT1H
BEGIN:VTIMEZONE
TZID:Europe/Paris
BEGIN:DAYLIGHT
TZOFFSETFROM:+0100
TZOFFSETTO:+0200
TZNAME:CEST
DTSTART:20220327T010000
END:DAYLIGHT
BEGIN:STANDARD
TZOFFSETFROM:+0200
TZOFFSETTO:+0100
TZNAME:CET
DTSTART:20221030T010000
END:STANDARD
BEGIN:DAYLIGHT
TZOFFSETFROM:+0100
TZOFFSETTO:+0200
TZNAME:CEST
DTSTART:20230326T010000
END:DAYLIGHT
BEGIN:STANDARD
TZOFFSETFROM:+0200
TZOFFSETTO:+0100
TZNAME:CET
DTSTART:20231029T010000
END:STANDARD
BEGIN:DAYLIGHT
TZOFFSETFROM:+0100
TZOFFSETTO:+0200
TZNAME:CEST
DTSTART:20240331T010000
END:DAYLIGHT
BEGIN:STANDARD
TZOFFSETFROM:+0200
TZOFFSETTO:+0100
TZNAME:CET
DTSTART:20241027T010000
END:STANDARD
END:VTIMEZONE
BEGIN:VEVENT
DTSTART;TZID=Europe/Paris:20231205T183000
DTEND;TZID=Europe/Paris:20231205T203000
DTSTAMP:20260422T183304
CREATED:20231117T153144Z
LAST-MODIFIED:20231117T154726Z
UID:5852-1701801000-1701808200@www.frenchtechcotedazur.fr
SUMMARY:"Cybersécurité\, se prémunir\, anticiper et réagir - en pratique\, je commence par quoi ?" by TV et CEPG
DESCRIPTION:Afterwork organisé avec Telecom Valley et Club des Entrepreneurs du Pays de Grasse – Grasse à la Tech : « Cybersécurité\, se prémunir\, anticiper et réagir – en pratique\, je commence par quoi ? » 🌐🚀 \nVous vous demandez pourquoi la #cybersécurité est cruciale ou comment l’intégrer dans vos processus d’entreprise ? Ne cherchez plus\, cet afterwork est fait pour vous ! \n📅  5 décembre de 18h30 à 19h30 \n📍 ACRI ST – 10 Avenue Nicolas Copernic\, 06130 Grasse \n🍸 Témoignages d’Experts\, échanges avec un Hacker… Suivi d’un cocktail dinatoire. \nDes experts dans le domaine partageront des conseils concrets pour anticiper les menaces et réagir efficacement face aux défis de la cybersécurité tout en vous apportant des process à mettre en place pour garantir une sécurité numérique au sein de votre entreprise. \n🎟️ Réservez votre place dès maintenant en cliquant ici   \n15€ pour les adhérents TV et CEPG \n18€ pour les non adhérents TV et CEPG
URL:https://www.frenchtechcotedazur.fr/event/5852/
ATTACH;FMTTYPE=image/jpeg:https://www.frenchtechcotedazur.fr/wp-content/uploads/2023/11/1700213766592.jpeg
END:VEVENT
BEGIN:VEVENT
DTSTART;TZID=Europe/Paris:20231206T143000
DTEND;TZID=Europe/Paris:20231206T160000
DTSTAMP:20260422T183304
CREATED:20230906T085430Z
LAST-MODIFIED:20231012T080413Z
UID:5031-1701873000-1701878400@www.frenchtechcotedazur.fr
SUMMARY:Atelier Orange Digital Center - Débuter avec son smartphone
DESCRIPTION:Parlez-en à vos proches et inscrivez-vous directement au Totem de la French Tech Côte d’Azur\, 9 rue d’Italie à Nice ou bien EN CLIQUANT ICI. \n 
URL:https://www.frenchtechcotedazur.fr/event/atelier-orange-digital-center-eviter-les-arnaques-en-ligne/
ATTACH;FMTTYPE=image/jpeg:https://www.frenchtechcotedazur.fr/wp-content/uploads/2023/09/MERCREDI-06-DECEMBRE-2023-DE-14H30-A-16H-2-e1697097843461.jpg
END:VEVENT
BEGIN:VEVENT
DTSTART;TZID=Europe/Paris:20231206T160000
DTEND;TZID=Europe/Paris:20231206T173000
DTSTAMP:20260422T183304
CREATED:20231113T155124Z
LAST-MODIFIED:20231124T094800Z
UID:5830-1701878400-1701883800@www.frenchtechcotedazur.fr
SUMMARY:Mieux communiquer avec ses clients par Orange
DESCRIPTION:Venez participer à notre atelier numérique « 𝐌𝐢𝐞𝐮𝐱 𝐜𝐨𝐦𝐦𝐮𝐧𝐢𝐪𝐮𝐞𝐫 𝐚𝐯𝐞𝐜 𝐬𝐞𝐬 𝐜𝐥𝐢𝐞𝐧𝐭𝐬 » en collaboration avec Orange 🤳 \n🗓️ Mercredi 6 décembre  2023 de 16h à 17h30 \n📍Totem de la French Tech Côte d’Azur\, 9 rue d’Italie\, 06000 Nice \nPour assister à cet atelier\, il vous suffit de remplir le formulaire à ce lien  👉 https://docs.google.com/forms/d/e/1FAIpQLSfLW7iJHLh2PlNW7t94C1grrcZZOrm01dEHpLCqaY5rinPSeQ/viewform
URL:https://www.frenchtechcotedazur.fr/event/mieux-communiquer-avec-ses-clients-par-orange/
ATTACH;FMTTYPE=image/png:https://www.frenchtechcotedazur.fr/wp-content/uploads/2023/11/Linkedin-atelier-numérique-1-e1700819259977.png
END:VEVENT
BEGIN:VEVENT
DTSTART;TZID=Europe/Paris:20231207T090000
DTEND;TZID=Europe/Paris:20231207T180000
DTSTAMP:20260422T183304
CREATED:20230906T085405Z
LAST-MODIFIED:20231027T104654Z
UID:5533-1701939600-1701972000@www.frenchtechcotedazur.fr
SUMMARY:Le salon des dirigeants d'entreprise par Les Entreprenariales
DESCRIPTION:Venez rencontrer des acteurs de l’économie locale pour vous aider à la gestion et à la création de votre entreprise.\nCe salon vous permettra de trouver des solutions concrètes à vos problématiques de développement et de management. \n\nQuand : Le jeudi 7 décembre 2023 de 9 heures à 18 heures\nLieu : Allianz Rivera – Stade de Nice\n\nLe salon des dirigeants d’entreprise des Entreprenariales c’est : 2000 m² d’exposition\, de conférences\, tables rondes et d’animations\, sur deux niveaux… \nPour plus d’informations\, il vous suffit de cliquer ici \n  \n 
URL:https://www.frenchtechcotedazur.fr/event/le-salon-des-dirigeants-dentreprise-par-les-entreprenariales/
ATTACH;FMTTYPE=image/jpeg:https://www.frenchtechcotedazur.fr/wp-content/uploads/2023/09/BANNIERE-1024X229-2022-150DPI-1-e1698402777286.jpg
END:VEVENT
BEGIN:VEVENT
DTSTART;TZID=Europe/Paris:20231207T100000
DTEND;TZID=Europe/Paris:20231207T170000
DTSTAMP:20260422T183304
CREATED:20231113T155124Z
LAST-MODIFIED:20231124T151743Z
UID:6013-1701943200-1701968400@www.frenchtechcotedazur.fr
SUMMARY:Venez essayer le nouveau véhicule électrique de notre partenaire Kia - GROUPE CAVALLARI
DESCRIPTION:Notre partenaire Kia – GROUPE CAVALLARI\, vous invite à découvrir et essayer le meilleur du savoir-faire technologique de la marque Kia avec leur nouvelle voiture Kia EV9 100% électrique : \n🗓️ Jeudi 7 Décembre 2023 de 10h à 17h \n📍Musée Nationale du Sport au Stade Allianz Riviera\, 6 Allée Camille MUFFAT 06200 NICE \nInscription obligatoire en cliquant ici (places limitées)
URL:https://www.frenchtechcotedazur.fr/event/venez-essayez-le-nouveau-vehicule-electrique-de-notre-partenaire-kia-groupe-cavallari/
ATTACH;FMTTYPE=image/jpeg:https://www.frenchtechcotedazur.fr/wp-content/uploads/2023/11/23e0a395-d17f-4f5f-9a2a-46cab7928454-e1700819194910.jpg
END:VEVENT
BEGIN:VEVENT
DTSTART;TZID=Europe/Paris:20231208T180000
DTEND;TZID=Europe/Paris:20231208T220000
DTSTAMP:20260422T183304
CREATED:20231115T133654Z
LAST-MODIFIED:20231115T133856Z
UID:5834-1702058400-1702072800@www.frenchtechcotedazur.fr
SUMMARY:Soirée networking by Telecom Valley
DESCRIPTION:Telecom Valley convie ses adhérents et partenaires à sa soirée networking de fin d’année !\n\n📆 Vendredi 8 décembre 2023 à 18h\n📍 Palais des Victoires : 2 Avenue Maurice Chevalier – 06150 CANNES \n\n\n\nDans le cadre de son partenariat avec le célèbre club de volley azuréenn RC Cannes\, multichampion de France et de la Ligue des champions\, Telecom Valley organise une soirée en présence des joueuses de l’équipe professionnelle et de sportifs de haut niveau le vendredi 8 décembre au Palais des Victoires de Cannes. \nL’occasion également de faire le point sur les actions menées en 2023 par Telecom Valley et celles à venir en 2024. \n\n\n\n\nAu programme\n\n18H00 : Accueil des participants\n\n\n\n\n\n\n18H15 : Alain BERNARD et Redouane ASLOUM vous partageront leur expérience sur :\nComment travailler sa force mentale pour gérer les échecs et atteindre ses objectifs ?\nComment la pratique du sport peut devenir un atout vital pour un manager ou un entrepreneur ?\n\n\n\n\n\n\n19H00 : Présentation des sponsors et mots de Teresa COLOMBI & Julien HOLTZER\, Co-présidents de Telecom Valley\n\n\n\n\n\n\n19H30 : Cocktail\, Networking\, Animation\, Musique ! 🥂🎵 🎆🎯\n\n\n\n\n\nEn résumé\n🙋‍♂️des rencontres\n🤝 du business\n🥂 un cocktail \nParticipation payante* \n10€ par personne pour les adhérents Telecom Valley\n25€ par personne pour les partenaires Telecom Valley\n50€ par personne pour les non adhérents \n\nInscription en cliquant ici avant le 6 décembre \n\n\n\n*Dans le cadre de leur partenariat\, le RC Cannes a le plaisir d’offrir 2 entrées pour le match du RC Cannes du 9 décembre pour chaque inscrit 
URL:https://www.frenchtechcotedazur.fr/event/soiree-networking-by-telecom-valley/
ATTACH;FMTTYPE=image/png:https://www.frenchtechcotedazur.fr/wp-content/uploads/2023/11/Soiree-fin-dannee-TV-2023.png
END:VEVENT
BEGIN:VEVENT
DTSTART;TZID=Europe/Paris:20231214T090000
DTEND;TZID=Europe/Paris:20231214T170000
DTSTAMP:20260422T183304
CREATED:20231121T135809Z
LAST-MODIFIED:20231121T135809Z
UID:5864-1702544400-1702573200@www.frenchtechcotedazur.fr
SUMMARY:Learning Days 2 : Eloquence : Je communique avec impact par Cannes Is Up
DESCRIPTION:Après un succès fulgurant lors de la première édition\, Cannes Is Up et la Communauté d’Agglomération Cannes Lérins sont heureux de vous convier à la seconde édition du Learning Days animé par Anne TOPENOT autour de la thématique : Éloquence : Je communique avec impact 2 👊🏻 \n⚡️ Jeudi 14 décembre de 9h00 à 17h00\n📍 Campus George Méliès\, Cité d’entreprise\, 06150 Cannes\n🥗/🚗 Repas pris en charge – Parking gratuit \nPour cette seconde édition\, ce n’est pas un mais deux intervenants qui animeront cette journée de formation : Anne Topenot conférencière\, formatrice et coach en communication sera accompagnée de Aurélien Chapeau-Theric\, coach en performances mentales\, spécialisé en Neurosciences (étude du système nerveux). \nCet accompagnement\, sur une journée\, vous aidera à approfondir votre impact oratoire lors de vos conférences\, présentations et interactions avec un public en présentiel ou distanciel.😉 \nTout deux vous apporteront un peu de théorie et beaucoup de pratique pour développer confiance\, aisance\, compétence et influence dans votre cercle personnel et professionnel.🤝 \nUne journée placée sous le signe d’Oser : Oser enfin sortir de notre zone de confort et faire de cet exercice un véritable art et un allié.🎤🚀 \nToutes les informations sur la formation ainsi que l’inscription juste-ici 👉🏻 Inscription
URL:https://www.frenchtechcotedazur.fr/event/learning-days-2-eloquence-je-communique-avec-impact-par-cannes-is-up/
ATTACH;FMTTYPE=image/jpeg:https://www.frenchtechcotedazur.fr/wp-content/uploads/2023/11/WhatsApp-Image-2023-11-20-at-11.27.26.jpeg
END:VEVENT
BEGIN:VEVENT
DTSTART;TZID=Europe/Paris:20231214T183000
DTEND;TZID=Europe/Paris:20231214T220000
DTSTAMP:20260422T183304
CREATED:20231121T140736Z
LAST-MODIFIED:20231121T141931Z
UID:5870-1702578600-1702591200@www.frenchtechcotedazur.fr
SUMMARY:Welcome Christmas Party par Cannes Is Up
DESCRIPTION:Bienvenue au Noël de Cannes Is Up ! 🌟 \nVous êtes conviés à leur soirée de Noël qui se déroulera au marché de Noël de Cannes le jeudi 14 décembre 2023 à 18h30. 🎄 \nAu programme\, des vins chauds délicieux 🍷\, des moments d’échange chaleureux 🗣️\, et leur incontournable concours de pull moche de Noël.✨ \nEnfilez votre pull moche de Noël et tentez de remporter 2 places pour le DDA7 ⭐️ \n\n📆 Date : jeudi 14 décembre 2023\n🕕 Heure : 18h30\n📍 Lieu : Marché de Noël de Cannes – Allées de la Liberté 06400 Cannes\n\nInscription obligatoire 👉🏻 Cliquez ici
URL:https://www.frenchtechcotedazur.fr/event/welcome-christmas-party-par-cannes-is-up/
ATTACH;FMTTYPE=image/jpeg:https://www.frenchtechcotedazur.fr/wp-content/uploads/2023/11/WhatsApp-Image-2023-11-20-at-11.27.26-1-e1700575547967.jpeg
END:VEVENT
BEGIN:VEVENT
DTSTART;TZID=Europe/Paris:20231218T180000
DTEND;TZID=Europe/Paris:20231218T200000
DTSTAMP:20260422T183304
CREATED:20231113T155124Z
LAST-MODIFIED:20231124T102531Z
UID:6019-1702922400-1702929600@www.frenchtechcotedazur.fr
SUMMARY:Inauguration du Campus Rocket School Nice
DESCRIPTION:Rockey School vous invite à l’inauguration de leur nouveau campus où vous pourrez rencontrer des experts de l’acquisition digitale et pourquoi pas rencontrer vos futurs commerciaux : \n🗓 Lundi 18 décembre 2023 de 18h à 20h\n📍 Hub de l’innovation\, 61-63 avenue Simone Veil 06200 Nice \nLe campus a ouvert ses portes début novembre et s’occupe de former vos futurs Business developer. Qu’est qu’un Business developer ? C’est un véritable responsable commercial pour une entreprise\, il utilise des outils digitaux prospecter et générer du lead qualifié. \nInscription (gratuite) obligatoire en cliquant ici
URL:https://www.frenchtechcotedazur.fr/event/inauguration-du-campus-rocket-school-nice/
ATTACH;FMTTYPE=image/png:https://www.frenchtechcotedazur.fr/wp-content/uploads/2023/11/Invitation-Inauguration-Rocket-School-Nice-2023-e1700821523312.png
END:VEVENT
END:VCALENDAR