BEGIN:VCALENDAR
VERSION:2.0
PRODID:-//French Tech Côte d&#039;Azur - ECPv6.15.20//NONSGML v1.0//EN
CALSCALE:GREGORIAN
METHOD:PUBLISH
X-ORIGINAL-URL:https://www.frenchtechcotedazur.fr
X-WR-CALDESC:Évènements pour French Tech Côte d&#039;Azur
REFRESH-INTERVAL;VALUE=DURATION:PT1H
X-Robots-Tag:noindex
X-PUBLISHED-TTL:PT1H
BEGIN:VTIMEZONE
TZID:Europe/Paris
BEGIN:DAYLIGHT
TZOFFSETFROM:+0100
TZOFFSETTO:+0200
TZNAME:CEST
DTSTART:20220327T010000
END:DAYLIGHT
BEGIN:STANDARD
TZOFFSETFROM:+0200
TZOFFSETTO:+0100
TZNAME:CET
DTSTART:20221030T010000
END:STANDARD
BEGIN:DAYLIGHT
TZOFFSETFROM:+0100
TZOFFSETTO:+0200
TZNAME:CEST
DTSTART:20230326T010000
END:DAYLIGHT
BEGIN:STANDARD
TZOFFSETFROM:+0200
TZOFFSETTO:+0100
TZNAME:CET
DTSTART:20231029T010000
END:STANDARD
BEGIN:DAYLIGHT
TZOFFSETFROM:+0100
TZOFFSETTO:+0200
TZNAME:CEST
DTSTART:20240331T010000
END:DAYLIGHT
BEGIN:STANDARD
TZOFFSETFROM:+0200
TZOFFSETTO:+0100
TZNAME:CET
DTSTART:20241027T010000
END:STANDARD
END:VTIMEZONE
BEGIN:VEVENT
DTSTART;TZID=Europe/Paris:20231003T140000
DTEND;TZID=Europe/Paris:20231003T153000
DTSTAMP:20260422T200820
CREATED:20230919T140638Z
LAST-MODIFIED:20230920T074202Z
UID:5131-1696341600-1696347000@www.frenchtechcotedazur.fr
SUMMARY:Table Ronde : "Nouvelles compétences\, nouveaux horizons : pourquoi l'IA change la donne ? Impact et opportunités en Région Sud"
DESCRIPTION:« Objectif Alternance« .\n\nNous avons le plaisir de vous inviter à un événement exclusif le mardi 3 octobre à Startway Nice qui abordera le thème du Recrutement dans la Tech en Région Sud. \nCo-organisé par OpenClassrooms\, Le Wagon PACA et La French Tech Côte d’Azur\, cet événement s’articulera autour de deux temps forts : \n\nUne table ronde à 14h00 sur les « Nouvelles compétences\, nouveaux horizons : pourquoi l’IA change la donne ? Impact et opportunités en Région Sud » en présence de Mathieu Nebra\, co-fondateur d’OpenClassrooms et Mathieu Bonfils co-fondateur du Wagon PACA et Vice-Président French Tech Aix Marseille Région Sud.\n\n\nUn job dating alternance à partir de 15h30 : rencontre entre des talents tech de la région à la recherche d’une entreprise d’accueil pour leur alternance\n\nOpenClassrooms en partenariat avec Le Wagon va former une cinquantaine de futurs alternants\, avec l’aide de la Région\, en Data\, Intelligence Artificielle\, Cybersécurité et Développement d’applications. \nVous êtes une entreprise ? Venez rencontrer vos futurs collaborateurs en alternance lors cet événement ! Remplissez le formulaire de contact en cliquant ici pour être mis en relation avec les équipes OpenClassrooms ou inscrivez-vous directement à cet événement via EventBrite. \nVous êtes en reconversion et souhaitez démarrer un métier d’avenir en alternance dans le domaine de la data\, de la cybersécurité ou du web-développement ? Rejoignez-nous le 3 octobre prochain et accéder en amont à toutes les informations utiles ici \n\n\nInscriptions en cliquant ici  
URL:https://www.frenchtechcotedazur.fr/event/nouvelles-competences-nouveaux-horizons-pourquoi-lia-change-la-donne-impact-et-opportunites-en-region-sud/
ATTACH;FMTTYPE=image/png:https://www.frenchtechcotedazur.fr/wp-content/uploads/2023/09/Visuel-table-ronde-PACA-LW-_-OC-7.png
END:VEVENT
BEGIN:VEVENT
DTSTART;TZID=Europe/Paris:20231010T173000
DTEND;TZID=Europe/Paris:20231010T220000
DTSTAMP:20260422T200820
CREATED:20230920T083154Z
LAST-MODIFIED:20231004T152837Z
UID:5146-1696959000-1696975200@www.frenchtechcotedazur.fr
SUMMARY:Cocorico Day édition spéciale les 10 ans de la French Tech
DESCRIPTION:📢 Save the Date\nᴄᴏᴄᴏʀɪᴄᴏ ᴅᴀʏ ᴇ́ᴅɪᴛɪᴏɴ sᴘᴇ́ᴄɪᴀʟᴇ ʟᴇs 𝟷𝟶 ᴀɴs ᴅᴇ La French Tech 🐓 \nL’afterwork d’onboarding des nouveaux membres de La French Tech Côte d’Azur reviens ✨ \nUn programme palpitant vous attend et vous sera bientôt dévoilé… \n📅 Mardi 10 Octobre 2023 – accueil à partir de 17h30\n📍 Le lieu vous sera communiqué prochainement\, surprise 🤫 \nTout l’écosystème sera présent pour l’occasion ! \nNe ratez pas l’occasion\, inscrivez-vous ici ⤵\nhttps://lnkd.in/en_2FCxF
URL:https://www.frenchtechcotedazur.fr/event/cocorico-day-edition-speciale-les-10-ans-de-la-french-tech/
ATTACH;FMTTYPE=image/jpeg:https://www.frenchtechcotedazur.fr/wp-content/uploads/2023/09/COCORIODAY-e1696433265265.jpg
END:VEVENT
BEGIN:VEVENT
DTSTART;TZID=Europe/Paris:20231016T170000
DTEND;TZID=Europe/Paris:20231016T183000
DTSTAMP:20260422T200820
CREATED:20231011T085430Z
LAST-MODIFIED:20231011T132928Z
UID:5239-1697475600-1697481000@www.frenchtechcotedazur.fr
SUMMARY:Atelier Professionnel Orange Digital Center - Cybersécurité
DESCRIPTION:Venez découvrir notre atelier Orange « Protection des données et cybersécurité ». \nCet atelier gratuit\, animé par un expert Orange\, sera l’occasion pour vous de découvrir les bonnes pratiques à adopter pour protéger vos données en ligne . \n🗓 Lundi 16 octobre 2023 de 17h00 à 18h30 \n📍Lieu de l’atelier : French Tech Côte d’Azur\, 9 rue d’Italie\, 06000 Nice \nPour participer\, il suffit de remplir le formulaire d’inscription en cliquant ici. \n 
URL:https://www.frenchtechcotedazur.fr/event/atelier-professionnel-orange-digital-center-cybersecurite/
ATTACH;FMTTYPE=image/jpeg:https://www.frenchtechcotedazur.fr/wp-content/uploads/2023/10/Atelier-pro-e1697030885733.jpg
END:VEVENT
BEGIN:VEVENT
DTSTART;TZID=Europe/Paris:20231017T100000
DTEND;TZID=Europe/Paris:20231017T170000
DTSTAMP:20260422T200820
CREATED:20230906T085405Z
LAST-MODIFIED:20231002T092606Z
UID:5037-1697536800-1697562000@www.frenchtechcotedazur.fr
SUMMARY:La rentrée des entrepreneurs
DESCRIPTION:De 10 heures à 17 heures\, venez rencontrer des professionnels de l’entrepreneuriat à même de vous répondre en matière de financement\, d’accompagnement\, d’innovation\, de formalités administratives\, d’entreprises à impact et d’économie durable. \nPour plus d’informations\, il vous suffit de cliquer ici \n  \n 
URL:https://www.frenchtechcotedazur.fr/event/5037/
ATTACH;FMTTYPE=image/jpeg:https://www.frenchtechcotedazur.fr/wp-content/uploads/2023/09/Rentree_des_Entrepreneurs-Affichette_A3-nowhite-scaled-1-e1696237113810.jpg
END:VEVENT
BEGIN:VEVENT
DTSTART;TZID=Europe/Paris:20231017T173000
DTEND;TZID=Europe/Paris:20231017T200000
DTSTAMP:20260422T200820
CREATED:20231013T130304Z
LAST-MODIFIED:20231013T130304Z
UID:5441-1697563800-1697572800@www.frenchtechcotedazur.fr
SUMMARY:Soirée de Lancement French Tech Tremplin by FTCA
DESCRIPTION:Dans le cadre de « La Rentrée des Entrepreneurs »\, venez assister à la Soirée de lancement de la phase Prépa du programme national French Tech Tremplin ! \nAu programme : \n\n17h30 – Mot de Bienvenue\n17h40 – Témoignage lauréat Tremplin 2022\n17h45 – Présentation lauréats 2023\n18h00 – Cocktail\n\nDate : Mardi 17 octobre – 17h30\nLieu : Hub de l’innovation – 61-63 Av. Simone Veil\, 06200 Nice
URL:https://www.frenchtechcotedazur.fr/event/soiree-de-lancement-french-tech-tremplin-by-ftca/
ATTACH;FMTTYPE=image/jpeg:https://www.frenchtechcotedazur.fr/wp-content/uploads/2023/10/Copy-of-FRENCH-TECH-TREMPLIN-Instagram-Post-Square-e1697202141285.jpg
END:VEVENT
BEGIN:VEVENT
DTSTART;VALUE=DATE:20231019
DTEND;VALUE=DATE:20231020
DTSTAMP:20260422T200820
CREATED:20231002T141329Z
LAST-MODIFIED:20231002T141329Z
UID:5205-1697673600-1697759999@www.frenchtechcotedazur.fr
SUMMARY:Journée d'échanges et de rencontres sur "L'empreinte environnementale du nautisme"
DESCRIPTION:Le jeudi 19 octobre 2023 au HUB de l’Innovation\, venez participer à une journée d’échange et de rencontre sur le secteur du nautisme organisé par Pôle Mer Méditerranée. \nLe secteur du nautisme occupe une place centrale dans l’économie des régions littorales françaises. Comme tous les autres secteurs industriels français\, il poursuit un objectif de transition environnementale de ses activités.                                           Pendant cette journée\, vous aurez l’occasion de discuter\, partager et collaborer avec des leaders du secteur\, des chercheurs et des innovateurs. \nRéservez dès maintenant cette date dans votre agenda !
URL:https://www.frenchtechcotedazur.fr/event/journee-dechanges-et-de-rencontres-sur-lempreinte-environnementale-du-nautisme/
ATTACH;FMTTYPE=image/jpeg:https://www.frenchtechcotedazur.fr/wp-content/uploads/2023/10/pont-voilier-professionnel-yacht-course-pendant-competition-par-journee-ete-ensoleillee-venteuse-se-deplacant-rapidement-dans-vagues-eau-spinnaker-place-scaled-e1696255819189.jpg
END:VEVENT
BEGIN:VEVENT
DTSTART;TZID=Europe/Paris:20231019T180000
DTEND;TZID=Europe/Paris:20231019T220000
DTSTAMP:20260422T200820
CREATED:20231012T090405Z
LAST-MODIFIED:20231013T131400Z
UID:5301-1697738400-1697752800@www.frenchtechcotedazur.fr
SUMMARY:Afterwork Grasse à la Tech by Le Club des entrepreneurs du Pays de Grasse
DESCRIPTION:Venez participer au 1er Afterwork de l’année organisé par le Club des Entrepreneurs du Pays de Grasse ! \n\nDate : Jeudi 19 Octobre 2023 – 18h\nLieu : Villa Blu\, 9 travers du Prado\, 06130 Grasse\n\nC’est l’occasion de se retrouver pour faire une rétrospective de l’année 2023\, de découvrir le programme pour 2024\, d’écouter les témoignages inspirants de passionnés de l’innovation mais surtout de fêter les 10 ans de la French Tech ! \nPour participer à l’évènement : cliquez ici \n  \n  \n 
URL:https://www.frenchtechcotedazur.fr/event/afterwork-grasse-a-la-tech-par-le-club-des-entrepreneurs-du-pays-de-grasse/
ATTACH;FMTTYPE=image/jpeg:https://www.frenchtechcotedazur.fr/wp-content/uploads/2023/10/WhatsApp-Image-2023-10-13-at-12.22.29-e1697202725186.jpeg
END:VEVENT
BEGIN:VEVENT
DTSTART;TZID=Europe/Paris:20231020T180000
DTEND;TZID=Europe/Paris:20231020T220000
DTSTAMP:20260422T200820
CREATED:20230919T133013Z
LAST-MODIFIED:20231013T132755Z
UID:5122-1697824800-1697839200@www.frenchtechcotedazur.fr
SUMMARY:Nuit des acteurs du Numérique par Telecom Valley
DESCRIPTION:La Nuit de cet automne aura pour thématique : LE COACHING & L’EXCELLENCE. \n\n\n\n\nL’opportunité pour que professionnels\, sportifs de haut niveau et étudiants s’épanouissent autour d’un même thème ! \nAu programme : conférences inspirantes animées par des personnalités du monde sportif\, table ronde et du networking. \nEt quelle meilleure occasion que cette Nuit pour lancer\, en parallèle de la table ronde\, le Challenge Jeunes Pousses ? Le concours d’entrepreneuriat débutera avec la présentation des projets\, la création des équipes et l’affiliation des coachs. Ensemble partageons les stratégies gagnantes pour vos équipes ! \n\n\n\n\n\n\n\n\n\n\nPROGRAMME\n\n\n\n\n\n\n\n\n18h00 – Accueil \n18h15 – Lancement par Julien HOLTZER et Teresa COLOMBI\, Co-présidents de Telecom Valley \n18h30 – Intervention par Pauline PEYRAUD-MAGNIN\, Footballeuse professionnelle\, gardienne de l’équipe de France féminine \n18h45 – Du coaching de la performance au coaching des organisations\, par Nicolas LUTZ et Wiebke Silve (Des Trous Dans la Raquette)\, Coachs professionnels certifiés RNCP \n19h15 – Le Challenge Jeunes Pousses\, concours d’entrepreneuriat étudiant par Max CHAZARRA et Jean-François CARRASCO \, Chefs de projet bénévoles du concours \n19h30 – 2 sessions en parallèle \n\n\n\n\n\n\n\n\n\nune session dédiée aux professionnels avec des échanges (table-ronde)\nune session pour les étudiants et les professionnels souhaitant contribuer au Challenge Jeunes Pousses (ceux-ci seront soumis à un accord de confidentialité).\n\n\n\n\n\n\n\n\n20h45 – Cocktail\n\n\n\nLien d’inscription en cliquant ici
URL:https://www.frenchtechcotedazur.fr/event/5122/
ATTACH;FMTTYPE=image/png:https://www.frenchtechcotedazur.fr/wp-content/uploads/2023/09/NANA-oct-23-28-1-e1697203040605.png
END:VEVENT
BEGIN:VEVENT
DTSTART;TZID=Europe/Paris:20231025T143000
DTEND;TZID=Europe/Paris:20231025T160000
DTSTAMP:20260422T200820
CREATED:20230906T085443Z
LAST-MODIFIED:20230906T085443Z
UID:5035-1698244200-1698249600@www.frenchtechcotedazur.fr
SUMMARY:Atelier Orange Digital Center - Éviter les arnaques en ligne
DESCRIPTION:Parlez-en à vos proches et inscrivez-vous directement au Totem de la French Tech Côte d’Azur\, 9 rue d’Italie à Nice ou bien EN CLIQUANT ICI. \n 
URL:https://www.frenchtechcotedazur.fr/event/atelier-orange-digital-center-3/
ATTACH;FMTTYPE=image/jpeg:https://www.frenchtechcotedazur.fr/wp-content/uploads/2023/09/MERCREDI-6-decembre-2023-DE-14H30-A-16H-e1693989905328.jpg
END:VEVENT
END:VCALENDAR