BEGIN:VCALENDAR
VERSION:2.0
PRODID:-//French Tech Côte d&#039;Azur - ECPv6.15.20//NONSGML v1.0//EN
CALSCALE:GREGORIAN
METHOD:PUBLISH
X-ORIGINAL-URL:https://www.frenchtechcotedazur.fr
X-WR-CALDESC:Évènements pour French Tech Côte d&#039;Azur
REFRESH-INTERVAL;VALUE=DURATION:PT1H
X-Robots-Tag:noindex
X-PUBLISHED-TTL:PT1H
BEGIN:VTIMEZONE
TZID:Europe/Paris
BEGIN:DAYLIGHT
TZOFFSETFROM:+0100
TZOFFSETTO:+0200
TZNAME:CEST
DTSTART:20220327T010000
END:DAYLIGHT
BEGIN:STANDARD
TZOFFSETFROM:+0200
TZOFFSETTO:+0100
TZNAME:CET
DTSTART:20221030T010000
END:STANDARD
BEGIN:DAYLIGHT
TZOFFSETFROM:+0100
TZOFFSETTO:+0200
TZNAME:CEST
DTSTART:20230326T010000
END:DAYLIGHT
BEGIN:STANDARD
TZOFFSETFROM:+0200
TZOFFSETTO:+0100
TZNAME:CET
DTSTART:20231029T010000
END:STANDARD
BEGIN:DAYLIGHT
TZOFFSETFROM:+0100
TZOFFSETTO:+0200
TZNAME:CEST
DTSTART:20240331T010000
END:DAYLIGHT
BEGIN:STANDARD
TZOFFSETFROM:+0200
TZOFFSETTO:+0100
TZNAME:CET
DTSTART:20241027T010000
END:STANDARD
END:VTIMEZONE
BEGIN:VEVENT
DTSTART;VALUE=DATE:20230704
DTEND;VALUE=DATE:20230706
DTSTAMP:20260422T235147
CREATED:20230512T125110Z
LAST-MODIFIED:20230512T125110Z
UID:4711-1688428800-1688601599@www.frenchtechcotedazur.fr
SUMMARY:Azur Tech Summer 2023 - Telecom Valley
DESCRIPTION:L’Azur Tech Summer vous donne rendez-vous les 4 et 5 juillet 2023 à SKEMA Business School\, Sophia Antipolis. \n\n\n\n\nDeux jours de keynotes\, conférences\, ateliers et échanges sur les tendances et usages du numérique. \n\n\n\n\n\nÉvolutions et tendances dans l’innovation\nFinancement\, prospective sur les années à venir\, reconversion des profils (RH)\, reskilling & upskilling\, mentorat\nLes dangers et les opportunités de l’IA pour votre entreprise\nCompétences et impact RH\, marché du travail\, cybersécurité\, formations et précautions\, changement de pratiques\nLa protection des données : santé\, opérateurs publics et industriels\, tous concernés ?\nDans la santé\, dans les RH\, dans les données économiques. Points de vue des différents profils.\nEco-responsabilité\, de Green IT à Tech 4 Green\nRSE\, ESG\, appels d’offres\, greenwashing ou réel engouement ? Sobriété sur les datas\, sur la cyber.\n\n\n\n\n\n\n\n\n\nPour plus d’informations sur le programme et les inscription cliquez ici.
URL:https://www.frenchtechcotedazur.fr/event/azur-tech-summer-2023-telecom-valley/
ATTACH;FMTTYPE=image/jpeg:https://www.frenchtechcotedazur.fr/wp-content/uploads/2023/05/Insertion-presse-Azur-Tech-Summer-1280x828-1.jpg
END:VEVENT
BEGIN:VEVENT
DTSTART;TZID=Europe/Paris:20230712T143000
DTEND;TZID=Europe/Paris:20230712T160000
DTSTAMP:20260422T235147
CREATED:20230213T125739Z
LAST-MODIFIED:20230221T161646Z
UID:4210-1689172200-1689177600@www.frenchtechcotedazur.fr
SUMMARY:Atelier Orange Digital Center - Garder le lien avec WhatsApp
DESCRIPTION:Parlez-en à vos proches et inscrivez-vous directement au Totem de la French Tech Côte d’Azur\, 9 rue d’Italie à Nice ou bien EN CLIQUANT ICI.
URL:https://www.frenchtechcotedazur.fr/event/atelier-orange-digital-center-garder-le-lien-avec-whatsapp-3/
ATTACH;FMTTYPE=image/png:https://www.frenchtechcotedazur.fr/wp-content/uploads/2023/02/Atelier-copie-3.png
END:VEVENT
BEGIN:VEVENT
DTSTART;TZID=Europe/Paris:20230713T160000
DTEND;TZID=Europe/Paris:20230713T180000
DTSTAMP:20260422T235147
CREATED:20230623T135322Z
LAST-MODIFIED:20230623T135322Z
UID:4950-1689264000-1689271200@www.frenchtechcotedazur.fr
SUMMARY:Job dating Bocal Academy à Nice
DESCRIPTION:Comme avant chaque rentrée en alternance\, le Bocal Academy organise un Job Dating qui réunira ses candidats talentueux et les entreprises qui recherchent leur prochain talent !\nNotre prochaine session Développeur web & devops ouvrira ses portes le 18/09/2023. Pour rappel\, ce parcours de formation propose des niveaux avancés sur les principaux langages et outils du développement web et devops\, il permet également l’obtention du Titre professionnel « Concepteur développeur d’applications » équivalent Bac + 3/4.\n  \nVous souhaitez recruter en alternance\, sur des postes en front\, back\, fullstack et devops ?\n  \nVous êtes invité à participer au Job Dating le 13 juillet 2023 de 16h à 18h\, au 26 boulevard Carabacel\, 06000 Nice.\n  \nDes candidats qualifiés\, admis en formation (sur tests techniques) et à la recherche d’une entreprise en alternance seront présents pour vous rencontrer.\n  \nPour participer à l’événement\, je vous invite à remplir ce formulaire d’inscription en cliquant ici
URL:https://www.frenchtechcotedazur.fr/event/job-dating-bocal-academy-a-nice/
ATTACH;FMTTYPE=image/png:https://www.frenchtechcotedazur.fr/wp-content/uploads/2023/06/logo.png
END:VEVENT
BEGIN:VEVENT
DTSTART;TZID=Europe/Paris:20230727T110000
DTEND;TZID=Europe/Paris:20230727T120000
DTSTAMP:20260422T235147
CREATED:20230719T094355Z
LAST-MODIFIED:20230719T094355Z
UID:4974-1690455600-1690459200@www.frenchtechcotedazur.fr
SUMMARY:Visio informative - French Tech Tremplin 2023 Prépa / Incubation
DESCRIPTION:Demande d’informations French Tech Tremplin 2023\nLe programme French Tech Tremplin vise à faire en sorte que l’écosystème #FrenchTech soit aussi riche et pluriel que la société dont il est issu. \n  \n✅ Vous êtes un entrepreneur en devenir ? Candidatez à la phase « Prépa » du programme Tremplin. Entre le 15 octobre et le 15 décembre 2023\, vous aurez accès à un programme d’accompagnement\, à différents outils et coups de pouce pour faire émerger votre projet dans la Capitale ou la Communauté French Tech près de chez vous.\nCandidatez à la phase “Prépa” en cliquant ici 👉 https://cutt.ly/cwtMxC0X \n✅ Vous souhaitez accélérer le développement de votre #startup déjà créée ? Rejoignez la phase « Incubation » du programme – réservée à des personnes morales – qui bénéficieront d’une incubation au sein de l’un des incubateurs ou accélérateurs partenaires\, d’un accompagnement dédié d’une valeur maximale de 12 000 euros\, ainsi que d’un soutien financier d’un montant maximum de 22 900 euros.\nCandidatez à la phase “Incubation” en cliquant ici 👉 https://cutt.ly/CwtMxIW8 \nPour candidater\, vous devez répondre à au moins un de ces critères : \n*Critères économiques \n\n Être bénéficiaire des minima sociaux (RSA\, AAH…)\nÊtre étudiant boursier ou anciennement étudiant boursier (moins d’un an depuis la fin de la bourse) de niveau 5 à 7\nÊtre pupille de l’Etat\n\n*Critères de résidence \n\nRésider dans un quartier prioritaire de la ville (QPV) ou dans une zone de revitalisation rurale (ZRR)\n\n*Parcours personnel \n\nAvoir le statut de réfugié reconnu par l’OFPRA\n\n🔥  Inscriptions jusqu’au 31 août 🔥 \nVous avez des questions ?  Participez à la visio informative le 27 juillet prochain à 11h\, inscriptions en cliquant ici  \n 
URL:https://www.frenchtechcotedazur.fr/event/visio-dinformations/
ATTACH;FMTTYPE=image/png:https://www.frenchtechcotedazur.fr/wp-content/uploads/2023/07/session_FTT_2023_webiniare_27_07.png
END:VEVENT
END:VCALENDAR