BEGIN:VCALENDAR
VERSION:2.0
PRODID:-//French Tech Côte d&#039;Azur - ECPv6.15.20//NONSGML v1.0//EN
CALSCALE:GREGORIAN
METHOD:PUBLISH
X-ORIGINAL-URL:https://www.frenchtechcotedazur.fr
X-WR-CALDESC:Évènements pour French Tech Côte d&#039;Azur
REFRESH-INTERVAL;VALUE=DURATION:PT1H
X-Robots-Tag:noindex
X-PUBLISHED-TTL:PT1H
BEGIN:VTIMEZONE
TZID:Europe/Paris
BEGIN:DAYLIGHT
TZOFFSETFROM:+0100
TZOFFSETTO:+0200
TZNAME:CEST
DTSTART:20220327T010000
END:DAYLIGHT
BEGIN:STANDARD
TZOFFSETFROM:+0200
TZOFFSETTO:+0100
TZNAME:CET
DTSTART:20221030T010000
END:STANDARD
BEGIN:DAYLIGHT
TZOFFSETFROM:+0100
TZOFFSETTO:+0200
TZNAME:CEST
DTSTART:20230326T010000
END:DAYLIGHT
BEGIN:STANDARD
TZOFFSETFROM:+0200
TZOFFSETTO:+0100
TZNAME:CET
DTSTART:20231029T010000
END:STANDARD
BEGIN:DAYLIGHT
TZOFFSETFROM:+0100
TZOFFSETTO:+0200
TZNAME:CEST
DTSTART:20240331T010000
END:DAYLIGHT
BEGIN:STANDARD
TZOFFSETFROM:+0200
TZOFFSETTO:+0100
TZNAME:CET
DTSTART:20241027T010000
END:STANDARD
END:VTIMEZONE
BEGIN:VEVENT
DTSTART;TZID=Europe/Paris:20230601T120000
DTEND;TZID=Europe/Paris:20230601T133000
DTSTAMP:20260423T011106
CREATED:20230511T145845Z
LAST-MODIFIED:20230511T145845Z
UID:4694-1685620800-1685626200@www.frenchtechcotedazur.fr
SUMMARY:Atelier French Tech Central avec Banque de France à Cannes
DESCRIPTION:🚀 Venez rencontrer Banque de France le 1er juin prochain ! \n« 𝙻’𝚊𝚛𝚝 𝚎𝚝 𝚕𝚊 𝚖𝚊𝚗𝚒𝚎̀𝚛𝚎 𝚍𝚎 𝚋𝚒𝚎𝚗 𝚌𝚘𝚖𝚖𝚞𝚗𝚒𝚚𝚞𝚎𝚛 𝚊𝚟𝚎𝚌 𝚜𝚘𝚗 𝚋𝚊𝚗𝚚𝚞𝚒𝚎𝚛 𝚝𝚘𝚞𝚝 𝚊𝚞 𝚕𝚘𝚗𝚐 𝚍𝚞 𝚌𝚢𝚌𝚕𝚎 𝚍𝚎 𝚟𝚒𝚎 𝚍𝚎 𝚜𝚘𝚗 𝚎𝚗𝚝𝚛𝚎𝚙𝚛𝚒𝚜𝚎 » \nVous souhaitez mieux comprendre comment communiquer efficacement avec votre banquier ? \nCet atelier #FrenchTechCentral vous permettra de découvrir les meilleures pratiques pour une communication fructueuse avec votre banquier\, de la création de votre entreprise à son développement\nVenez échanger avec des professionnels du secteur et bénéficier de leurs conseils avisés pour assurer la croissance de votre entreprise en toute sérénité. \nÀ la suite de l’atelier\, des rendez-vous individuels vous sont proposés avec Lisbeth Savorgnano\, Banque de France \nN’attendez plus et inscrivez-vous à l’atelier dès maintenant ! 👇\nhttps://lnkd.in/e-wQkDBc \n📅 Le 1er Juin 2023\n🕐 De 12h00 à 13h30\n📍Campus Georges Méliès\, Cité des entreprises\, 06150 CANNES
URL:https://www.frenchtechcotedazur.fr/event/atelier-french-tech-central-3/
ATTACH;FMTTYPE=image/jpeg:https://www.frenchtechcotedazur.fr/wp-content/uploads/2023/05/1683720435908.jpeg
END:VEVENT
BEGIN:VEVENT
DTSTART;TZID=Europe/Paris:20230601T140000
DTEND;TZID=Europe/Paris:20230601T150000
DTSTAMP:20260423T011107
CREATED:20230522T123833Z
LAST-MODIFIED:20230522T123833Z
UID:4731-1685628000-1685631600@www.frenchtechcotedazur.fr
SUMMARY:Webinaire Parcours Sud Industrie 4.0 Carbone
DESCRIPTION:Vous êtes une TPE-PME-ETI industrielle\, vous avez moins de 500 salariés et vous souhaitez opérer la transformation de votre entreprise vers l’Industrie du Futur durable : Parcours Sud Industrie 4.0 Carbone c’est quoi ? \nUn parcours sur-mesure et opérationnel comprenant : \n\nUn diagnostic « Industrie du Futur / Transition Écologique et Énergétique »\, entièrement pris en charge\nfinancièrement par la Région Sud\, pour construire votre feuille de route de transformation vers l’Industrie du\nFutur durable ;\nUn amorçage à la réalisation d’un accompagnement pour identifier les solutions technologiques ou servicielles\nadaptées ;\nLa possibilité de déposer une demande de subvention pouvant aller jusqu’à 500 000 € pour soutenir vos\ninvestissements 4.0.\n\nParticipez au 1 er webinaire de présentation du dispositif\, le jeudi 1er juin 2023\, de 14h à 15h : inscrivez-vous ici. \nVous recevrez par email\, une confirmation d’inscription\, avec le lien pour participer au webinaire. \nSi le parcours vous intéresse vous pouvez y entrer en vous inscrivant sur le site dédié : https://www.parcours-sud-industrie-zerocarbone.com \nContact : psi@risingsud.fr
URL:https://www.frenchtechcotedazur.fr/event/webinaire-parcours-sud-industrie-4-0-carbone/
ATTACH;FMTTYPE=image/png:https://www.frenchtechcotedazur.fr/wp-content/uploads/2023/05/Capture-décran-2023-05-22-à-14.36.24.png
END:VEVENT
BEGIN:VEVENT
DTSTART;TZID=Europe/Paris:20230601T140000
DTEND;TZID=Europe/Paris:20230601T203000
DTSTAMP:20260423T011107
CREATED:20230503T074809Z
LAST-MODIFIED:20230503T074809Z
UID:4683-1685628000-1685651400@www.frenchtechcotedazur.fr
SUMMARY:BOOST RH by Le Village by CA
DESCRIPTION:BOOST RH : L’engagement collaborateur dans un monde en transition\nTables rondes et ateliers autour de l’engagement collaborateur\, événement s’adressant aux dirigeants\, DRH et managers RH. \nL’événement s’adresse tout particulièrement aux dirigeants\, DRH et managers RH \nOrganisé par le AGYCA GROUP\, Le Village by Crédit Agricole Provence Côte d’Azur\, ilyCoach et AfterWork RH Côte d’Azur 💡 \n🗓 Le jeudi 1er juin 2023 au Village by CA \n📃 Au programme :\n– 6 ateliers participatifs de 45 minutes \, dès 14h45 jusqu’à 17H30.\n– Découvertes de solutions RH et QVT innovantes\n– 2 tables rondes de 55 minutes\, entre 18h00 et 20h00\n– cocktail networking à partir de 20h00 \nParmi les sujets évoqués : onboarding et fidélisation\, spectre de carrière\, méthode ikigai\, pratiques managériales\, créativité et esprit d’innovation\, intelligence collective… \nINSCRIPTION EN CLIQUANT ICI
URL:https://www.frenchtechcotedazur.fr/event/boost-rh-by-le-village-by-ca/
ATTACH;FMTTYPE=image/jpeg:https://www.frenchtechcotedazur.fr/wp-content/uploads/2023/05/le-village-by-CA-boostRH.jpeg
END:VEVENT
BEGIN:VEVENT
DTSTART;VALUE=DATE:20230606
DTEND;VALUE=DATE:20230607
DTSTAMP:20260423T011107
CREATED:20230522T125749Z
LAST-MODIFIED:20230522T125749Z
UID:4734-1686009600-1686095999@www.frenchtechcotedazur.fr
SUMMARY:Entrepreneurs : transformons les levées de fonds KPMG
DESCRIPTION:En partenariat avec CAP CESSION FRANCE\, Région Sud Investissement et l’Incubateur Provence-Côte d’Azur\, KPMG organise une soirée spéciale dédiée aux porteurs de projet et #startups sur le parcours l’accompagnement et la recherche de #financement !\n\nLors de cette soirée spéciale\, nos experts\, réunis pour l’occasion\, vous présenteront toutes\nles étapes clés du parcours d’accompagnement et de recherche de financement : \n\nConstruction du projet & accompagnement recherche d’aides en faisant levier sur les\nfonds propres par Laurent Masson de l’Incubateur Provence-Côte d’Azur\nComment créer de la valeur dès la conception du projet ? Quels sont les pièges à éviter ?\nQuel type de financement pour quel stade de maturité ?\nPréparation du Business Plan par  Laetitia Aimasso de KPMG\nComment bien structurer son BP?\nConvaincre les investisseurs par Pierre Joubert de Région Sud Investissement\nComment communiquer avec les investisseurs ? Quelles sont leurs attentes et comment bien\ns’y préparer ?\nPréparation à la cession d’entreprise par Regis Bauché Directeur général de Stade Niçois Rugby et Président de Cap Session Côte d’Azur\nQuels sont les pré-requis lors d’une vente ?\n\n🗓 Rendez-vous mardi 6 juin 2023 \n📍Stade des Arboras\, 247 Bd Du Mercantour\, 06200 Nice \nProgramme :\n18h30 : Accueil des participants\n19h00 : Conférence\n20h00 : Echanges autour d’un cocktail \nInscrivez-vous en cliquant ici. \nInscription gratuite et obligatoire. \nContact : Elodie Putteman\, KPMG \ntel : 06 12 61 27 67 \nemail : eputteman@kpmg.fr
URL:https://www.frenchtechcotedazur.fr/event/kpmg-entrepreneurs-transformons-les-levees-de-fonds/
ATTACH;FMTTYPE=image/png:https://www.frenchtechcotedazur.fr/wp-content/uploads/2023/05/Capture-décran-2023-05-22-à-14.41.45.png
END:VEVENT
BEGIN:VEVENT
DTSTART;TZID=Europe/Paris:20230606T180000
DTEND;TZID=Europe/Paris:20230606T220000
DTSTAMP:20260423T011107
CREATED:20230512T124619Z
LAST-MODIFIED:20230512T124619Z
UID:4708-1686074400-1686088800@www.frenchtechcotedazur.fr
SUMMARY:La Nuit des Acteurs du Numérique azuréens - Telecom Valley
DESCRIPTION:Telecom Valley vous présente l’un de ses nouveaux événements : la Nuit des Acteurs du Numérique azuréens. \nPour sa première édition Telecom Valley dédie sa Nuit des Acteurs du Numérique azuréens aux Métiers émergents du Numérique pour qu’ensemble nous préparions le futur. \nVenez passer une soirée conviviale pour échanger avec ou entre professionnels grâce à des méthodes interactives et collectives. \nAu programme : Forum ouvert ; table-ronde ; business  et cocktail networking \n🗓 Mardi 6 juin 2023 \n📍 Les espaces du Fort Carré\, Antibes \nPour plus d’informations et inscription cliquez ici. \nInscription avant le 5 juin.
URL:https://www.frenchtechcotedazur.fr/event/la-nuit-des-acteurs-du-numerique-azureens-2023/
ATTACH;FMTTYPE=image/jpeg:https://www.frenchtechcotedazur.fr/wp-content/uploads/2023/05/1683624311803.jpg
END:VEVENT
BEGIN:VEVENT
DTSTART;TZID=Europe/Paris:20230607T090000
DTEND;TZID=Europe/Paris:20230607T100000
DTSTAMP:20260423T011107
CREATED:20230524T121400Z
LAST-MODIFIED:20230524T121420Z
UID:4758-1686128400-1686132000@www.frenchtechcotedazur.fr
SUMMARY:IA générative : à l'aube d'une nouvelle ère pour l'assurance
DESCRIPTION:🚀 Vous faites quoi le 7 juin à 9h00? 🚀 \nEt si nous parlions de 2 sujets passionnant? 💕💕💕 \n💥 L’IA Générative appliquée au monde de l’assurance \n💥 Retrouvez Christophe Bremard de Qiti entouré de Guillaume Sarkozy\, d’ Axel Tombereau et de Guillaume DION \n💥 Ne manquez pas cette occasion unique de découvrir comment l’#ia Générative va changer en profondeur l’#assurance \n💥 Découvrez les #opportunités offertes en vous inscrivant dès maintenant pour ce webinaire :\n➡ https://lnkd.in/eq-tX-Fd \n#AI #Assurance #Webinar #insurtech #ia
URL:https://www.frenchtechcotedazur.fr/event/ia-generative-a-laube-dune-nouvelle-ere-pour-lassurance/
ATTACH;FMTTYPE=image/jpeg:https://www.frenchtechcotedazur.fr/wp-content/uploads/2023/05/ia-generative.jpeg
END:VEVENT
BEGIN:VEVENT
DTSTART;TZID=Europe/Paris:20230608T180000
DTEND;TZID=Europe/Paris:20230608T200000
DTSTAMP:20260423T011107
CREATED:20230605T150321Z
LAST-MODIFIED:20230605T150321Z
UID:4824-1686247200-1686254400@www.frenchtechcotedazur.fr
SUMMARY:AFTERWORK : l'ENTREPRENEURIAT À IMPACT
DESCRIPTION:ISCOM Nice a le plaisir de vous convier à son tout premier Afterwork sur le thème de l’entrepreneuriat qui se tiendra le jeudi 8 juin prochain sur le campus à 18h.  \nAu programme : \n\nEntreprendre à l’ISCOM\nLES COULISSES DE l’entrepreneuriat engagé\nMallaury Lopez\, ancienne sportive de haut niveau désormais cheffe d’entreprise\, viendra partager son parcours et donnera des clés pour réussir dans l’entrepreneuriat.\n\nPRÉSENTATION DE LA CITÉ DES ENTREPRENEURS \nLa rentrée de septembre 2023 sera marquée par l’arrivée de la Cité des Entrepreneurs sur le campus niçois\, un programme optionnel signé ISCOM à destination de tous les étudiants\, quelle que soit leur année d’études et leur spécialisation. \n📍Campus ISCOM à Nice \nInscription à cette adresse mail : manon.peresse@iscom.org
URL:https://www.frenchtechcotedazur.fr/event/afterwork-lentrepreneuriat-a-impact/
ATTACH;FMTTYPE=image/png:https://www.frenchtechcotedazur.fr/wp-content/uploads/2023/06/unnamed.png
END:VEVENT
BEGIN:VEVENT
DTSTART;TZID=Europe/Paris:20230608T183000
DTEND;TZID=Europe/Paris:20230608T203000
DTSTAMP:20260423T011107
CREATED:20230606T131147Z
LAST-MODIFIED:20230606T131147Z
UID:4827-1686249000-1686256200@www.frenchtechcotedazur.fr
SUMMARY:Apéro Talk | Se reconvertir dans la tech : Tips & Tricks
DESCRIPTION:NON ! Le secteur de la tech n’est pas réservé qu’aux geeks ou aux ingénieurs… \nLes possibilités de carrière et les opportunités offertes par l’industrie technologique sont aussi vastes que variées\, et permettent à tous les profils d’entamer une reconversion professionnelle ou une alternance dans ce secteur 🚀 \nQue tu sois déjà un.e professionnel.le en quête de nouvelles perspectives ou un.e novice désirant en savoir plus… Viens rencontrer des expertes du secteur et passionnées qui ont déjà réalisé une reconversion réussie vers la tech lors de notre apéro talk le jeudi 8 juin 2023 💪 \n👩‍💻 Sonia Manoubi : après 8 ans en tant qu’infirmière\, Sonia a décidé de se lancer dans le monde de la tech en devenant développeuse backend/devops. Elle te racontera comment elle a réussi à faire ce grand saut et à concrétiser sa passion pour la programmation. \n👩‍💻 Céline Désile : ancienne professionnelle dans le marketing et l’événementiel\, Céline a choisi de se reconvertir en tant que développeuse logicielle via l’école 42. Elle partagera son parcours atypique et te donnera des conseils précieux sur la transition vers une carrière dans la tech. \n👩‍💻 Découvre également le profil d’une alumni Women Codeuse\, Valentine Fouché\, qui partagera son expérience après avoir obtenu leur certification au Wagon. \n👩‍💻 Donia Chaiehloudj : en tant que Senior Software Engineer et GDG Organiser pour le Google Developer Groups Sophia-Antipolis\, Donia a maintenant quelques années d’expérience dans la tech et sera la host de ce panel de discussion. \nL’événement est accessible à tout profil\, il n’est pas nécessaire d’être expert.e dans la tech 🤗 \nTu veux développer tes compétences ? Entamer une reconversion professionnelle ? Réaliser une alternance dans le secteur du web ou de la data ? Rencontrer du monde ? Rejoins-nous ! \n🗓 Jeudi 8 juin 2023 ⎜18h30 \n📍 Startway Coworking – Le Wagon ⎜23 avenue Thiers 06000 Nice \nInformations et inscription en cliquant ici. \nInscription obligatoire
URL:https://www.frenchtechcotedazur.fr/event/apero-talk-se-reconvertir-dans-la-tech-tips-tricks/
ATTACH;FMTTYPE=image/jpeg:https://www.frenchtechcotedazur.fr/wp-content/uploads/2023/06/https___cdn.evbuc_.com_images_525875549_1336518031073_1_original.jpg
END:VEVENT
BEGIN:VEVENT
DTSTART;TZID=Europe/Paris:20230608T183000
DTEND;TZID=Europe/Paris:20230608T210000
DTSTAMP:20260423T011107
CREATED:20230523T083644Z
LAST-MODIFIED:20230523T083644Z
UID:4752-1686249000-1686258000@www.frenchtechcotedazur.fr
SUMMARY:Afterwork - Découvrez une innovation 100% azuréenne\, 100% internationale avec QITI
DESCRIPTION:Qiti grandit. L’heure est au décollage. \nDécouvrez en avant-première comment Qiti révolutionne l’assurance et simplifie la vie des grands voyageurs\, néo-nomades et expats. \nAu programme de la soirée : \n\nTechnologie et innovation\nNice à l’international\nConvivialité\nRêves et convictions\nUne licorne niçoise ?\n\n🗓 Jeudi 8 juin 2023 à partir de 18h30 \n📍31 Rue de Paris\, 06000 Nice \nInscrivez-vous en cliquant ici.
URL:https://www.frenchtechcotedazur.fr/event/afterwork/
ATTACH;FMTTYPE=image/jpeg:https://www.frenchtechcotedazur.fr/wp-content/uploads/2023/05/https___cdn.evbuc_.com_images_518500919_854946714823_1_original.jpg
END:VEVENT
BEGIN:VEVENT
DTSTART;TZID=Europe/Paris:20230609T140000
DTEND;TZID=Europe/Paris:20230609T150000
DTSTAMP:20260423T011107
CREATED:20230602T141236Z
LAST-MODIFIED:20230602T141236Z
UID:4784-1686319200-1686322800@www.frenchtechcotedazur.fr
SUMMARY:Wébinaire Info' AMI Incubateurs French Tech Tremplin Incubation V3
DESCRIPTION:Trop de potentiels sont freinés par des obstacles socio-économiques tels que le manque de financements\, de formations ou de réseau. Le programme French Tech Tremplin vise à faire en sorte que l’écosystème French Tech soit aussi riche et pluriel que la société dont il est issu. L’objectif : optimiser les chances de populations jusqu’ici sous-représentées dans ce milieu grâce à des financements\, des formations et un système de mentorat. \nCe programme\, a été conçu pour rééquilibrer les chances et faire en sorte que tous les talents aient accès aux mêmes avantages que les entrepreneurs issus de milieux plus privilégiés. \nPour être éligible\, le candidat doit remplir l’une des conditions d’éligibilité suivantes \nCritères économiques \n\nÊtre bénéficiaire des minima sociaux (SA\, AAH…)\nÊtre étudiant boursier ou anciennement étudiant boursier (moins d’un an depuis la fin de la bourse) de niveau 5 à 7\nÊtre pupille de l’Etat\n\nCritères de résidence \n\nRésider dans un quartier prioritaire de la ville (QPV) ou dans une zone de revitalisation rurale (ZRR)\n\nParcours personnel \n\nAvoir le statut de réfugié reconnu par l’OFPRA\n\nVous êtes un incubateur et vous souhaitez accompagner des start-ups lauréates French Tech Tremplin ? \nDéposez votre candidature en cliquant ici  \nTéléchargez l’AMI en cliquant ici  \nWébinaire d’information le 9 juin à 14h : Inscrivez-vous en cliquant ici
URL:https://www.frenchtechcotedazur.fr/event/french-tech-tremplin/
ATTACH;FMTTYPE=image/png:https://www.frenchtechcotedazur.fr/wp-content/uploads/2023/06/Card_FT_Tremplin_Carré-1.png
END:VEVENT
BEGIN:VEVENT
DTSTART;TZID=Europe/Paris:20230615T120000
DTEND;TZID=Europe/Paris:20230615T140000
DTSTAMP:20260423T011107
CREATED:20230605T143854Z
LAST-MODIFIED:20230605T144357Z
UID:4816-1686830400-1686837600@www.frenchtechcotedazur.fr
SUMMARY:Pic-Mixte: la mixité\, une clé de performance !
DESCRIPTION:Viens te nourrir et développer ton réseau !\nNice Start(s) Up et Bouge ta boite se mobilisent pour te proposer un RDV unique en son genre. \nLe 15 juin 2023 à partir de 12h pour l’événement « PIC-MIXTE » ! \nLe principe est simple\, te permettre de découvrir autour d’un pique-nique convivial en quoi la mixité est un levier de performance pour ton entreprise et rencontrer un grand nombre d’entrepreneur.e.s ! \nL’événement accueillera Madame Altounian Magali\, adjointe au Maire en charge des Institution européennes et du Rayonnement de la Ville\, Présidente de la commission Europe à la Région Sud ainsi que Maty Diouf adjointe au Maire de Nice\, Déléguée au Droit des femmes. \nAu programme : \n\n12h : Accueil avec Box déjeuner\n12h30 : Ouverture de l’évènement par Nathalie Orvöen\, Presidente NIce Start(s)Up et Lucile Montauriol\, Responsable du développement territorial chez Bouge ta Boite\n12h40 : Prise de parole des Elues : Magali Altounian et Maty Diouf\n12h50 : Table ronde: « En quoi la mixité est un levier de performance en entreprise ? » Decouvrez prochainement la liste des intervenant.e.s inspirant.e.s !\n13h30 : Networking animé\n\nPourquoi assister à cet événement ? \n\nDévelopper tes opportunités\nPrendre un boost d’énergie\nT’inspirer\, nourrir tes ambitions\n\nUn événement à ne pas manquer ! \nInformations et inscription en cliquant ici.
URL:https://www.frenchtechcotedazur.fr/event/pic-mixte-la-mixite-une-cle-de-performance/
ATTACH;FMTTYPE=image/jpeg:https://www.frenchtechcotedazur.fr/wp-content/uploads/2023/06/https___cdn.evbuc_.com_images_515822119_309258733797_1_original.jpg
END:VEVENT
BEGIN:VEVENT
DTSTART;TZID=Europe/Paris:20230619T170000
DTEND;TZID=Europe/Paris:20230619T183000
DTSTAMP:20260423T011107
CREATED:20230407T094459Z
LAST-MODIFIED:20230428T143929Z
UID:4532-1687194000-1687199400@www.frenchtechcotedazur.fr
SUMMARY:Atelier professionnel Orange Digital Center - Comment communiquer avec ses clients ?
DESCRIPTION:Atelier Orange « Comment communiquer avec ses clients ? » réservé aux professionnels \nUn atelier gratuit sur inscription animé par un expert Orange \n🗓 Lundi 19 juin 2023 de 17h00 à 18h30 \n📍Lieu de l’atelier : French Tech Côte d’Azur\, 9 rue d’Italie\, 06000 Nice \nInscription en cliquant ici.
URL:https://www.frenchtechcotedazur.fr/event/atelier-professionnel-orange-digital-center-comment-communiquer-avec-ses-clients/
ATTACH;FMTTYPE=image/png:https://www.frenchtechcotedazur.fr/wp-content/uploads/2023/04/Orange-RS.png
END:VEVENT
BEGIN:VEVENT
DTSTART;TZID=Europe/Paris:20230623T143000
DTEND;TZID=Europe/Paris:20230623T160000
DTSTAMP:20260423T011107
CREATED:20230213T125525Z
LAST-MODIFIED:20230221T161404Z
UID:4206-1687530600-1687536000@www.frenchtechcotedazur.fr
SUMMARY:Atelier Orange Digital Center - Utiliser Facebook
DESCRIPTION:Parlez-en à vos proches et inscrivez-vous directement au Totem de la French Tech Côte d’Azur\, 9 rue d’Italie à Nice ou bien EN CLIQUANT ICI.
URL:https://www.frenchtechcotedazur.fr/event/atelier-orange-digital-center-utiliser-facebook/
ATTACH;FMTTYPE=image/png:https://www.frenchtechcotedazur.fr/wp-content/uploads/2023/02/Atelier-1.png
END:VEVENT
BEGIN:VEVENT
DTSTART;TZID=Europe/Paris:20230625T100000
DTEND;TZID=Europe/Paris:20230625T180000
DTSTAMP:20260423T011107
CREATED:20230605T145527Z
LAST-MODIFIED:20230605T145527Z
UID:4820-1687687200-1687716000@www.frenchtechcotedazur.fr
SUMMARY:Tournoi de Foot des Startups
DESCRIPTION:Viens participer au Tournoi des Startups co-organisé par Nice Start(s) Up et Livmed’s \nDimanche 25 juin 2023 de 10h à 18h \n\nMonte ton équipe de 5 joueurs et/ou joueuses\nSi tu n’as pas d’équipe\, inscris-toi\, nous te trouverons des coéquipiers !\n\nVotre participation à ce tournoi sera intégralement reversée à La Fondation de Nice pour son projet visant à réduire la fracture numérique. \nBuvette sur place pour la restauration du midi (à vos frais – petits prix) \nInformations et inscription en cliquant ici.
URL:https://www.frenchtechcotedazur.fr/event/tournoi-de-foot-des-startups/
ATTACH;FMTTYPE=image/jpeg:https://www.frenchtechcotedazur.fr/wp-content/uploads/2023/06/image-competition-1.jpg
END:VEVENT
BEGIN:VEVENT
DTSTART;VALUE=DATE:20230627
DTEND;VALUE=DATE:20230628
DTSTAMP:20260423T011107
CREATED:20230512T123402Z
LAST-MODIFIED:20230512T123534Z
UID:4698-1687824000-1687910399@www.frenchtechcotedazur.fr
SUMMARY:FID M€D RIVIERA
DESCRIPTION:FID M€D RIVIERA – 27 juin 2023\n\n\n\n\n\n\n\n\n\n\n\n\n\n\n\n\n\nLe mardi 27 juin 2023 aura lieu la nouvelle édition du FID M€D Riviera à Grasse et plus spécifiquement à Villa Blu by Robertet. \nCette édition est en partenariat avec Medinsoft\, Le Méridional\, Villa Blu by Robertet. \nNouvelle édition\, nouveau format ! \n Au programme :  \nConférences et tables rondes autour du Financement de l’Innovation et séance de pitchs de startups sélectionnées au niveau de l’amorçage et/ou du 1er tour face à un jury professionnel du financement (fonds privés\, publics\, BA\, banques\, etc.) sur une après-midi. \nPour plus d’informations cliquez ici.
URL:https://www.frenchtechcotedazur.fr/event/fid-med-riviera-2023/
ATTACH;FMTTYPE=image/png:https://www.frenchtechcotedazur.fr/wp-content/uploads/2023/05/image006.png
END:VEVENT
BEGIN:VEVENT
DTSTART;TZID=Europe/Paris:20230627T160000
DTEND;TZID=Europe/Paris:20230627T200000
DTSTAMP:20260423T011107
CREATED:20230605T125721Z
LAST-MODIFIED:20230605T130139Z
UID:4793-1687881600-1687896000@www.frenchtechcotedazur.fr
SUMMARY:JOB DATING ET THEATRE FORUM « Un Employé Nommé Désir »
DESCRIPTION:Après le succès de la première édition de l’événement JOB DATING ET THEATRE FORUM « Un Employé Nommé Désir »\, une nouvelle date est proposée pour se retrouver autour d’un temps de Job Dating suivi de la comédie interactive sur la thématique de « l’Employeurabilité » !  \n400 places sont proposées pour cette 2e édition\, dans la magnifique salle du Centre Universitaire Méditerranéen. \n🗓 Mardi 27 Juin 2023  \n📍 Centre Universitaire Méditerranéen\, 65 promenade des Anglais\, 06000 Nice \nAu programme : \nA l’attention des candidates et candidats \n16h-18h : JOB DATING avec les entreprises membres du Club Les entreprises s’engagent – Alpes-Maritimes \nTous types de postes dans tous secteurs d’activité seront proposés \nPour tous ! \n18h-20h : THEATRE FORUM ET DEBATS sur l’Employeurabilité autour de la pièce « Un Employé Nommé Désir »\, la comédie interactive sur les difficultés de recrutement et de fidélisation des salariés \n  \nFocus sur la pièce\, proposée par le Pacte Civique et la Communauté Les entreprises s’engagent dans toute la France \nCette pièce interactive aborde avec humour les préjugés liés au recrutement et met en exergue de nombreuses raisons qui peuvent pousser des salariés à quitter leur entreprise. \nChaque personnage de la pièce invite à remettre en question différents aspects du monde professionnel\, en particulier du management. \nDès le lever de rideau\, vous serez là avec votre expérience et votre bon sens pour guider les personnages-employeurs sur le chemin d’un recrutement réussi et d’un management bienveillant et gagnant dans la durée. \nLa soirée se poursuivra avec un débat autour des nouvelles pratiques et actions sur les thématiques du recrutement\, du management et de la fidélisation des collaborateurs. \nDes dirigeants de différents secteurs d’activité témoigneront de leurs approches et expérimentations. \nInformations et inscription sur l’événement « un employé nommé désir » en cliquant ici.
URL:https://www.frenchtechcotedazur.fr/event/4793/
ATTACH;FMTTYPE=image/jpeg:https://www.frenchtechcotedazur.fr/wp-content/uploads/2023/06/https___cdn.evbuc_.com_images_500455119_238484326787_1_original.jpg
END:VEVENT
BEGIN:VEVENT
DTSTART;TZID=Europe/Paris:20230628T153000
DTEND;TZID=Europe/Paris:20230628T170000
DTSTAMP:20260423T011107
CREATED:20230619T123440Z
LAST-MODIFIED:20230619T125734Z
UID:4873-1687966200-1687971600@www.frenchtechcotedazur.fr
SUMMARY:Réunion d'information : présentation du programme d'accélération de la Métropole Nice Côte d'Azur
DESCRIPTION:La Métropole Nice Côte d’Azur souhaite renforcer les filières porteuses de son territoire. C’est pourquoi elle propose aux dirigeants d’entreprises innovantes à fort potentiel un accompagnement de 6 mois visant à développer leur activité. Une première saison sera lancée en septembre comportant trois promotions sur les filières identifiées : \n– La santé \n– La transition environnementale dans les domaines de la Greentech ou de la Bluetech \n– Le tourisme \nLa réunion de présentation du programme d’accélération d’entreprises innovantes lancé par la Métropole NCA se tiendra dans la salle Openloft du CEEI. \nPour en savoir plus : cliquez ici 
URL:https://www.frenchtechcotedazur.fr/event/presentation-programme-dacceleration-de-la-metropole-nice-cote-dazur/
ATTACH;FMTTYPE=image/png:https://www.frenchtechcotedazur.fr/wp-content/uploads/2023/06/LOGO-NSU-OK-VECTO.ai-1.png
END:VEVENT
END:VCALENDAR