BEGIN:VCALENDAR
VERSION:2.0
PRODID:-//French Tech Côte d&#039;Azur - ECPv6.15.20//NONSGML v1.0//EN
CALSCALE:GREGORIAN
METHOD:PUBLISH
X-WR-CALNAME:French Tech Côte d&#039;Azur
X-ORIGINAL-URL:https://www.frenchtechcotedazur.fr
X-WR-CALDESC:Évènements pour French Tech Côte d&#039;Azur
REFRESH-INTERVAL;VALUE=DURATION:PT1H
X-Robots-Tag:noindex
X-PUBLISHED-TTL:PT1H
BEGIN:VTIMEZONE
TZID:Europe/Paris
BEGIN:DAYLIGHT
TZOFFSETFROM:+0100
TZOFFSETTO:+0200
TZNAME:CEST
DTSTART:20220327T010000
END:DAYLIGHT
BEGIN:STANDARD
TZOFFSETFROM:+0200
TZOFFSETTO:+0100
TZNAME:CET
DTSTART:20221030T010000
END:STANDARD
BEGIN:DAYLIGHT
TZOFFSETFROM:+0100
TZOFFSETTO:+0200
TZNAME:CEST
DTSTART:20230326T010000
END:DAYLIGHT
BEGIN:STANDARD
TZOFFSETFROM:+0200
TZOFFSETTO:+0100
TZNAME:CET
DTSTART:20231029T010000
END:STANDARD
BEGIN:DAYLIGHT
TZOFFSETFROM:+0100
TZOFFSETTO:+0200
TZNAME:CEST
DTSTART:20240331T010000
END:DAYLIGHT
BEGIN:STANDARD
TZOFFSETFROM:+0200
TZOFFSETTO:+0100
TZNAME:CET
DTSTART:20241027T010000
END:STANDARD
END:VTIMEZONE
BEGIN:VEVENT
DTSTART;TZID=Europe/Paris:20230403T160000
DTEND;TZID=Europe/Paris:20230403T170000
DTSTAMP:20260423T040459
CREATED:20230321T103856Z
LAST-MODIFIED:20230321T104344Z
UID:4440-1680537600-1680541200@www.frenchtechcotedazur.fr
SUMMARY:WEBINAIRE Boostez votre développement commercial en Europe du Sud - Espagne\, Italie\, Portugal
DESCRIPTION:WEBINAIRE Boostez votre développement commercial en Europe du Sud – Espagne\, Italie\, Portugal avec Team France Export \n3 avril 2023 | 16h-17h | VISIOCONFÉRENCE \n\n\nNombre d’entreprises régionales de la tech démarrent leur activité à l’international sur ces 3 marchés de proximité. Comme elles\, préparez-vous à les aborder\, en prenant connaissance\, entre autres\, des opportunités d’affaires locales\, des approches commerciales recommandées\, des dispositifs d’aide à l’export et du retour d’expérience d’une ou plusieurs entreprises témoins ! \nInscription à la visioconférence en cliquant ici.
URL:https://www.frenchtechcotedazur.fr/event/webinaire-boostez-votre-developpement-commercial-en-europe-du-sud-espagne-italie-portugal/
ATTACH;FMTTYPE=image/png:https://www.frenchtechcotedazur.fr/wp-content/uploads/2023/03/Boostez_votre_d__veloppement_commercial_en_Europe_du_Sud____3_.png
END:VEVENT
BEGIN:VEVENT
DTSTART;TZID=Europe/Paris:20230405T110000
DTEND;TZID=Europe/Paris:20230405T120000
DTSTAMP:20260423T040459
CREATED:20230328T072004Z
LAST-MODIFIED:20230328T072004Z
UID:4483-1680692400-1680696000@www.frenchtechcotedazur.fr
SUMMARY:Webinaire Afnor : Comment valoriser l'engagement de mon entreprise dans le Made in France ?
DESCRIPTION:Comment valoriser l’engagement de mon entreprise dans le Made in France ? \nAujourd’hui\, les exigences des consommateurs ne sont plus les mêmes qu’avant. Ceux-ci portent une attention particulière au processus de fabrication/réalisation\, à la qualité ainsi qu’à l’origine de leurs produits et services. \nCes exigences deviennent un critère de choix pour les consommateurs. Soucieuses de l’impact de leur production (produits et services)\, certaines entreprises ont déjà fait le choix d’intégrer une démarche et des engagements valorisant la qualité du Made in France. \nLes certifications Origine France Garantie et Service France Garanti\, délivrées par AFNOR Certification permettent aux entreprises de valoriser et légitimer leurs engagements\, pour répondre à ces nouveaux critères d’achat. \nVous souhaitez savoir comment valoriser vos produits et services Made in France ? \nParticipez à notre web-conférence pour mieux comprendre comment valoriser votre démarche ! \n🗓 Quand ? mercredi 5 avril 2023 \nVous bénéficierez d’une approche opérationnelle des certifications Origine France Garantie et Service France Garanti\, avec les interventions de Gilles ATTAF\, Arnaud MONTEBOURG\, et le témoignage de Paola FABIANI présidente de Wisecom\, entreprise certifiée Service France Garanti. \nVous retrouverez le programme détaillé de cette web-conférence en cliquant sur le lien d’inscription ci-dessous. \nIncription gratuite en cliquant ici. \nRetrouvez tous les événements du groupe Afnor en cliquant ici.
URL:https://www.frenchtechcotedazur.fr/event/webinaire-afnor-comment-valoriser-lengagement-de-mon-entreprise-dans-le-made-in-france/
ATTACH;FMTTYPE=image/png:https://www.frenchtechcotedazur.fr/wp-content/uploads/2023/03/Capture-décran-2023-03-28-à-09.18.55.png
END:VEVENT
BEGIN:VEVENT
DTSTART;VALUE=DATE:20230411
DTEND;VALUE=DATE:20230412
DTSTAMP:20260423T040459
CREATED:20230313T093922Z
LAST-MODIFIED:20230313T093922Z
UID:4372-1681171200-1681257599@www.frenchtechcotedazur.fr
SUMMARY:Journée M-Tourisme Telecom Valley
DESCRIPTION:Réservez votre journée du Mardi 11 avril 2023 pour venir participer à la Journée m-Toursime et e-Santé\,  pour la première fois co-organisée par la communauté m-Tourisme\, e-Santé et Sophia Startups ! \nPlus d’informations en cliquant ici.
URL:https://www.frenchtechcotedazur.fr/event/journee-m-tourisme/
ATTACH;FMTTYPE=image/png:https://www.frenchtechcotedazur.fr/wp-content/uploads/2023/03/unnamed.png
END:VEVENT
BEGIN:VEVENT
DTSTART;TZID=Europe/Paris:20230412T143000
DTEND;TZID=Europe/Paris:20230412T160000
DTSTAMP:20260423T040459
CREATED:20221222T154941Z
LAST-MODIFIED:20230221T155923Z
UID:3854-1681309800-1681315200@www.frenchtechcotedazur.fr
SUMMARY:Atelier Orange Digital Center - Découvrir les réseaux sociaux
DESCRIPTION:Parlez-en à vos proches et inscrivez-vous directement au Totem de la French Tech Côte d’Azur\, 9 rue d’Italie à Nice ou bien EN CLIQUANT ICI.
URL:https://www.frenchtechcotedazur.fr/event/atelier-orange-digital-center-decouvrir-les-reseaux-sociaux/
ATTACH;FMTTYPE=image/png:https://www.frenchtechcotedazur.fr/wp-content/uploads/2022/12/Atelier-pro-1.png
END:VEVENT
BEGIN:VEVENT
DTSTART;TZID=Europe/Paris:20230413T084500
DTEND;TZID=Europe/Paris:20230413T100000
DTSTAMP:20260423T040459
CREATED:20230327T085306Z
LAST-MODIFIED:20230327T091741Z
UID:4473-1681375500-1681380000@www.frenchtechcotedazur.fr
SUMMARY:Atelier Éco - La donnée\, un actif d’entreprise à part entière !
DESCRIPTION:Pensez-vous exploiter pleinement vos données ? Selon International Data Corporation\, seuls 32% des données sont exploités par les entreprises. Un chiffre qui chute à près de 20% pour le secteur de l’industrie. \nPourtant les données représentent une valeur primordiale dont les organisations doivent s’emparer. \nVenez échanger avec une experte Audrey LAMY MARTINOT\, CEO de Data Acteur\, et faites le point sur les enjeux de la data. \n\n\n\n\n\n\n🗓 Quand ? Jeudi 13 avril 2023 de 8h45 à 10h\n📍 Où ? 4 Trav. Dupont 4 Traverse Dupont 06130 Grasse\n\n\n\nInscription et informations en cliquant ici.
URL:https://www.frenchtechcotedazur.fr/event/atelier-eco-la-donnee-un-actif-dentreprise-a-part-entiere/
ATTACH;FMTTYPE=image/jpeg:https://www.frenchtechcotedazur.fr/wp-content/uploads/2023/03/1679568876030.jpg
END:VEVENT
BEGIN:VEVENT
DTSTART;TZID=Europe/Paris:20230419T123000
DTEND;TZID=Europe/Paris:20230419T133000
DTSTAMP:20260423T040459
CREATED:20230417T075611Z
LAST-MODIFIED:20230417T075719Z
UID:4570-1681907400-1681911000@www.frenchtechcotedazur.fr
SUMMARY:WEBINAR Lance ta carrière dans la Tech avec notre programme en développement web
DESCRIPTION:Lance ta carrière dans la Tech avec notre programme en développement web \nQue ce soit pour travailler en startup\, devenir développeur.se ou lancer votre propre projet… plongez dans l’univers du code avec Le Wagon et apprenez à développer vos propres applications de A à Z ! \nEn seulement 9 semaines\, cap ou pas cap ?\nRencontre Maewenn Drean et Caroline Bayle\, nos city managers\, le 19 avril à 12h30 en ligne ! \nDécouverte des métiers et des débouchés\, financement de la formation… elles répondront à toutes vos questions en direct ! \nMercredi 19 avril 2023 à 12h30\nOnline | Utilisation de la plateforme Demio \nInscription obligatoire en cliquant ici.
URL:https://www.frenchtechcotedazur.fr/event/webinar-lance-ta-carriere-dans-la-tech-avec-notre-programme-en-developpement-web/
ATTACH;FMTTYPE=image/png:https://www.frenchtechcotedazur.fr/wp-content/uploads/2023/04/Demo-day-1-2.png
END:VEVENT
BEGIN:VEVENT
DTSTART;TZID=Europe/Paris:20230419T173000
DTEND;TZID=Europe/Paris:20230419T193000
DTSTAMP:20260423T040459
CREATED:20230403T081149Z
LAST-MODIFIED:20230412T101137Z
UID:4506-1681925400-1681932600@www.frenchtechcotedazur.fr
SUMMARY:Afterwork Cocorico Day 🐓
DESCRIPTION:Afterwork Cocorico Day 🐓 \nL’événement d’onboarding et de pitchs des nouvelles startups membres de la French Tech Côte d’Azur. \n🗓 Mercredi 19 avril 2023 à partir de 17h30 \n📍CEEI Nice Côte d’Azur\, 61 avenue de Simone Veil\, 06200 Nice\, France \nVous pouvez vous inscrire en cliquant ici.
URL:https://www.frenchtechcotedazur.fr/event/afterwork-cocorico-day-%f0%9f%90%93/
ATTACH;FMTTYPE=image/png:https://www.frenchtechcotedazur.fr/wp-content/uploads/2023/04/partenaires-publics-6.png
END:VEVENT
BEGIN:VEVENT
DTSTART;TZID=Europe/Paris:20230420T173000
DTEND;TZID=Europe/Paris:20230420T203000
DTSTAMP:20260423T040459
CREATED:20230418T093522Z
LAST-MODIFIED:20230418T093552Z
UID:4597-1682011800-1682022600@www.frenchtechcotedazur.fr
SUMMARY:Afterwork UPE06 - Spécial International
DESCRIPTION:AFTERWORK « Forces Azuréennes et opportunités du développement à l’International »\nParticipez à la première manifestation de l’année de l’UPE06 et ses partenaires consacrée à l’export et à l’international. Venez échanger avec des décideurs et experts. Profitez des parcours et de l’expérience d’entrepreneurs. \nProgramme prévisionnel : \n\n17h30 : Accueil\n18h00 : Forces et priorités des entreprises azuréennes à l’international : Xavier Gesnouin\, Président du Comité régional des CCE Provence Alpes Côte d’Azur Corse\n18h15 : Réussites Azuréennes à l’International :\nJean-Christophe Ragni\, Directeur général adjoint du groupe Ragni\n18h30 : Aller chercher des marchés à l’international\, échanges croisés\n19h30 : Cocktail afin de poursuivre les échanges\n\nAvec la participation de : \n\nBernard Kleynhoff\, Président de Rising Sud et de la Commission Développement économique et Digital\, Industrie\, Export\, Attractivité et Cybersécurité de la Région Sud.\nChristophe Gamon\, CEO Vecteur Sud et Directeur Développement Groupe HUMELAB\, Co-président de la Commission International de la CCI Nice Côte d’Azur.\nMarie-Hélène Marcelli\, Directrice Générale de Carestia Arcade Beauty\, Grasse Expertise – Club des Entrepreneurs du Pays de Grasse.\nModération : Léonard Cox\, Président Task Force International UPE06\n\n  \n🗓 Quand ? jeudi 20 avril 2023 de 17h30 à 20h30 \n📍 Où ? UPE06\, 273 Avenue Georges Guynemer – Cap Var C2\,\n06700 Saint-Laurent-du-Var \nInscrivez-vous en cliquant ici. \n50 personnes maximum
URL:https://www.frenchtechcotedazur.fr/event/afterwork-upe06-special-international/
ATTACH;FMTTYPE=image/jpeg:https://www.frenchtechcotedazur.fr/wp-content/uploads/2023/04/unnamed.jpg
END:VEVENT
BEGIN:VEVENT
DTSTART;TZID=Europe/Paris:20230421T160000
DTEND;TZID=Europe/Paris:20230421T183000
DTSTAMP:20260423T040459
CREATED:20230418T091240Z
LAST-MODIFIED:20230418T091240Z
UID:4587-1682092800-1682101800@www.frenchtechcotedazur.fr
SUMMARY:Inauguration du Tilt Les petits débrouillards
DESCRIPTION:Inauguration du Tilt Les petits débrouillards\nLe Tilt Ariane ouvre ses portes vendredi 21 avril à 16h.\nLes petits débrouillard vous attendent nombreuses et nombreux pour fêter avec eux tout le travail réalisé à vos côtés pour créer cet espace dédié aux sciences et techniques et à la convivialité.\nVotre présence est la base ! \nLe programme : \n\n16h : Présentation et prises de parole des partenaires institutionnels\n17h: Découverte ludique des différents ateliers\n18h30: Apéritif et petits fours!\n\n🗓 Quand ? vendredi 21 avril 2023 de 16h à 18h30 \n📍 Où ? 105 boulevard de l’Ariane\, 06300 Nice \nInscription par mail s.tolosa@lespetitsdebrouillards.org ou par téléphone 07 81 90 72 76
URL:https://www.frenchtechcotedazur.fr/event/4587/
ATTACH;FMTTYPE=image/png:https://www.frenchtechcotedazur.fr/wp-content/uploads/2023/04/unnamed-1.png
END:VEVENT
BEGIN:VEVENT
DTSTART;TZID=Europe/Paris:20230424T190000
DTEND;TZID=Europe/Paris:20230424T200000
DTSTAMP:20260423T040459
CREATED:20230417T073900Z
LAST-MODIFIED:20230417T080117Z
UID:4553-1682362800-1682366400@www.frenchtechcotedazur.fr
SUMMARY:WEBINAR Découvrez la Data Visualisation avec Tableau
DESCRIPTION:À propos de cet atelier \nLe Wagon s’associe aux Meufs du Growth pour ses webinars du mois d’avril ! \nDans cet atelier en ligne gratuit\, vous apprendrez les bases de la visualisation des données et comment l’utiliser au quotidien. \nOBJECTIFS : \n\nCe qu’est la visualisation de données et comment l’utiliser.\nLes bases du Tableau et comment le mettre en œuvre dans votre quotidien.\nComment créer ensemble votre premier graphique et tableau de bord Tableau.\n\nFORMAT \nCe webinar débutera par un cours d’une heure pendant lequel vous découvrirez les concepts de base. Vous aurez ensuite accès à Learn\, la plateforme de e-learning du Wagon où vous retrouverez un résumé des notions clés\, des exercices ainsi que leurs corrigés pour continuer à pratiquer après l’atelier. \nPRÉ-REQUIS \nLes exercices sont en anglais\, une bonne maitrise de la langue est donc requise. Hormis cela cet atelier est ouvert à tous.tes\, aucun autre pré-requis n’est attendu ! \nLundi 24 avril 2023 à 19h \nÉvénement gratuit. \nInscription obligatoire en cliquant ici.
URL:https://www.frenchtechcotedazur.fr/event/webinar-decouvrez-la-data-visualisation/
ATTACH;FMTTYPE=image/jpeg:https://www.frenchtechcotedazur.fr/wp-content/uploads/2023/04/download.jpg
END:VEVENT
BEGIN:VEVENT
DTSTART;VALUE=DATE:20230425
DTEND;VALUE=DATE:20230426
DTSTAMP:20260423T040459
CREATED:20230414T074340Z
LAST-MODIFIED:20230414T074340Z
UID:4538-1682380800-1682467199@www.frenchtechcotedazur.fr
SUMMARY:Open GreenTech le rendez-vous innovation\, transition énergétique et supply chain
DESCRIPTION:Open GreenTech le rendez-vous innovation\, transition énergétique et supply chain \nCe nouveau rendez-vous Innovation proposé par la French Tech Grande Provence et La Bergerie\, en partenariat avec la CCI du Pays d’Arles interroge la part de l’innovation dans la logistique à l’aune de la transition énergétique et écologique. \nQuelles sont les solutions en cours d’expérimentation ?\n \nQuels défis restent à lever pour le dernier kilomètre\, le transport des produits thermosensibles\, l’optimisation des flux en logistique ? \nQuelle part l’énergie au cœur des mécaniques de transformation des usages\, notamment l’hydrogène\, peut-elle jouer en faveur de l’économie et de l’écologie ? \nDurant une journée\, Open GreenTech\, avec le soutien de la French Tech\, et B2PWeb\, partenaire officiel\, invite les acteurs privés et publics de la logistique et de l’énergie à réfléchir ensemble et découvrir les solutions innovantes\, en prototypage\, en test\, en homologation ou en fonctionnement. \n\n\n\n\n\n\nProgramme sous réserve de modifications \n\n\n\n\n9:00 OUVERTURE \n\n\n\n\nEn présence de \nPatrick de Carolis\, Président de l’Agglomération Arles Crau Camargue Montagnette \nStéphane Paglia\, Président de la CCI du Pays d’Arles \nPaul Hermelin\, Président de la French Tech Grande Provence \n  \n\n\n\n\n9:00 – 17:00 EXPOSITION \n\n\n\n\nTransport\, énergie\, impact environnemental\, des solutions greentech à découvrir et tester ! \nVous souhaitez exposer à Open GreenTech ? Rendez-vous sur la page Exposants pour obtenir votre place et votre badge d’accès. \n  \n\n\n\n\n\n\n\n\n\n\n\n\n9:30 – 10:30 TABLE RONDE \n\n\n\n\nLe dernier kilomètre\, un équilibre à trouver entre économie et impact \n\n\n\n\nPortées par des acteurs privés de la logistique\, des initiatives sont en cours d’expérimentation depuis près de deux années. Peuvent-elles être forces de modèle ? Quels sont les freins au déploiement de solutions visant à réduire\, voire supprimer l’impact des flux de marchandises vers les centre villes ? Et plus généralement au verdissement des flottes de transport dans un contexte d’inflation et d’augmentation du coût de l’énergie ? Les agglomérations seront-elles le lieu d’une réussite avec la mise en œuvre des Zones à Faibles Émissions ? \n\n\n\n\nAvec \nRaphaël Trouiller\, CEO La Roue Tourne \nTariel Chamerois\, Directeur RSE et Développement Durable France et Maghreb DB Schenker \nJulien Clément\, Directeur d’agence DB Schenker Avignon \nJérôme Favaro\, Directeur Général Hyphen Tech \nPatrick Regniez\, Directeur des opérations 4PL et 5 PL Sealogis\n \nCloé Castellas\, Présidente Pop\n \n  \n\n\n\n\n10:45 – 12:00 TABLE RONDE \n\n\n\n\nLe fleuve pour une logistique décarbonée des produits thermosensibles : réalisable ? \n\n\n\n\nLe Rhône permet de transporter 3\,83 millions de tonnes de marchandises entre Lyon et la Méditerranée. Le transport fluvial représente 3 à 4% de la part modale du transport. En décembre 2022\, le gouvernement a annoncé le projet Grand port Lyon -Marseille. Quelle place peut occuper le Port fluvial d’Arles qui a pour ambition de doubler le volume de marchandises ? Avec Isovation qui développe une solution de containers réfrigérés autonomes en énergie à base d’hydrogène\, le transport multimodal des produits thermosensibles est-il envisageable sur le plan technique et économique ? Le Grand Marché de Provence pourra-t-il se connecter aisément dans les flux des marchandises et augmenter son offre ?\n \n\n\n\n\nAvec \nBenoit Ponchon\, Directeur du Port Fluvial d’Arles \nPierre Meffre\, Directeur Valorisation Portuaire et Missions d’intérêt Général CNR\n \nGilles Bertrand\, Directeur développement économique du Grand Marché de Provence MIN Châteaurenard \nThomas Bignon\, Ingénieur Projet Isovation \n\n\n\n\n\n\n\n\n\n\n\n\n\n\n\n\n\n12:30 – 14h30 TEMPS DE NETWORKING – REPAS – FOODTRUCKS À DISPOSITION \n\n\n\n\n\n\n\n\n\n\n\n\n\n\n14:30 – 15:30 TABLE RONDE \n\n\n\nL’hydrogène quelles perspectives pour le transport et l’industrie ? \n\n\n\n\nL’utilisation directe de l’hydrogène comme combustible est-il sur le point de voir le  jour ? Peut-il être une source d’énergie propre pour le transport et l’industrie ? De la production à son usage en passant par le stockage et le transport de l’hydrogène\, les invités Hynoé\, le groupe Chabas H2\, GreenGT ont travaillé sur l’ensemble des process. Où en sommes-nous en termes de faisabilité\, de coût\, d’impact environnemental et de formation ?\n \n\n\n\n\nAvec \nAurélien Coudray\, Responsable Groupe Chabas H2\n \nNicolas Hatat\, Lead Engineer GreenGT Technologies\n \nFlavien Pasquet\, Directeur du Développement Hynoé\n \nAnne-Marie Perez\, Directrice Générale Capenergies \nStéphane Bonifay\, Vice-président de la CCI du Var \n\n\n\n\n\n\n\n\n\n\n\n\n\n\n\n\n\n\n\n15:45 – 16:15 KEYNOTE \n\n\n\n\nStratégies d’accélération pour une logistique décarbonée \n\n\n\n\nLors du troisième Comité interministériel de la logistique qui s’est tenu le 12 décembre 2022\, le gouvernement a présenté sa stratégie qui tient en huit points clés\, dont l’accélération de la décarbonation du mode routier du transport de marchandises. À cette fin\, le concept d’éco-combi va être étudié pour être appliqué en France. Quels sont les huit points clés et quels types de financements seront prévus pour accompagner l’accélération de la décarbonation ? \nun éclairage de Anne-Marie Idrac\, Présidente de France Logistique \n\n\n\n\n\n\n\n\n\n\n\n\n16:15 CLÔTURE \n\n\n\n\navec Benoît Aujay\, Directeur Général de B2PWeb partenaire officiel de La French Tech Grande Provence \n\n\n\n\n\n\n\n\n\n\n\n\nInscription en tant que visiteur ou exposant en cliquant ici.
URL:https://www.frenchtechcotedazur.fr/event/open-greentech-le-rendez-vous-innovation-transition-energetique-et-supply-chain/
ATTACH;FMTTYPE=image/png:https://www.frenchtechcotedazur.fr/wp-content/uploads/2023/04/unnamed.png
END:VEVENT
BEGIN:VEVENT
DTSTART;TZID=Europe/Paris:20230425T190000
DTEND;TZID=Europe/Paris:20230425T200000
DTSTAMP:20260423T040459
CREATED:20230417T074559Z
LAST-MODIFIED:20230417T080035Z
UID:4559-1682449200-1682452800@www.frenchtechcotedazur.fr
SUMMARY:WEBINAR Crée ta première application web en No-Code
DESCRIPTION:Le Wagon s’associe aux Meufs du Growth pour ses webinars du mois d’avril ! \nÀ propos de cet atelier : \nDans cet atelier de 2 heures\, vous découvrirez comment construire vos premières applications web sans coder. Vous apprendrez à utiliser des outils comme Webflow\, Airtable et Zapier et à créer des flux de travail personnalisés. \nOBJECTIFS : \nDans cet atelier\, vous apprendrez : \n\nÀ concevoir votre premier site web de commerce électronique sur webflow\nÀ créer votre première base de données sur Airtable et collecter vos prospects\nÀ intégrer Zapier pour automatiser les flux de travail\n\nFORMAT : \nCe webinar débutera par un cours d’une heure pendant lequel vous découvrirez les concepts de base. Vous aurez ensuite accès à Learn\, la plateforme de e-learning du Wagon où vous retrouverez un résumé des notions clés\, des exercices ainsi que leurs corrigés pour continuer à pratiquer après l’atelier. \nMardi 25 avril 2023 à 19h \nÉvénement gratuit. \nInscription obligatoire en cliquant ici.
URL:https://www.frenchtechcotedazur.fr/event/webinar-cree-ta-premiere-application-web-en-no-code/
ATTACH;FMTTYPE=image/jpeg:https://www.frenchtechcotedazur.fr/wp-content/uploads/2023/04/download-1.jpg
END:VEVENT
BEGIN:VEVENT
DTSTART;TZID=Europe/Paris:20230427T190000
DTEND;TZID=Europe/Paris:20230427T200000
DTSTAMP:20260423T040459
CREATED:20230417T074939Z
LAST-MODIFIED:20230417T075820Z
UID:4564-1682622000-1682625600@www.frenchtechcotedazur.fr
SUMMARY:WEBINAR Web Scraping pour débutant.e.s avec Python
DESCRIPTION:À propos de cet atelier \nDans cet atelier\, vous utiliserez Python\, BeautifulSoup et Jupyter afin de vous montrer les bases du web scraping pas à pas. Une certaine expérience avec Python sera utile\, mais n’est pas nécessaire – les concepts de programmation de base seront expliqués de manière pratique et accessible. \nOBJECTIFS : \n\nApprenez les bases de la programmation python et utiliser scraper facilement des données à partir de pages Web.\nDécouvrez comment exécuter du code dans les notebooks jupyter\, familiarisez-vous avec le langage python\, et comprenez comment les pages web sont structurées et où se trouvent les données que vous voulez récupérer.\nApprenez à collecter des données qui sera le point de départ de vos projets d’analyse de données pour vous permettre d’entraîner de puissants modèles prédictifs de Machine Learning et de Deep Learning.\n\nFORMAT \nCe webinar débutera par un cours d’une heure pendant lequel vous découvrirez les concepts de base. Vous aurez ensuite accès à Learn\, la plateforme de e-learning du Wagon où vous retrouverez un résumé des notions clés\, des exercices ainsi que leurs corrigés pour continuer à pratiquer après l’atelier. \nPRÉ-REQUIS \nLes exercices sont en anglais\, une bonne maitrise de la langue est donc requise. Hormis cela cet atelier est ouvert à tous.tes\, aucun autre pré-requis n’est attendu ! \nJeudi 27 avril 2023 à 19h \nÉvénement gratuit. \nInscription obligatoire en cliquant ici.
URL:https://www.frenchtechcotedazur.fr/event/webinar-web-scraping-pour-debutant-e-s-avec-python/
ATTACH;FMTTYPE=image/jpeg:https://www.frenchtechcotedazur.fr/wp-content/uploads/2023/04/download-1-1.jpg
END:VEVENT
END:VCALENDAR