BEGIN:VCALENDAR
VERSION:2.0
PRODID:-//French Tech Côte d&#039;Azur - ECPv6.15.20//NONSGML v1.0//EN
CALSCALE:GREGORIAN
METHOD:PUBLISH
X-ORIGINAL-URL:https://www.frenchtechcotedazur.fr
X-WR-CALDESC:Évènements pour French Tech Côte d&#039;Azur
REFRESH-INTERVAL;VALUE=DURATION:PT1H
X-Robots-Tag:noindex
X-PUBLISHED-TTL:PT1H
BEGIN:VTIMEZONE
TZID:Europe/Paris
BEGIN:DAYLIGHT
TZOFFSETFROM:+0100
TZOFFSETTO:+0200
TZNAME:CEST
DTSTART:20220327T010000
END:DAYLIGHT
BEGIN:STANDARD
TZOFFSETFROM:+0200
TZOFFSETTO:+0100
TZNAME:CET
DTSTART:20221030T010000
END:STANDARD
BEGIN:DAYLIGHT
TZOFFSETFROM:+0100
TZOFFSETTO:+0200
TZNAME:CEST
DTSTART:20230326T010000
END:DAYLIGHT
BEGIN:STANDARD
TZOFFSETFROM:+0200
TZOFFSETTO:+0100
TZNAME:CET
DTSTART:20231029T010000
END:STANDARD
BEGIN:DAYLIGHT
TZOFFSETFROM:+0100
TZOFFSETTO:+0200
TZNAME:CEST
DTSTART:20240331T010000
END:DAYLIGHT
BEGIN:STANDARD
TZOFFSETFROM:+0200
TZOFFSETTO:+0100
TZNAME:CET
DTSTART:20241027T010000
END:STANDARD
END:VTIMEZONE
BEGIN:VEVENT
DTSTART;VALUE=DATE:20230201
DTEND;VALUE=DATE:20230202
DTSTAMP:20260423T070340
CREATED:20230123T151513Z
LAST-MODIFIED:20230123T151513Z
UID:4039-1675209600-1675295999@www.frenchtechcotedazur.fr
SUMMARY:Afterwork - La gouvernance des start-up et des scale-up
DESCRIPTION:Le Club des Entrepreneurs du Pays de Grasse a le plaisir de vous convier à ce nouvel Afterwork de la communauté French Tech Côte d’Azur en pays de grasse sur « La Gouvernance des Start Up et des Scale Up » \nVenez écouter les témoignages de nos invités et leur poser toutes vos questions : \n\nJustine Lipuma\, MYCOPHYTO\nNathalie Saurin\, Fidal\nFrederick Besson\, PERFUMIST\nOlivier Choulet\, Ecoat\nThierry GOZLAN\, THIEGO\nNicolas Ivaldi\, EY Ventury Avocats\n\nEt poursuivre les échanges autour du Food Truck l’Atelier Breton ! \nQUAND ? Mercredi 1er février 2023 \nOÙ ? Espace Jacques-Louis Lions – 57\, avenue Pierre Sémard à Grasse \nInscription obligatoire EN CLIQUANT ICI. \nTarifs : 15€ (adhérent) – 20€ (non adhérent)
URL:https://www.frenchtechcotedazur.fr/event/afterwork-grasse/
ATTACH;FMTTYPE=image/jpeg:https://www.frenchtechcotedazur.fr/wp-content/uploads/2023/01/Grasse.jpg
END:VEVENT
BEGIN:VEVENT
DTSTART;VALUE=DATE:20230208
DTEND;VALUE=DATE:20230209
DTSTAMP:20260423T070340
CREATED:20230130T111809Z
LAST-MODIFIED:20230130T111809Z
UID:4099-1675814400-1675900799@www.frenchtechcotedazur.fr
SUMMARY:MADDY KEYNOTE édition 2023
DESCRIPTION:La Maddy Keynote 2023\, le festival de l’innovation by Maddyness est de retour pour une nouvelle édition ! \nLe thème de cette année : Born to be Alive \nComment les grands moments de notre vie sont-ils définis par les bouleversements qui redessinent nos trajectoires\, à titre individuel ou collectif ? \nParmi les speakers : \n\nMathieu Flamini\nBlaise Matuidi\nHélène Guillaume\nAlexandre Mars\nGrégoire Furrer\n\nRendez-vous le 8 février 2023 au carreau du temple à Paris ! \nPlus d’informations EN CLIQUANT ICI.
URL:https://www.frenchtechcotedazur.fr/event/maddy-keynote-edition-2023/
ATTACH;FMTTYPE=image/png:https://www.frenchtechcotedazur.fr/wp-content/uploads/2023/01/RS_Teasing-FB-01.png
END:VEVENT
BEGIN:VEVENT
DTSTART;TZID=Europe/Paris:20230208T173000
DTEND;TZID=Europe/Paris:20230208T213000
DTSTAMP:20260423T070340
CREATED:20230125T103833Z
LAST-MODIFIED:20230125T103851Z
UID:4051-1675877400-1675891800@www.frenchtechcotedazur.fr
SUMMARY:DemoDay du CEEI au CUM à Nice
DESCRIPTION:Prochain DemoDay du CEEI au CUM\, sur la Promenade des Anglais\, le 8 février prochain de 17h30 à 21h30\, un événement du Centre Européen d’Entreprises et d’Innovation Nice Côte d’Azur. \nLa crise de la Covid-19 a précipité la bascule dans cet Internet immersif qui plonge des avatars dans des univers parallèles. Le metaverse ouvre de nouvelles opportunités pour les sociétés spécialisées dans la réalité virtuelle ou augmentée : ce nouvel Internet mondial est crédité de 1.500 milliards de dollars de chiffre d’affaires d’ici à 2030 (Sources : KIF / EY). Mais\, les mondes virtuels se développent aussi au-delà de l’industrie. Les investissements stratégiques touchent aussi le secteur de la culture. On fait le point ensemble sur les initiatives de l’écosystème azuréen \nLe prochain DemoDay du CEEI\, organisé en collaboration avec Digital Asset Invest \, vous fait entrer dans le nouvel Internet immersif et vous présente comment « l’effet metaverse » pousse à la réflexion et aux nouveaux projets sur le territoire. \nAu programme\, le 8 février prochain\, dans les espaces du Centre Universitaire Méditerranéen (CUM)\, 2 grandes Keynotes stratégiques vous montreront les Metavers comme si vous y étiez… \nEn exclusivité pour le DemoDay du CEEI\, Les Agences de Papa et la Métropole Nice Côte D’Azur vous présenteront les possibilités virtuelles qui inventent de nouvelles expériences\, en matière de Culture et de nouveaux business. \nPendant cette fin de journée\, vous pourrez suivre aussi 2 très belles tables rondes\, truffées d’experts et d’entrepreneurs qui font ensemble un état des lieux sur les mondes immersifs et dressent des perspectives pour les mois à venir dans notre écosystème. Bienvenue à la Blockchain\, aux NFT et aux cryptos… ! \nSave the date : 8 février 2023\, 17h30 – 21h30\nCentre Universitaire Méditerranéen\n65 Promenade des Anglais 06000 Nice \n  \nInscription EN CLIQUANT ICI !
URL:https://www.frenchtechcotedazur.fr/event/demoday/
ATTACH;FMTTYPE=image/jpeg:https://www.frenchtechcotedazur.fr/wp-content/uploads/2023/01/DemoDay.jpeg
END:VEVENT
BEGIN:VEVENT
DTSTART;VALUE=DATE:20230209
DTEND;VALUE=DATE:20230212
DTSTAMP:20260423T070340
CREATED:20230110T110030Z
LAST-MODIFIED:20230110T110030Z
UID:3931-1675900800-1676159999@www.frenchtechcotedazur.fr
SUMMARY:WORLD ARTIFICIAL INTELLIGENCE CANNES FESTIVAL (WAICF)
DESCRIPTION:Du 9 au 11 février 2023\, Cannes accueille\, sous l’impulsion de David Lisnard\, maire de Cannes\, la 2ème édition du « World AI Cannes Festival » (WAICF)\, le festival mondial de l’Intelligence Artificielle (IA). \nOrganisé par Corp Agency et initié par la Mairie de Cannes\, le Département des Alpes-Maritimes et l’Institut Europia\, ce nouvel événement international prend possession du prestigieux Palais des Festivals et des Congrès de Cannes\, premier centre d’affaires français\, hors Paris\, pour l’accueil et l’organisation de salons professionnels de tourisme MICE. \nInformations et inscription EN CLIQUANT ICI.
URL:https://www.frenchtechcotedazur.fr/event/world-artificial-intelligence-cannes-festival-waicf/
ATTACH;FMTTYPE=image/jpeg:https://www.frenchtechcotedazur.fr/wp-content/uploads/2023/01/1671445803093.jpg
END:VEVENT
BEGIN:VEVENT
DTSTART;TZID=Europe/Paris:20230215T083000
DTEND;TZID=Europe/Paris:20230217T170000
DTSTAMP:20260423T070340
CREATED:20221221T093236Z
LAST-MODIFIED:20221221T093236Z
UID:3827-1676449800-1676653200@www.frenchtechcotedazur.fr
SUMMARY:Evènement HealthFromSpace
DESCRIPTION:Première conférence internationale HealthFromSpace qui va rassembler des experts de classe mondiale dans le domaine de la fabrication en orbite ou en microgravité / In Orbit Manufacturing. \nCet événement est l’opportunité de rencontrer sur le territoire français des acteurs majeurs du Newspace international : Blue Origin- Orbital Reef\, Nanoracks\, Space Ride\, Redwire\, D-Orbit … \nCette première conférence « HEALTH FROM SPACE » est organisée sous le parrainage des Pôles de compétitivité SAFECLUSTER et EUROBIOMED ainsi que de l’Agence Spatiale Européenne\, du CNES et en partenariat avec les références industrielles nationales du Spatial : THALES ALENIA SPACE et AIBUS DS en particulier. \nLes inscriptions sont ouvertes en « early bird » jusqu’au 30 décembre\, avec des conditions tarifaires préférentielles pour les adhérents du pôle SAFE \n*Les membres du réseau SAFE CLUSTER auront accès à des conditions préférentielles jusqu’au 31 décembre 2022. \nLe code est accessible depuis votre espace adhérent sur la plateforme Share dans le Groupe de travail « [Spatial] Informations stratégiques filière spatiale » ou sur simple demande par mail. \nPour plus de renseignements contactez : eleonora.gorobivschi@safecluster.com ou loic.chanvillard@safecluster.com
URL:https://www.frenchtechcotedazur.fr/event/evenement-healthfromspace/
ATTACH;FMTTYPE=image/jpeg:https://www.frenchtechcotedazur.fr/wp-content/uploads/2022/12/image007.jpeg
END:VEVENT
BEGIN:VEVENT
DTSTART;TZID=Europe/Paris:20230216T180000
DTEND;TZID=Europe/Paris:20230216T190000
DTSTAMP:20260423T070340
CREATED:20230213T131517Z
LAST-MODIFIED:20230213T132358Z
UID:4218-1676570400-1676574000@www.frenchtechcotedazur.fr
SUMMARY:Apéro Talk | Découverte du langage GO
DESCRIPTION:Le Wagon Nice organise un événement à Nice sur la découverte du langage Go (ou Golang)\, le langage de programmation développé par Google. Apprenez comment construire des programmes sécurisés et scalables avec Go. Simple\, efficace\, facile à apprendre\, et en bonus open-source !\n\nComment ?\nGo a été conçu pour résoudre les défis de la programmation dans un monde de plus en plus connecté au sein de Google. Il offre des moyens simples et rapides de construire des applications performantes\, et est utilisé par de nombreuses entreprises tech comme Uber et Netflix\, ainsi que par des communautés open source notamment dans le cloud natif.\nVous voulez en apprendre plus ?\nLe Wagon Nice vous propose de rencontrer Donia Chaiehloudj\, Software Backend Engineer\, leader de la communauté Google Developper Groups Sophia-Antipolis et membre de WHAT06\, elle promeut la diversité et le partage de la connaissance. Passionnée par Go et intéressée par lecloud\, Donia se spécialise dans les applications backend\, ayant développé des webs services pour le spatial et le gaming durant sa carrière.\n\nElle vous donnera un aperçu de ce qu’est le langage Go avant d’en faire une démonstration en direct ! A la fin de la démo\, vous pourrez networker avec d’autres passioné.e.s et curieux.se.s du code autour d’un verre.\n\nOù et quand ?\n🗓 Jeudi 16 février 2023 à 18h\n📍 Starway Coworking – Le Wagon⎜21bis avenue Thiers 06000 Nice\n\nInscription obligatoire en cliquant ici.
URL:https://www.frenchtechcotedazur.fr/event/apero-talk-langage-go/
ATTACH;FMTTYPE=image/png:https://www.frenchtechcotedazur.fr/wp-content/uploads/2023/02/Talks-Banniere-LinkedIn.png
END:VEVENT
BEGIN:VEVENT
DTSTART;TZID=Europe/Paris:20230220T170000
DTEND;TZID=Europe/Paris:20230220T183000
DTSTAMP:20260423T070340
CREATED:20230213T143311Z
LAST-MODIFIED:20230214T153811Z
UID:4226-1676912400-1676917800@www.frenchtechcotedazur.fr
SUMMARY:Atelier Pro Orange Digital Center - Cybersécurité : Protéger ses données
DESCRIPTION:Artisans\, commerçants et entrepreneurs\, participez à notre cours gratuit ! \n\n« Cybersécurité : Protéger ses données » un atelier Orange Digital Center réservé aux professionnels\, inscrivez-vous en cliquant ici.
URL:https://www.frenchtechcotedazur.fr/event/atelier-pro-orange-digital-center/
ATTACH;FMTTYPE=image/png:https://www.frenchtechcotedazur.fr/wp-content/uploads/2023/02/Orange-FB-copie-1.png
END:VEVENT
BEGIN:VEVENT
DTSTART;TZID=Europe/Paris:20230224T143000
DTEND;TZID=Europe/Paris:20230224T160000
DTSTAMP:20260423T070340
CREATED:20221222T153900Z
LAST-MODIFIED:20230221T155311Z
UID:3841-1677249000-1677254400@www.frenchtechcotedazur.fr
SUMMARY:Atelier Orange Digital Center - Découvrir les réseaux sociaux
DESCRIPTION:Parlez-en à vos proches et inscrivez-vous directement au Totem de la French Tech Côte d’Azur\, 9 rue d’Italie à Nice ou bien EN CLIQUANT ICI.
URL:https://www.frenchtechcotedazur.fr/event/atelier-orange-digital-center-2/
ATTACH;FMTTYPE=image/png:https://www.frenchtechcotedazur.fr/wp-content/uploads/2022/12/Atelier-pro.png
END:VEVENT
END:VCALENDAR