BEGIN:VCALENDAR
VERSION:2.0
PRODID:-//French Tech Côte d&#039;Azur - ECPv6.15.20//NONSGML v1.0//EN
CALSCALE:GREGORIAN
METHOD:PUBLISH
X-ORIGINAL-URL:https://www.frenchtechcotedazur.fr
X-WR-CALDESC:Évènements pour French Tech Côte d&#039;Azur
REFRESH-INTERVAL;VALUE=DURATION:PT1H
X-Robots-Tag:noindex
X-PUBLISHED-TTL:PT1H
BEGIN:VTIMEZONE
TZID:Europe/Paris
BEGIN:DAYLIGHT
TZOFFSETFROM:+0100
TZOFFSETTO:+0200
TZNAME:CEST
DTSTART:20220327T010000
END:DAYLIGHT
BEGIN:STANDARD
TZOFFSETFROM:+0200
TZOFFSETTO:+0100
TZNAME:CET
DTSTART:20221030T010000
END:STANDARD
BEGIN:DAYLIGHT
TZOFFSETFROM:+0100
TZOFFSETTO:+0200
TZNAME:CEST
DTSTART:20230326T010000
END:DAYLIGHT
BEGIN:STANDARD
TZOFFSETFROM:+0200
TZOFFSETTO:+0100
TZNAME:CET
DTSTART:20231029T010000
END:STANDARD
BEGIN:DAYLIGHT
TZOFFSETFROM:+0100
TZOFFSETTO:+0200
TZNAME:CEST
DTSTART:20240331T010000
END:DAYLIGHT
BEGIN:STANDARD
TZOFFSETFROM:+0200
TZOFFSETTO:+0100
TZNAME:CET
DTSTART:20241027T010000
END:STANDARD
END:VTIMEZONE
BEGIN:VEVENT
DTSTART;TZID=Europe/Paris:20230111T140000
DTEND;TZID=Europe/Paris:20230111T153000
DTSTAMP:20260423T082855
CREATED:20221021T125446Z
LAST-MODIFIED:20221107T082614Z
UID:3373-1673445600-1673451000@www.frenchtechcotedazur.fr
SUMMARY:Atelier Orange Digital Center - Débuter avec son smartphone
DESCRIPTION:Parlez-en à vos proches et inscrivez-vous directement au Totem de la French Tech Côte d’Azur\, 9 rue d’Italie à Nice ou bien EN CLIQUANT ICI.
URL:https://www.frenchtechcotedazur.fr/event/atelier-orange-digital-center-demarrer-avec-son-smartphone/
ATTACH;FMTTYPE=image/png:https://www.frenchtechcotedazur.fr/wp-content/uploads/2022/10/11-Janv-Atelier-numérique-à-la-French-Tech-Côte-dAzur-à-Nice.png
END:VEVENT
BEGIN:VEVENT
DTSTART;TZID=Europe/Paris:20230117T180000
DTEND;TZID=Europe/Paris:20230117T203000
DTSTAMP:20260423T082855
CREATED:20221214T125934Z
LAST-MODIFIED:20221214T125934Z
UID:3778-1673978400-1673987400@www.frenchtechcotedazur.fr
SUMMARY:Comment concilier influence et RSE ? by le Village by CA
DESCRIPTION:Un événement inédit à Le Village by Crédit Agricole Provence Côte d’Azur qui s’adresse aux communicants \, aux entrepreneurs\, aux dirigeants\, aux responsable RSE qui souhaitent donner de la visibilité à leur entreprise en utilisant l’influence marketing mais avec une stratégie appropriée\, numériquement responsable et en phase avec leurs engagements RSE. \n📆 Mardi 17 Janvier 18h00. \nEn partenariat avec SUP’DE COM – L’école de tous les métiers de la communication \, Grasse Mat’\, Influence4You et GREEN WEB \nUn programme dément 🔥🔥\n18H00 – Accueil – Venez vivre l’expérience immersive de CREATIVE MOTION\, »Blockchain Your Art » by Lionel Hun. \n18H30 : 5 TEDx\n– Marouane Boulares (directeur du développement de Sup de Com) : Quel est le rôle de l’enseignement concernant la communication responsable et éthique et la formation des influenceurs?\n– Fanny VIANO-HAZERA (experte en communication interne\, ex-directrice de communication pour le groupe Société Génrale) : Vos collaborateurs sont vos meilleurs Influenceurs.\n– Jean-Baptiste Viet (You Tuber Tech) : Tous influenceurs\, « responsables ». Peut-on monétiser sa passion sur Internet en restant fidèle à ses valeurs ?\n– Sébastien Bouillet (Cofondateur de Influence4You) : utiliser l’influence pour relayer aux engagements RSE.\n– Simon Cardon ( Entrepreneur engagé pour le Numérique Responsable – spécialiste Green IT et It for Green ) : communiquer de façon responsable en alignement avec le positionnement RSE de son entreprise. \n19H20 : Pause. testez l’expérience immersive Creative Motion. \n19H30 : Table ronde .\nNous allons approfondir les sujets et répondre à vos questions.\nEnvoyez vos questions d’ores et déjà sur aurelien.lallemant@levillagebyca.com. \n20h15 : Cocktail et prolongation des échanges. \nInscription ici: https://lnkd.in/eBXW5Jds
URL:https://www.frenchtechcotedazur.fr/event/comment-concilier-influence-et-rse-by-le-village-by-ca/
ATTACH;FMTTYPE=image/jpeg:https://www.frenchtechcotedazur.fr/wp-content/uploads/2022/12/village.jpeg
END:VEVENT
BEGIN:VEVENT
DTSTART;VALUE=DATE:20230120
DTEND;VALUE=DATE:20230122
DTSTAMP:20260423T082855
CREATED:20230110T084508Z
LAST-MODIFIED:20230110T084508Z
UID:3927-1674172800-1674345599@www.frenchtechcotedazur.fr
SUMMARY:WHAT 06 Hackathon - La Technologie au service de l'Inclusion
DESCRIPTION:WHAT06 vous invite à son 4ème hackathon\, cette fois sur le thème de l’Inclusion le 20 et 21 janvier à Sophia Antipolis ! \nOn vous attend le vendredi 20 janvier pour 24h de marathon créatif. \nVotre objectif ? Développer un produit ou service innovant\, qui met la technologie au service de l’inclusion. \nLes projets qui sauront se démarquer auprès du jury seront récompensés par des prix et lots technologiques. L’événement est ouvert à tous les publics et profils\, l’accompagnement et la nourriture seront fournis pendant les 24H. \nInformations et inscriptions EN CLIQUANT ICI. \nPour toute question écrivez à cette adresse : what.hackathon.06@gmail.com
URL:https://www.frenchtechcotedazur.fr/event/hack-for-inclusion/
ATTACH;FMTTYPE=image/jpeg:https://www.frenchtechcotedazur.fr/wp-content/uploads/2023/01/What06.jpg
END:VEVENT
BEGIN:VEVENT
DTSTART;TZID=Europe/Paris:20230123T080000
DTEND;TZID=Europe/Paris:20230127T173000
DTSTAMP:20260423T082855
CREATED:20230112T135732Z
LAST-MODIFIED:20230112T140303Z
UID:3951-1674460800-1674840600@www.frenchtechcotedazur.fr
SUMMARY:La semaine des métiers du numérique by Pôle Emploi
DESCRIPTION:Pôle emploi organise la cinquième édition de la Semaine des métiers du numérique du 23 au 27 janvier 2023. \nFilière d’avenir\, le secteur présente un fort potentiel d’embauches dans les années futures. Une semaine à ne pas rater pour tous ceux qui souhaitent découvrir ou exercer des métiers tels que développeur web\, codeur\, community manager ou « data scientist » ! \nAteliers découverte des métiers\, formations\, visites d’entreprises\, job dating\, conférences thématiques… de nombreux événements seront proposés. \nPlus d’informations sur le programme : en cliquant ici
URL:https://www.frenchtechcotedazur.fr/event/la-semaine-des-metiers-du-numerique-by-pole-emploi/
ATTACH;FMTTYPE=image/jpeg:https://www.frenchtechcotedazur.fr/wp-content/uploads/2023/01/numerique-23-850.jpeg
END:VEVENT
BEGIN:VEVENT
DTSTART;VALUE=DATE:20230125
DTEND;VALUE=DATE:20230128
DTSTAMP:20260423T082855
CREATED:20230110T083440Z
LAST-MODIFIED:20230110T083440Z
UID:3923-1674604800-1674863999@www.frenchtechcotedazur.fr
SUMMARY:18e UHFP Compétences 2030 : Réussir ensemble les transitions !
DESCRIPTION:18e UHFP Compétences 2030 : Réussir ensemble les transitions du 25 au 27 janvier\, à Cannes \nÀ l’occasion de cet événement\, ICDL annonce être partenaire « platinium » de l’Université d’Hiver de la Formation Professionnelle (UHFP2023) organisée par Centre Inffo qui se déroulera du 25 au 27 janvier 2023 à Cannes. \nInformations et inscription EN CLIQUANT ICI.
URL:https://www.frenchtechcotedazur.fr/event/uhfp-2030/
ATTACH;FMTTYPE=image/jpeg:https://www.frenchtechcotedazur.fr/wp-content/uploads/2023/01/1672656291460.jpg
END:VEVENT
BEGIN:VEVENT
DTSTART;TZID=Europe/Paris:20230126T173000
DTEND;TZID=Europe/Paris:20230126T190000
DTSTAMP:20260423T082855
CREATED:20230106T135641Z
LAST-MODIFIED:20230106T135855Z
UID:3908-1674754200-1674759600@www.frenchtechcotedazur.fr
SUMMARY:Préparer\, convaincre et réussir sa levée de fonds by la CCI
DESCRIPTION:Comment réaliser une levée de fonds correctement ? \n\n\n\n\n\n\n\n\n\n\nLa CCI Nice Côte d’Azur vous invite dans ses locaux à une conférence sur la thématique de la levée de fonds. \nL’actualité est souvent riche en la matière et la thématique demeure large : innovation\, développement\, transmission. \nComment préparer\, convaincre et réussir sa levée de fonds ? \nQuel est le bilan et quelles sont les tendances de l’activité du capital investissement au niveau national et local ? \nVous souhaitez connaitre les nouveaux produits et services des acteurs en ce début d’année 2023 et appréhender les implications d’une levée de fonds pour votre entreprise ? » \nEn présence des acteurs reconnus du capital-investissement\, sociétés de gestion et associations incontournables : \n\nTurenne Capital\nUI Investissement\nSmalt Capital\nFrance Invest\nFrance Digitale\nRise Partners\nEt témoignages d’entreprises avec un focus numérique\n\nLes intervenants nous présenteront leur activité\, leur vision\, les outils à disposition et la méthodologie à suivre afin d’éviter certains écueils. \nCet événement est organisé par le Service Financement des Entreprises et la Commission Numérique de la CCI NCA  \n\nInscription EN CLIQUANT ICI
URL:https://www.frenchtechcotedazur.fr/event/preparer-convaincre-et-reussir-sa-levee-de-fonds/
ATTACH;FMTTYPE=image/png:https://www.frenchtechcotedazur.fr/wp-content/uploads/2023/01/Préparer-convaincre-et-réussir-sa-levée-de-fonds-1.png
END:VEVENT
END:VCALENDAR