BEGIN:VCALENDAR
VERSION:2.0
PRODID:-//French Tech Côte d&#039;Azur - ECPv6.15.20//NONSGML v1.0//EN
CALSCALE:GREGORIAN
METHOD:PUBLISH
X-ORIGINAL-URL:https://www.frenchtechcotedazur.fr
X-WR-CALDESC:Évènements pour French Tech Côte d&#039;Azur
REFRESH-INTERVAL;VALUE=DURATION:PT1H
X-Robots-Tag:noindex
X-PUBLISHED-TTL:PT1H
BEGIN:VTIMEZONE
TZID:Europe/Paris
BEGIN:DAYLIGHT
TZOFFSETFROM:+0100
TZOFFSETTO:+0200
TZNAME:CEST
DTSTART:20210328T010000
END:DAYLIGHT
BEGIN:STANDARD
TZOFFSETFROM:+0200
TZOFFSETTO:+0100
TZNAME:CET
DTSTART:20211031T010000
END:STANDARD
BEGIN:DAYLIGHT
TZOFFSETFROM:+0100
TZOFFSETTO:+0200
TZNAME:CEST
DTSTART:20220327T010000
END:DAYLIGHT
BEGIN:STANDARD
TZOFFSETFROM:+0200
TZOFFSETTO:+0100
TZNAME:CET
DTSTART:20221030T010000
END:STANDARD
BEGIN:DAYLIGHT
TZOFFSETFROM:+0100
TZOFFSETTO:+0200
TZNAME:CEST
DTSTART:20230326T010000
END:DAYLIGHT
BEGIN:STANDARD
TZOFFSETFROM:+0200
TZOFFSETTO:+0100
TZNAME:CET
DTSTART:20231029T010000
END:STANDARD
END:VTIMEZONE
BEGIN:VEVENT
DTSTART;TZID=Europe/Paris:20220829T080000
DTEND;TZID=Europe/Paris:20220901T180000
DTSTAMP:20260423T135342
CREATED:20220706T080842Z
LAST-MODIFIED:20220719T120526Z
UID:2211-1661760000-1662055200@www.frenchtechcotedazur.fr
SUMMARY:French Tech Startup Summit 2022
DESCRIPTION:Le French Tech Côte d’Azur Startup Summit\, le grand événement de la rentrée économique\, réunira pour 4 jours les acteurs du numérique et de l’innovation.  \nPour cette nouvelle édition\, c’est un fil vert qui a été choisi pour rythmer le traditionnel rendez-vous des start-ups sur les quatre territoires : la Responsabilité Sociétale des Entreprises. \nRetrouvez toutes les informations concernant le Startup Summit 2022 en cliquant ici.
URL:https://www.frenchtechcotedazur.fr/event/french-tech-startups-summit-2022/
ATTACH;FMTTYPE=image/png:https://www.frenchtechcotedazur.fr/wp-content/uploads/2022/07/bandeau-site.png
ORGANIZER;CN="French Tech C%C3%B4te d'Azur":MAILTO:contact@frenchtechcotedazur.fr
END:VEVENT
BEGIN:VEVENT
DTSTART;TZID=Europe/Paris:20220913T120000
DTEND;TZID=Europe/Paris:20220913T130000
DTSTAMP:20260423T135342
CREATED:20220913T074214Z
LAST-MODIFIED:20220913T075343Z
UID:2721-1663070400-1663074000@www.frenchtechcotedazur.fr
SUMMARY:Webinaire: Présentation du concours SophI.A Awards
DESCRIPTION:La Communauté d’Agglomération Sophia Antipolis en partenariat avec l’Incubateur Paca-Est organisent la seconde édition des SophI.A Awards (anciennement SophI.A Masters). \nLe concours SophI.A Awards a pour objectif d’encourager la création de start-up innovantes à fort potentiel dans le domaine de l’IA en lien avec les avancées de la recherche de pointe française.\nIl récompense le projet de création d’entreprise le plus innovant en Intelligence Artificielle (IA). \nLes candidatures sont ouvertes jusqu’au 10 octobre 2022. Le lauréat sera annoncé lors du SophI.A Summit 2022\, le mercredi 23 novembre. \nLaurent Masson\, directeur de l’Incubateur Paca-Est\, accompagné de Jérome Jacques\, lauréat 2021\, présentera les modalités de participation et les dotations du concours. \nInscription à ce lien : https://www.eventbrite.fr/e/billets-presentation-du-concours-sophia-awards-390982518237
URL:https://www.frenchtechcotedazur.fr/event/2721/
ATTACH;FMTTYPE=image/png:https://www.frenchtechcotedazur.fr/wp-content/uploads/2022/09/Untitled-design-1.png
END:VEVENT
BEGIN:VEVENT
DTSTART;TZID=Europe/Paris:20220914T140000
DTEND;TZID=Europe/Paris:20220914T220000
DTSTAMP:20260423T135342
CREATED:20220722T082648Z
LAST-MODIFIED:20220722T082648Z
UID:2339-1663164000-1663192800@www.frenchtechcotedazur.fr
SUMMARY:Militaires & Entreprises : l'engagement gagnant
DESCRIPTION:Un évènement inédit qui réunit militaires et entreprises pour vous apporter des solutions dans le cadre de vos besoins RH et RSE. \nUn événement organisé par Opération Hypérion\, qui réunit les grandes instances militaires\, comme La Grade Nationale\, Défense Mobilité ou encore la Gendarmerie Nationale\, et le cabinet privé Pepite\, dans le cadre des besoins RH et RSE des entreprises du Département des Alpes-Maritimes. \n\n\n\n\n\n\n\n\n\n\n\n\n\nInscrivez-vous gratuitement en cliquant ici.
URL:https://www.frenchtechcotedazur.fr/event/militaires-entreprises-lengagement-gagnant/
LOCATION:Le Village by CA Provence Côte d’Azur\, Rue Claude Daunesse\, Valbonne\, 06560\, France
ATTACH;FMTTYPE=image/jpeg:https://www.frenchtechcotedazur.fr/wp-content/uploads/2022/07/unnamed.jpg
END:VEVENT
BEGIN:VEVENT
DTSTART;TZID=Europe/Paris:20220917T110000
DTEND;TZID=Europe/Paris:20220917T133000
DTSTAMP:20260423T135342
CREATED:20220916T090259Z
LAST-MODIFIED:20220916T090259Z
UID:2851-1663412400-1663421400@www.frenchtechcotedazur.fr
SUMMARY:Samedi de la Créa' d'Entreprises By Réseau Initiatives NCA
DESCRIPTION:Accompagnement gratuit en création d’entreprise. \nVenez poser vos questions ce Samedi 17 Septembre\, à 11h00 \nRendez-vous à la Cathédrale Notre-Dame\, Nice avec le Bus de l’Entrepreneuriat pour tous \n  \nPour tout renseignement vous pouvez contacter le Réseau Initiative NCA au : \n04 93 62 03 03 ou accueil@initiative-nca.fr
URL:https://www.frenchtechcotedazur.fr/event/2851/
ATTACH;FMTTYPE=image/png:https://www.frenchtechcotedazur.fr/wp-content/uploads/2022/09/Samedi_de_la_crea_-_post_RS.png
END:VEVENT
BEGIN:VEVENT
DTSTART;TZID=Europe/Paris:20220920T190000
DTEND;TZID=Europe/Paris:20220920T190000
DTSTAMP:20260423T135342
CREATED:20220916T090950Z
LAST-MODIFIED:20220916T091420Z
UID:2855-1663700400-1663700400@www.frenchtechcotedazur.fr
SUMMARY:Les Nuits d'Initiative by Réseau Initiative NCA
DESCRIPTION:Soirée au profit d’Initiative Nice Côte d’Azur pour financer des actions auprès des jeunes\n\nLES NUITS D’INITIATIVE 2022 \nQuand: 20 septembre 2022 \nHoraires: 19h-23h \nOù: Stockfish/Maison de l’étudiant – 5 Av. François Mitterrand\, 06300 Nice \nLe temps d’une soirée\, Initiative Nice Côte d’Azur organise un évènement caritatif ouvert à ses partenaires\, ses experts-bénévoles\, aux entrepreneurs et futurs entrepreneurs\, et enfin à toute personne souhaitant œuvrer en faveur des actions de l’association. Sont proposés différents moments permettant à chacun d’aider l’association financièrement\, selon son budget et ses sensibilités\, à promouvoir l’entrepreneuriat des jeunes. \n  \nCette soirée sera reconduite chaque année : Ce sont « les Nuits d’Initiative ». \n  \nL’accompagnement est l’ADN du réseau Initiative : le partage d’expertises\, le suivi\, l’écoute et le soutien. Autant d’engagements des bénévoles et des permanents qui sont la plus forte des valeurs et sont fondamentaux pour notre réseau. \n  \nCette soirée a vocation à les célébrer et à les remercier. \n  \nMais\, même si un bon conseil vaut de l’or\, il faut un peu d’argent pour soutenir tous ces beaux projets. \n  \nC’est pourquoi nous avons besoin de votre générosité aujourd’hui pour que cette soirée caritative au profit des jeunes soit une réussite. \n  \n200 € récoltés c’est 1 emploi créé ! \n  \nAu programme: \n\nTombola\nVente aux enchères d’œuvres d’art\nSoirée DJ\nSnacking\nBar\n\nEt bien d’autres surprises… \n  \nDes centaines d’euros de lots à gagner à la Tombola et 7 œuvres exceptionnelles aux enchères ! (voir ci-dessous) \n  \nTarifs : \n\n1 prévente* = 10 € (avec 2 tickets de tombola)\n1 place sur place = 10€ (avec 1 ticket de tombola)\nLes tickets de tombola supplémentaires sont à 5€ chaque (disponibles sur place)\n\n  \nBilletterie : cliquer ici pour prendre votre billet  \n*Bénéficiez d’un ticket de tombola offert pour l’achat d’une prévente ! \n  \nBar et Snack : \n\nEau et café : 2€\nSoft : 3€\nVin ou bière : 4€\nChampagne : 5 €\nHotdog (saucisse ou végé)\nPlateau fromage et charcuterie\nGlace\n\n  \nLots à gagner dans la Tombola : \n\n1 panier gourmand – Fromagerie Cap de Croix (Nice)\n1 repas pour 2 – Le bistrot Gourmand (Nice)\n1 repas pour 2 – Les Agitateurs (Nice)\n1 nuitée / 2 petits déjeuners / 2 Repas* / L’accès aux espaces bien être / *boissons comprises – Cantemerle (Vence)\nVivre un match de l’OGC Nice sur la Pelouse – Fabrice Mauro\n1 an de cookies – Emilie and the cool kids\n1 Nuit d’hôtel pour 2 avec petit déjeuner – hôtel Saint Sébastien (Roquebillière)\nRepas pour 2 (valeur 80€) – Hacienda (Nice)\nRepas pour 2 – Z Restaurant Tapas (Nice)\n1 brunch pour 2 – Pauline fait la cuisine (Nice)\nCoffret provençal – Anquevin (Nice)\nCoffret de spiritueux – Nez d’esprit (Nice)\nCoffret  cosmétique – Wakey cosmétique (Nice)\nBougies maison – Maison Tchin Tchin\nAu petit bonheur – L’Oracle philosophique\, poétique et artistique pour petits et grands : 70 cartes pour embrasser ses émotions et teinter son quotidien de bonheur par Gaelle Simon\n1 bouteille et 1 jeu de société – Les beaux joueurs (Nice)\nValisette 8 bières – Cave libération (Nice)\n1 repas pour 2 – Rouge (Nice)\n1 kit Petite Bonne Femme + 1 kit Ni Plus Ni moins Niçoise – Cecile Gambini\n\n \n\nLes oeuvres aux enchères : \n\nOeuvre n°6 – série « vague niçoises » – Thomas Lemaire  Mise à prix\nL’amour fou – Claude Gilli – Mise à prix 150€\nŒuvre originale (20*20) – Sylvie T – Mise à prix 150€\nOeuvre originale – Sophie RUNCO MIRGLIA – Mise à prix 45€\nTriptyque – Gaelle Simon – Mise à prix 150€\nŒuvre 28×28 – Bekerbas – Mise à prix 150€
URL:https://www.frenchtechcotedazur.fr/event/les-nuits-dinitiative-by-reseau-initiative-nca/
ATTACH;FMTTYPE=image/png:https://www.frenchtechcotedazur.fr/wp-content/uploads/2022/09/Visuels_Nuits_dInitiative-1.png
END:VEVENT
BEGIN:VEVENT
DTSTART;TZID=Europe/Paris:20220921T130000
DTEND;TZID=Europe/Paris:20220921T140000
DTSTAMP:20260423T135342
CREATED:20220913T075218Z
LAST-MODIFIED:20220913T075257Z
UID:2729-1663765200-1663768800@www.frenchtechcotedazur.fr
SUMMARY:Webinaire: Denis BASTIMENT\, MyDataModels : Démarrer une startup dans l’IA\, comment surmonter les obstacles ? comment construire ses atouts ?
DESCRIPTION:Un webinaire organisé par l’incubateur pour les porteurs de projets d’entreprises innovantes dans l’IA « Denis BASTIMENT\, MyDataModels : Démarrer une startup dans l’IA\, comment surmonter les obstacles ? comment construire ses atouts ? » \nCréée en 2018 autour d’une technologie originale d’intelligence artificielle appliquée aux petits jeux de données\, le « small data »\, MyDataModels\, en lien avec ses clients et suite à 5\,5 M€ de levées de fonds\, est devenue l’entreprise qui démocratise et simplifie l’IA dans la santé\, l’industrie\, le marketing et l’environnement. \nInscription en répondant à ce questionnaire : https://apps.questionnaireweb.com/form/139640
URL:https://www.frenchtechcotedazur.fr/event/2729/
ATTACH;FMTTYPE=image/png:https://www.frenchtechcotedazur.fr/wp-content/uploads/2022/09/Untitled-design-1.png
END:VEVENT
BEGIN:VEVENT
DTSTART;TZID=Europe/Paris:20220926T180000
DTEND;TZID=Europe/Paris:20220926T200000
DTSTAMP:20260423T135342
CREATED:20220916T092112Z
LAST-MODIFIED:20220916T092145Z
UID:2859-1664215200-1664222400@www.frenchtechcotedazur.fr
SUMMARY:Digital Lab by Réseau Initiative NCA
DESCRIPTION:DIGITAL LAB – COMMENT CRÉER DES VISUELS SUR LES RÉSEAUX SOCIAUX? \nPrésenté par Alice André\, Fondatrice de l’Agence Colette Consulting et membre du Conseil d’Administration de la FTCA \n  \nVenez participer au Digital Lab organisé par le Réseau Initiative Nice Côte d’Azur le Lundi 26 Septembre\, à 18h00 \nau Pop Up Initiative au Centre Commercial NICETOILE\, 30 Av. Jean Médecin\, 06000 Nice \nLes inscriptions se font: ici \nDes questions? Vous pouvez contacter: o.lefevre@initiative-nca.fr
URL:https://www.frenchtechcotedazur.fr/event/digital-lab-by-reseau-initiative-nca/
ATTACH;FMTTYPE=image/png:https://www.frenchtechcotedazur.fr/wp-content/uploads/2022/09/Untitled-design-11.png
END:VEVENT
BEGIN:VEVENT
DTSTART;TZID=Europe/Paris:20220928T090000
DTEND;TZID=Europe/Paris:20220929T130000
DTSTAMP:20260423T135342
CREATED:20220914T092726Z
LAST-MODIFIED:20220914T092726Z
UID:2794-1664355600-1664456400@www.frenchtechcotedazur.fr
SUMMARY:Transition Forum
DESCRIPTION:5ème édition du Transition Forum “Time to accelerate” le 29 et 30 septembre à Nice\, \nCet événement rassemblera innovateurs\, investisseurs\, décideurs publics et privés\, entrepreneurs\, chercheurs et personnalités de la société civile… \nÀ cette occasion\, ils présenteront leurs actions et initiatives pour l’accélération de la transition écologique  \n📍 Forum de la Transition écologique\, Palais de la Méditerranée de Nice \nInscrivez-vous ici dès maintenant : https://bit.ly/3amyYRG
URL:https://www.frenchtechcotedazur.fr/event/transition-forum/
ATTACH;FMTTYPE=image/png:https://www.frenchtechcotedazur.fr/wp-content/uploads/2022/09/Untitled-design-4.png
END:VEVENT
BEGIN:VEVENT
DTSTART;TZID=Europe/Paris:20220929T093000
DTEND;TZID=Europe/Paris:20220929T163000
DTSTAMP:20260423T135342
CREATED:20220914T090911Z
LAST-MODIFIED:20220914T091044Z
UID:2784-1664443800-1664469000@www.frenchtechcotedazur.fr
SUMMARY:SCS IA & IoT Exhibition Day 2022 – Démonstrateurs\, Présentations & Networking
DESCRIPTION:Startups\, PME et Grands Groupes membres SCS offreurs ou utilisateurs de solutions IA et/ou IoT\, bénéficiez de cette opportunité exceptionnelle. \nAprès une 1ere édition réussie en septembre 2021 autour de l’IA (en savoir +)\, SCS réunit ses Groupes de Travail IoT et IA et poursuit la journée par un Showroom IA & IoT\, ouvert à un large public d’entreprises pour découvrir le potentiel innovant et les derniers cas d’usage existants et à venir autour de ces domaines. \nPour plus d’informations sur le déroulement de l’événement et les modalités d’inscriptions: cliquez ici
URL:https://www.frenchtechcotedazur.fr/event/scs-ia-iot-exhibition-day-2022-demonstrateurs-presentations-networking/
ATTACH;FMTTYPE=image/png:https://www.frenchtechcotedazur.fr/wp-content/uploads/2022/09/Untitled-design-3.png
END:VEVENT
BEGIN:VEVENT
DTSTART;TZID=Europe/Paris:20220929T190000
DTEND;TZID=Europe/Paris:20220929T220000
DTSTAMP:20260423T135342
CREATED:20220928T074828Z
LAST-MODIFIED:20220928T074828Z
UID:3187-1664478000-1664488800@www.frenchtechcotedazur.fr
SUMMARY:ATELIER METAVERSE CHEZ VIRTEEM (ex Vip 360)
DESCRIPTION:ATI-CA vous propose de venir découvrir les nouvelles possibilités qu’offre le Métaverse au monde de l’Industrie ! \nC’est Virteem (ex Vip 360) qui vous accueil afin de vous proposer un atelier sur le Métaverse ainsi que ces applications à l’Industrie. \nNous vous donnons rendez le 29 septembre à 19h avenue Roumanille à Biot. \nLes thèmes abordés seront : \n\n L’Industrie du futur grâce au Métaverse\n La réalité virtuelle et la formation\n QSE / Prévention risques quels sont les nouveaux outils\n\nDurant l’atelier\, des démonstrations avec Casque VR seront mis en place. \nN’attendez plus et inscrivez-vous à l’atelier Métaverse à ce LIEN
URL:https://www.frenchtechcotedazur.fr/event/atelier-metaverse-chez-virteem-ex-vip-360/
ATTACH;FMTTYPE=image/png:https://www.frenchtechcotedazur.fr/wp-content/uploads/2022/09/FdrDWnKX0AU9b7u.png
END:VEVENT
END:VCALENDAR