BEGIN:VCALENDAR
VERSION:2.0
PRODID:-//French Tech Côte d&#039;Azur - ECPv6.15.20//NONSGML v1.0//EN
CALSCALE:GREGORIAN
METHOD:PUBLISH
X-ORIGINAL-URL:https://www.frenchtechcotedazur.fr
X-WR-CALDESC:Évènements pour French Tech Côte d&#039;Azur
REFRESH-INTERVAL;VALUE=DURATION:PT1H
X-Robots-Tag:noindex
X-PUBLISHED-TTL:PT1H
BEGIN:VTIMEZONE
TZID:Europe/Paris
BEGIN:DAYLIGHT
TZOFFSETFROM:+0100
TZOFFSETTO:+0200
TZNAME:CEST
DTSTART:20210328T010000
END:DAYLIGHT
BEGIN:STANDARD
TZOFFSETFROM:+0200
TZOFFSETTO:+0100
TZNAME:CET
DTSTART:20211031T010000
END:STANDARD
BEGIN:DAYLIGHT
TZOFFSETFROM:+0100
TZOFFSETTO:+0200
TZNAME:CEST
DTSTART:20220327T010000
END:DAYLIGHT
BEGIN:STANDARD
TZOFFSETFROM:+0200
TZOFFSETTO:+0100
TZNAME:CET
DTSTART:20221030T010000
END:STANDARD
BEGIN:DAYLIGHT
TZOFFSETFROM:+0100
TZOFFSETTO:+0200
TZNAME:CEST
DTSTART:20230326T010000
END:DAYLIGHT
BEGIN:STANDARD
TZOFFSETFROM:+0200
TZOFFSETTO:+0100
TZNAME:CET
DTSTART:20231029T010000
END:STANDARD
END:VTIMEZONE
BEGIN:VEVENT
DTSTART;VALUE=DATE:20220412
DTEND;VALUE=DATE:20220413
DTSTAMP:20260423T203013
CREATED:20220314T161215Z
LAST-MODIFIED:20220314T161215Z
UID:1696-1649721600-1649807999@www.frenchtechcotedazur.fr
SUMMARY:FID MED Riviera
DESCRIPTION:Le FID MED (le Financial Innovation Day Méditerranée) revient sur la Côte d’Azur pour une édition spéciale Intelligence Artificielle\, le 12 avril 2022 à la Maison de l’Intelligence Artificielle à Sophia Antipolis.\nCréée en 2015 à Marseille (édition « Provence »)\, le FID MED s’est imposé comme LE rendez-vous dédié au financement de l’innovation et des entreprises innovantes dans le Sud. Il poursuit son développement avec la création de l’édition « Riviera » en 2019 à Sophia Antipolis\, en collaboration avec les associations Télécom Valley et Medinsoft. \nL’objectif de cet événement est double : \n\ncontribuer à l’émergence et au développement des entreprises innovantes du territoire\, en présentant les nouvelles tendances du financement de l’innovation\nétablir une passerelle entre les entrepreneurs et les acteurs du financement
URL:https://www.frenchtechcotedazur.fr/event/fid-med-riviera/
LOCATION:Maison de l’Intelligence Artificielle\, 1361 Rte des Lucioles\, Biot\, 06410\, France
CATEGORIES:sophia antipolis
ATTACH;FMTTYPE=image/png:https://www.frenchtechcotedazur.fr/wp-content/uploads/2022/03/save-the-date.png
END:VEVENT
BEGIN:VEVENT
DTSTART;VALUE=DATE:20220414
DTEND;VALUE=DATE:20220417
DTSTAMP:20260423T203013
CREATED:20220314T165558Z
LAST-MODIFIED:20220314T165558Z
UID:1709-1649894400-1650153599@www.frenchtechcotedazur.fr
SUMMARY:World AI Cannes Festival
DESCRIPTION:
URL:https://www.frenchtechcotedazur.fr/event/world-ai-cannes-festival/
LOCATION:Palais des Festivals et des Congrès de Cannes\, 1 Bd de la Croisette\, Cannes\, 06400\, France
CATEGORIES:cannes
ATTACH;FMTTYPE=image/png:https://www.frenchtechcotedazur.fr/wp-content/uploads/2022/03/Capture-décran-2022-03-14-à-17.55.08.png
END:VEVENT
BEGIN:VEVENT
DTSTART;TZID=Europe/Paris:20220414T180000
DTEND;TZID=Europe/Paris:20220414T203000
DTSTAMP:20260423T203013
CREATED:20220314T165907Z
LAST-MODIFIED:20220314T165924Z
UID:1714-1649959200-1649968200@www.frenchtechcotedazur.fr
SUMMARY:Les Trophées Women in Tech Sud
DESCRIPTION:La French Tech Côte d’Azur soutient les Trophées Women in Tech Sud. \nCe concours lancé en 2019 est destiné à mettre en valeur les femmes travaillant dans la technologie\, en France et plus particulièrement dans la Région Sud. Les « Women in Tech » peuvent candidater dans quatre catégories : startupeuse\, chercheuse\, salariée ou experte IA. \nLa cérémonie de remise des prix aura lieu lors du salon World AI Cannes.
URL:https://www.frenchtechcotedazur.fr/event/trophees-women-in-tech-sud/
LOCATION:Palais des Festivals et des Congrès de Cannes\, 1 Bd de la Croisette\, Cannes\, 06400\, France
CATEGORIES:cannes
ATTACH;FMTTYPE=image/png:https://www.frenchtechcotedazur.fr/wp-content/uploads/2022/03/remise-trophees-wits-banner.png
END:VEVENT
BEGIN:VEVENT
DTSTART;VALUE=DATE:20220426
DTEND;VALUE=DATE:20220427
DTSTAMP:20260423T203013
CREATED:20220318T145400Z
LAST-MODIFIED:20220318T145400Z
UID:1754-1650931200-1651017599@www.frenchtechcotedazur.fr
SUMMARY:Journée M-Toursime
DESCRIPTION:Cet événement lancé en 2011 par la communauté m-Tourisme est une journée de conférences et table-rondes sur le m-Tourisme\, mettant en exergue la complémentarité de notre territoire et celui euro-méditerranéen entre technologie et Tourisme\, sur un thème actuel et différent chaque année. \nIl s’adresse aux professionnels du Tourisme\, des technologies numériques et aux collectivités territoriales du bassin euro-méditerranéen. \nLe thème de cette édition 2022 portera sur le Numérique au service du Tourisme Durable et Responsable.
URL:https://www.frenchtechcotedazur.fr/event/journee-m-toursime/
CATEGORIES:sophia antipolis
END:VEVENT
END:VCALENDAR