BEGIN:VCALENDAR
VERSION:2.0
PRODID:-//French Tech Côte d&#039;Azur - ECPv6.15.20//NONSGML v1.0//EN
CALSCALE:GREGORIAN
METHOD:PUBLISH
X-WR-CALNAME:French Tech Côte d&#039;Azur
X-ORIGINAL-URL:https://www.frenchtechcotedazur.fr
X-WR-CALDESC:Évènements pour French Tech Côte d&#039;Azur
REFRESH-INTERVAL;VALUE=DURATION:PT1H
X-Robots-Tag:noindex
X-PUBLISHED-TTL:PT1H
BEGIN:VTIMEZONE
TZID:Europe/Paris
BEGIN:DAYLIGHT
TZOFFSETFROM:+0100
TZOFFSETTO:+0200
TZNAME:CEST
DTSTART:20210328T010000
END:DAYLIGHT
BEGIN:STANDARD
TZOFFSETFROM:+0200
TZOFFSETTO:+0100
TZNAME:CET
DTSTART:20211031T010000
END:STANDARD
BEGIN:DAYLIGHT
TZOFFSETFROM:+0100
TZOFFSETTO:+0200
TZNAME:CEST
DTSTART:20220327T010000
END:DAYLIGHT
BEGIN:STANDARD
TZOFFSETFROM:+0200
TZOFFSETTO:+0100
TZNAME:CET
DTSTART:20221030T010000
END:STANDARD
BEGIN:DAYLIGHT
TZOFFSETFROM:+0100
TZOFFSETTO:+0200
TZNAME:CEST
DTSTART:20230326T010000
END:DAYLIGHT
BEGIN:STANDARD
TZOFFSETFROM:+0200
TZOFFSETTO:+0100
TZNAME:CET
DTSTART:20231029T010000
END:STANDARD
END:VTIMEZONE
BEGIN:VEVENT
DTSTART;TZID=Europe/Paris:20220315T093000
DTEND;TZID=Europe/Paris:20220315T113000
DTSTAMP:20260423T215850
CREATED:20220314T160645Z
LAST-MODIFIED:20220314T160645Z
UID:1690-1647336600-1647343800@www.frenchtechcotedazur.fr
SUMMARY:Atelier sur le "Made in France" - French Tech Central
DESCRIPTION:Vous souhaitez valoriser vos produits fabriqués en France ? 🇫🇷 \nLa Direction régionale des douanes et droits indirects de Nice vous donne rendez-vous à Nice pour un atelier dédié au Made in France. \n——————————————————————– \nAu programme : \n🐓 Présentation : Qu’est-ce que le  » Made in France » / « Fabriqué en France » ? \n📑 Atelier : Comment remplir le formulaire de demande ? \n——————————————————————– \n📅 Quand ? Mardi 15 mars de 9h30 à 11h30 \n📍 Où ? 9\, rue d’Italie à Nice \n——————————————————————– \nA propos du programme French Tech Central \nFrench Tech Central est un programme à destination des startups\, piloté par la French Tech Côte d’Azur dans les Alpes-Maritimes. \nVia notre plateforme de rendez-vous\, les startups peuvent se mettre en lien directement avec les ministères et services publics pour toute question relative à leur développement. \nParmi les services partenaires : la Douane\, l’Afnor\, l’Urssaf\, Pôle Emploi\, l’Inpi\, la Banque de France et bien d’autres. \nRetrouvez l’ensemble des créneaux de rendez-vous sur notre site \n👉 https://cutt.ly/RAjV6KX
URL:https://www.frenchtechcotedazur.fr/event/atelier-made-in-france-french-tech-central/
LOCATION:Totem French Tech Côte d’Azur\, 9 rue d’Italie\, Nice\, 06300\, France
CATEGORIES:french tech central,nice
ATTACH;FMTTYPE=image/png:https://www.frenchtechcotedazur.fr/wp-content/uploads/2022/03/FT-Central_15032022-01.png
ORGANIZER;CN="French Tech C%C3%B4te d'Azur":MAILTO:contact@frenchtechcotedazur.fr
END:VEVENT
BEGIN:VEVENT
DTSTART;TZID=Europe/Paris:20220315T170000
DTEND;TZID=Europe/Paris:20220315T193000
DTSTAMP:20260423T215850
CREATED:20220314T161656Z
LAST-MODIFIED:20220314T161817Z
UID:1701-1647363600-1647372600@www.frenchtechcotedazur.fr
SUMMARY:Challenge Jeunes Pousses 2021/2022
DESCRIPTION:DERNIÈRE LIGNE DROITE POUR LES FINALISTES DE LA 20ÈME ÉDITION DU CHALLENGE JEUNES POUSSES!\nCRÉDYPTO\, ÉGOKY OU PEEKSMEE ?\n\nCredypto\, consiste à créer une application web\, permettant\, grâce à plusieurs paramètres\, de vérifier la crédibilité d’une cryptomonnaie.\nÉgoky est un projet de création et vente de combinaisons de surf éco responsables\, adaptables et customisables.\nPeeksmee c’est le premier appareil photo connecté en carton fait en France. Avec ce produit\, l’idée est de redécouvrir les avantages de l’appareil photo jetable sans les inconvénients.\n\nQUI REMPORTERA CETTE ÉDITION ?\n\n\n\n\nPROGRAMME\n17H00 : Accueil et discours de bienvenue par Jean-François CARRASCO & Max CHAZARRA\, membres du Comité de Pilotage du Challenge Jeunes Pousses \n17H20 : Début des présentations \n18H50 : Fin des présentations – Délibération des membres du Jury \n19H30 : Annonce des résultats & Cocktail de clôture \nAu delà de 50 participants\, le pass vaccinal sera demandé à l’accueil.
URL:https://www.frenchtechcotedazur.fr/event/challenge-jeunes-pousses-2021-2022/
LOCATION:INRIA\, INRIA 2004 Rte des Lucioles\, SOPHIA ANTIPOLIS\, 06560\, France
CATEGORIES:sophia antipolis
ATTACH;FMTTYPE=image/jpeg:https://www.frenchtechcotedazur.fr/wp-content/uploads/2022/03/20ansCJP-WP_Plan-de-travail-1-scaled-1.jpeg
END:VEVENT
END:VCALENDAR