BEGIN:VCALENDAR
VERSION:2.0
PRODID:-//French Tech Côte d&#039;Azur - ECPv6.15.20//NONSGML v1.0//EN
CALSCALE:GREGORIAN
METHOD:PUBLISH
X-ORIGINAL-URL:https://www.frenchtechcotedazur.fr
X-WR-CALDESC:Évènements pour French Tech Côte d&#039;Azur
REFRESH-INTERVAL;VALUE=DURATION:PT1H
X-Robots-Tag:noindex
X-PUBLISHED-TTL:PT1H
BEGIN:VTIMEZONE
TZID:Europe/Paris
BEGIN:DAYLIGHT
TZOFFSETFROM:+0100
TZOFFSETTO:+0200
TZNAME:CEST
DTSTART:20240331T010000
END:DAYLIGHT
BEGIN:STANDARD
TZOFFSETFROM:+0200
TZOFFSETTO:+0100
TZNAME:CET
DTSTART:20241027T010000
END:STANDARD
BEGIN:DAYLIGHT
TZOFFSETFROM:+0100
TZOFFSETTO:+0200
TZNAME:CEST
DTSTART:20250330T010000
END:DAYLIGHT
BEGIN:STANDARD
TZOFFSETFROM:+0200
TZOFFSETTO:+0100
TZNAME:CET
DTSTART:20251026T010000
END:STANDARD
BEGIN:DAYLIGHT
TZOFFSETFROM:+0100
TZOFFSETTO:+0200
TZNAME:CEST
DTSTART:20260329T010000
END:DAYLIGHT
BEGIN:STANDARD
TZOFFSETFROM:+0200
TZOFFSETTO:+0100
TZNAME:CET
DTSTART:20261025T010000
END:STANDARD
END:VTIMEZONE
BEGIN:VEVENT
DTSTART;TZID=Europe/Paris:20251023T174500
DTEND;TZID=Europe/Paris:20251023T213000
DTSTAMP:20260421T105428
CREATED:20240827T083109Z
LAST-MODIFIED:20250930T135106Z
UID:8779-1761241500-1761255000@www.frenchtechcotedazur.fr
SUMMARY:Nuit des Acteurs du Numérique par Telecom Valley
DESCRIPTION:Plongez dans un atelier immersif et interactif pour expérimenter concrètement les 𝐝𝐞́𝐟𝐢𝐬 𝐫𝐞𝐧𝐜𝐨𝐧𝐭𝐫𝐞́𝐬 par les personnes en situation de handicap. \nÀ travers des exercices inspirés du réel\, découvrez comment de petites attentions peuvent faire une grande différence. \n💡 𝐑𝐞𝐩𝐚𝐫𝐭𝐞𝐳 𝐚𝐯𝐞𝐜 :\n-une meilleure compréhension des défis liés au handicap\,\n-des clés d’empathie\,\n-et des idées simples pour favoriser l’inclusion dans vos projets et dans la vie de tous les jours. \nEn bref un atelier vivant\, impactant et accessible à tous ; 𝐎𝐬𝐞𝐳 𝐣𝐨𝐮𝐞𝐫 𝐩𝐨𝐮𝐫 𝐦𝐢𝐞𝐮𝐱 𝐯𝐨𝐮𝐬 𝐢𝐧𝐜𝐥𝐮𝐫𝐞 ! 😊 \n🎤 Atelier animé par Walid Abdelkefi (UX Researcher & UX Designer). \n📌𝐈𝐧𝐟𝐨𝐬 𝐬𝐮𝐫 𝐥𝐚 𝐬𝐨𝐢𝐫𝐞́𝐞 :\n📅 Jeudi 23 octobre\n🕜 18h – 21h30 (accueil dès 17h45)\n📍 SKEMA Business School \n➡️ 𝐏𝐫𝐨𝐠𝐫𝐚𝐦𝐦𝐞 𝐜𝐨𝐦𝐩𝐥𝐞𝐭 : https://lnkd.in/gguYWZvd \n➡️ 𝐈𝐧𝐬𝐜𝐫𝐢𝐯𝐞𝐳-𝐯𝐨𝐮𝐬 𝐢𝐜𝐢 : https://lnkd.in/gM6ADMVj.
URL:https://www.frenchtechcotedazur.fr/event/nuit-des-acteurs-du-numerique-par-telecom-valley-2/
ATTACH;FMTTYPE=image/jpeg:https://www.frenchtechcotedazur.fr/wp-content/uploads/2024/08/1759149482894.jpg
END:VEVENT
END:VCALENDAR