BEGIN:VCALENDAR
VERSION:2.0
PRODID:-//French Tech Côte d&#039;Azur - ECPv6.15.20//NONSGML v1.0//EN
CALSCALE:GREGORIAN
METHOD:PUBLISH
X-WR-CALNAME:French Tech Côte d&#039;Azur
X-ORIGINAL-URL:https://www.frenchtechcotedazur.fr
X-WR-CALDESC:Évènements pour French Tech Côte d&#039;Azur
REFRESH-INTERVAL;VALUE=DURATION:PT1H
X-Robots-Tag:noindex
X-PUBLISHED-TTL:PT1H
BEGIN:VTIMEZONE
TZID:Europe/Paris
BEGIN:DAYLIGHT
TZOFFSETFROM:+0100
TZOFFSETTO:+0200
TZNAME:CEST
DTSTART:20240331T010000
END:DAYLIGHT
BEGIN:STANDARD
TZOFFSETFROM:+0200
TZOFFSETTO:+0100
TZNAME:CET
DTSTART:20241027T010000
END:STANDARD
BEGIN:DAYLIGHT
TZOFFSETFROM:+0100
TZOFFSETTO:+0200
TZNAME:CEST
DTSTART:20250330T010000
END:DAYLIGHT
BEGIN:STANDARD
TZOFFSETFROM:+0200
TZOFFSETTO:+0100
TZNAME:CET
DTSTART:20251026T010000
END:STANDARD
BEGIN:DAYLIGHT
TZOFFSETFROM:+0100
TZOFFSETTO:+0200
TZNAME:CEST
DTSTART:20260329T010000
END:DAYLIGHT
BEGIN:STANDARD
TZOFFSETFROM:+0200
TZOFFSETTO:+0100
TZNAME:CET
DTSTART:20261025T010000
END:STANDARD
END:VTIMEZONE
BEGIN:VEVENT
DTSTART;TZID=Europe/Paris:20251013T160000
DTEND;TZID=Europe/Paris:20251013T223000
DTSTAMP:20260421T104145
CREATED:20240827T083109Z
LAST-MODIFIED:20250715T131138Z
UID:8297-1760371200-1760394600@www.frenchtechcotedazur.fr
SUMMARY:Soirée du Test Logiciel par All4test
DESCRIPTION:Boostez votre expertise en test logiciel et partagez un moment convivial avec l’écosystème tech de la Côte d’Azur !Un événement 100 % gratuit\, conçu pour les startups et acteurs du numérique souhaitant échanger sur les dernières tendances et découvrir comment intégrer le Quality Engineering au cœur de leurs équipes. \n📅 Lundi 13 octobre 2025 — de 16h à 22h30 \n📍 Locaux d’Amadeus\, Sophia-Antipolis \nAu programme :👉 Des conférences animées par des experts du test logiciel et du Quality Engineering👉 Des retours d’expérience concrets pour outiller vos équipes👉 Un buffet networking pour échanger entre professionnels du secteur \n🎟️ Participation gratuite\, et buffet inclus !Pour vous inscrire\, cliquez sur ce lien : soiree-du-test-logiciel.com/inscription/
URL:https://www.frenchtechcotedazur.fr/event/soiree-du-test-logiciel-a-sophia-antipolis/
ATTACH;FMTTYPE=image/png:https://www.frenchtechcotedazur.fr/wp-content/uploads/2024/08/Capture-decran-2025-07-10-170045.png
END:VEVENT
END:VCALENDAR