BEGIN:VCALENDAR
VERSION:2.0
PRODID:-//French Tech Côte d&#039;Azur - ECPv6.15.20//NONSGML v1.0//EN
CALSCALE:GREGORIAN
METHOD:PUBLISH
X-WR-CALNAME:French Tech Côte d&#039;Azur
X-ORIGINAL-URL:https://www.frenchtechcotedazur.fr
X-WR-CALDESC:Évènements pour French Tech Côte d&#039;Azur
REFRESH-INTERVAL;VALUE=DURATION:PT1H
X-Robots-Tag:noindex
X-PUBLISHED-TTL:PT1H
BEGIN:VTIMEZONE
TZID:Europe/Paris
BEGIN:DAYLIGHT
TZOFFSETFROM:+0100
TZOFFSETTO:+0200
TZNAME:CEST
DTSTART:20240331T010000
END:DAYLIGHT
BEGIN:STANDARD
TZOFFSETFROM:+0200
TZOFFSETTO:+0100
TZNAME:CET
DTSTART:20241027T010000
END:STANDARD
BEGIN:DAYLIGHT
TZOFFSETFROM:+0100
TZOFFSETTO:+0200
TZNAME:CEST
DTSTART:20250330T010000
END:DAYLIGHT
BEGIN:STANDARD
TZOFFSETFROM:+0200
TZOFFSETTO:+0100
TZNAME:CET
DTSTART:20251026T010000
END:STANDARD
BEGIN:DAYLIGHT
TZOFFSETFROM:+0100
TZOFFSETTO:+0200
TZNAME:CEST
DTSTART:20260329T010000
END:DAYLIGHT
BEGIN:STANDARD
TZOFFSETFROM:+0200
TZOFFSETTO:+0100
TZNAME:CET
DTSTART:20261025T010000
END:STANDARD
END:VTIMEZONE
BEGIN:VEVENT
DTSTART;TZID=Europe/Paris:20251002T173000
DTEND;TZID=Europe/Paris:20251002T193000
DTSTAMP:20260421T103850
CREATED:20240329T135303Z
LAST-MODIFIED:20250925T075409Z
UID:8722-1759426200-1759433400@www.frenchtechcotedazur.fr
SUMMARY:Impact dans sa startup : le guide pour passer à l’action par INRIA\, Techforward et le Village by CA Provence Côte d’Azur
DESCRIPTION:INRIA\, Techforward et le Village by CA Provence Côte d’Azur organisent une table ronde le jeudi 2 octobre de 17h30 à 19h30 à Sophia Antipolis. \nL’objectif : explorer de manière concrète comment bâtir des startups responsible by design\, qui conjuguent impact et croissance dès leurs premiers pas. \nLes intervenants : \n\nVincent Desnot\, CEO de Teach on Mars\nAlex Gerbaud\, Venture Capital Investor chez Innovacom\nYasmine Machwate\, Responsable des Incubateurs à EDHEC Entrepreneurs\n\nAu programme : \n\nPourquoi intégrer l’impact dès le départ ?\nComment le traduire dans un produit\, un service ou un business model ?\nL’impact freine-t-il ou accélère-t-il la croissance ?\nComment en faire une culture durable ?\n\nLa table ronde sera suivie d’un cocktail convivial pour prolonger les échanges. \nPour plus d’information et vous inscrire\, cliquez-ici
URL:https://www.frenchtechcotedazur.fr/event/impact-dans-sa-startup-le-guide-pour-passer-a-laction-par-inria-techforward-et-le-village-by-ca-provence-cote-dazur/
ATTACH;FMTTYPE=image/jpeg:https://www.frenchtechcotedazur.fr/wp-content/uploads/2024/03/1758535817338.jpg
END:VEVENT
END:VCALENDAR