BEGIN:VCALENDAR
VERSION:2.0
PRODID:-//French Tech Côte d&#039;Azur - ECPv6.15.20//NONSGML v1.0//EN
CALSCALE:GREGORIAN
METHOD:PUBLISH
X-ORIGINAL-URL:https://www.frenchtechcotedazur.fr
X-WR-CALDESC:Évènements pour French Tech Côte d&#039;Azur
REFRESH-INTERVAL;VALUE=DURATION:PT1H
X-Robots-Tag:noindex
X-PUBLISHED-TTL:PT1H
BEGIN:VTIMEZONE
TZID:Europe/Paris
BEGIN:DAYLIGHT
TZOFFSETFROM:+0100
TZOFFSETTO:+0200
TZNAME:CEST
DTSTART:20240331T010000
END:DAYLIGHT
BEGIN:STANDARD
TZOFFSETFROM:+0200
TZOFFSETTO:+0100
TZNAME:CET
DTSTART:20241027T010000
END:STANDARD
BEGIN:DAYLIGHT
TZOFFSETFROM:+0100
TZOFFSETTO:+0200
TZNAME:CEST
DTSTART:20250330T010000
END:DAYLIGHT
BEGIN:STANDARD
TZOFFSETFROM:+0200
TZOFFSETTO:+0100
TZNAME:CET
DTSTART:20251026T010000
END:STANDARD
BEGIN:DAYLIGHT
TZOFFSETFROM:+0100
TZOFFSETTO:+0200
TZNAME:CEST
DTSTART:20260329T010000
END:DAYLIGHT
BEGIN:STANDARD
TZOFFSETFROM:+0200
TZOFFSETTO:+0100
TZNAME:CET
DTSTART:20261025T010000
END:STANDARD
END:VTIMEZONE
BEGIN:VEVENT
DTSTART;TZID=Europe/Paris:20251001T123000
DTEND;TZID=Europe/Paris:20251001T140000
DTSTAMP:20260421T105327
CREATED:20240827T083109Z
LAST-MODIFIED:20250926T075224Z
UID:8703-1759321800-1759327200@www.frenchtechcotedazur.fr
SUMMARY:Chefs d'entreprise : Les clés pour réussir votre projet par Cannes Is Up
DESCRIPTION:Cannes is Up vous invite à un atelier interactif consacré aux financements en 2025\, animé par Fumi Partners et le cabinet Leyton qui se tiendra : \n📅 Le mercredi 1er octobre 2025 12h30 à 14h \n📍 Campus Georges Méliès – 214 Av. Francis Tonner\, 06150 Cannes \nAu programme :\n\nPropriété Intellectuelle\n Rapprochement Université/Laboratoires-Entreprises\nMentorat et accompagnement dans l’innovation\n\nPour vous inscrire : cliquez-ici
URL:https://www.frenchtechcotedazur.fr/event/chefs-dentreprise-les-cle-pour-reussir-votre-projet-par-cannes-is-up/
ATTACH;FMTTYPE=image/jpeg:https://www.frenchtechcotedazur.fr/wp-content/uploads/2024/08/https-cdn.evbuc_.com-images-1093767013-2587354102661-1-original.20250812-133148-e1757579810615.jpeg
END:VEVENT
END:VCALENDAR