BEGIN:VCALENDAR
VERSION:2.0
PRODID:-//French Tech Côte d&#039;Azur - ECPv6.15.20//NONSGML v1.0//EN
CALSCALE:GREGORIAN
METHOD:PUBLISH
X-WR-CALNAME:French Tech Côte d&#039;Azur
X-ORIGINAL-URL:https://www.frenchtechcotedazur.fr
X-WR-CALDESC:Évènements pour French Tech Côte d&#039;Azur
REFRESH-INTERVAL;VALUE=DURATION:PT1H
X-Robots-Tag:noindex
X-PUBLISHED-TTL:PT1H
BEGIN:VTIMEZONE
TZID:Europe/Paris
BEGIN:DAYLIGHT
TZOFFSETFROM:+0100
TZOFFSETTO:+0200
TZNAME:CEST
DTSTART:20240331T010000
END:DAYLIGHT
BEGIN:STANDARD
TZOFFSETFROM:+0200
TZOFFSETTO:+0100
TZNAME:CET
DTSTART:20241027T010000
END:STANDARD
BEGIN:DAYLIGHT
TZOFFSETFROM:+0100
TZOFFSETTO:+0200
TZNAME:CEST
DTSTART:20250330T010000
END:DAYLIGHT
BEGIN:STANDARD
TZOFFSETFROM:+0200
TZOFFSETTO:+0100
TZNAME:CET
DTSTART:20251026T010000
END:STANDARD
BEGIN:DAYLIGHT
TZOFFSETFROM:+0100
TZOFFSETTO:+0200
TZNAME:CEST
DTSTART:20260329T010000
END:DAYLIGHT
BEGIN:STANDARD
TZOFFSETFROM:+0200
TZOFFSETTO:+0100
TZNAME:CET
DTSTART:20261025T010000
END:STANDARD
END:VTIMEZONE
BEGIN:VEVENT
DTSTART;TZID=Europe/Paris:20250930T183000
DTEND;TZID=Europe/Paris:20250930T213000
DTSTAMP:20260421T101052
CREATED:20240827T083109Z
LAST-MODIFIED:20250827T125214Z
UID:8562-1759257000-1759267800@www.frenchtechcotedazur.fr
SUMMARY:LES PREMIÈRES SUD & INITIATIVE TERRES D’AZUR – PITCH PARTY À GRASSE
DESCRIPTION:Venez pitcher votre projet\, rencontrer d’autres entrepreneures et partager un moment convivial autour de l’entrepreneuriat féminin ! \n📅 Mardi 30 septembre 2025 – 18h30 à 21h30📍 Espace Jacques Louis Lions – 4 Traverse Dupont\, 06130 Grasse \nPour qui ?👉 Femmes entrepreneures (cheffes d’entreprise\, associées)👉 Porteuses de projet prêtes à se lancer \nAu programme :✨ Présentation des structures organisatrices✨ Pitchs inspirants & échanges bienveillants✨ Networking pour créer des connexions et saisir des opportunités \n📌 Inscription obligatoire – Réserve ta place dès maintenant !
URL:https://www.frenchtechcotedazur.fr/event/les-premieres-sud-initiative-terres-dazur-pitch-party-a-grasse/
ATTACH;FMTTYPE=image/png:https://www.frenchtechcotedazur.fr/wp-content/uploads/2024/08/Capture-decran-2025-08-27-145139.png
END:VEVENT
END:VCALENDAR