BEGIN:VCALENDAR
VERSION:2.0
PRODID:-//French Tech Côte d&#039;Azur - ECPv6.15.20//NONSGML v1.0//EN
CALSCALE:GREGORIAN
METHOD:PUBLISH
X-ORIGINAL-URL:https://www.frenchtechcotedazur.fr
X-WR-CALDESC:Évènements pour French Tech Côte d&#039;Azur
REFRESH-INTERVAL;VALUE=DURATION:PT1H
X-Robots-Tag:noindex
X-PUBLISHED-TTL:PT1H
BEGIN:VTIMEZONE
TZID:Europe/Paris
BEGIN:DAYLIGHT
TZOFFSETFROM:+0100
TZOFFSETTO:+0200
TZNAME:CEST
DTSTART:20240331T010000
END:DAYLIGHT
BEGIN:STANDARD
TZOFFSETFROM:+0200
TZOFFSETTO:+0100
TZNAME:CET
DTSTART:20241027T010000
END:STANDARD
BEGIN:DAYLIGHT
TZOFFSETFROM:+0100
TZOFFSETTO:+0200
TZNAME:CEST
DTSTART:20250330T010000
END:DAYLIGHT
BEGIN:STANDARD
TZOFFSETFROM:+0200
TZOFFSETTO:+0100
TZNAME:CET
DTSTART:20251026T010000
END:STANDARD
BEGIN:DAYLIGHT
TZOFFSETFROM:+0100
TZOFFSETTO:+0200
TZNAME:CEST
DTSTART:20260329T010000
END:DAYLIGHT
BEGIN:STANDARD
TZOFFSETFROM:+0200
TZOFFSETTO:+0100
TZNAME:CET
DTSTART:20261025T010000
END:STANDARD
END:VTIMEZONE
BEGIN:VEVENT
DTSTART;TZID=Europe/Paris:20250929T183000
DTEND;TZID=Europe/Paris:20250929T210000
DTSTAMP:20260421T105541
CREATED:20240827T083109Z
LAST-MODIFIED:20250923T080252Z
UID:8708-1759170600-1759179600@www.frenchtechcotedazur.fr
SUMMARY:Afterwork NSU x Adsearch – Comment l’IA optimise et sécurise les recrutements
DESCRIPTION:Un afterwork inspirant pour découvrir comment l’IA transforme le recrutement : optimisation des processus\, sécurisation des choix et solutions concrètes déjà sur le marché. \n📅 Lundi 29 septembre 2025 – 18h30 à 21h📍 IPAG Business School\, 4 Boulevard Carabacel\, Nice \nProgramme :✔ Conférence interactive avec experts RH & IA✔ Cas pratiques et échanges✔ Networking convivial autour d’un cocktail \n👉 Inscrivez-vous ici ! 
URL:https://www.frenchtechcotedazur.fr/event/afterwork-nsu-x-adsearch-comment-lia-optimise-et-securise-les-recrutements/
ATTACH;FMTTYPE=image/jpeg:https://www.frenchtechcotedazur.fr/wp-content/uploads/2024/08/afterwork-recrutement-linkedin-1024x1024-1.jpg
END:VEVENT
END:VCALENDAR