BEGIN:VCALENDAR
VERSION:2.0
PRODID:-//French Tech Côte d&#039;Azur - ECPv6.15.20//NONSGML v1.0//EN
CALSCALE:GREGORIAN
METHOD:PUBLISH
X-ORIGINAL-URL:https://www.frenchtechcotedazur.fr
X-WR-CALDESC:Évènements pour French Tech Côte d&#039;Azur
REFRESH-INTERVAL;VALUE=DURATION:PT1H
X-Robots-Tag:noindex
X-PUBLISHED-TTL:PT1H
BEGIN:VTIMEZONE
TZID:Europe/Paris
BEGIN:DAYLIGHT
TZOFFSETFROM:+0100
TZOFFSETTO:+0200
TZNAME:CEST
DTSTART:20240331T010000
END:DAYLIGHT
BEGIN:STANDARD
TZOFFSETFROM:+0200
TZOFFSETTO:+0100
TZNAME:CET
DTSTART:20241027T010000
END:STANDARD
BEGIN:DAYLIGHT
TZOFFSETFROM:+0100
TZOFFSETTO:+0200
TZNAME:CEST
DTSTART:20250330T010000
END:DAYLIGHT
BEGIN:STANDARD
TZOFFSETFROM:+0200
TZOFFSETTO:+0100
TZNAME:CET
DTSTART:20251026T010000
END:STANDARD
BEGIN:DAYLIGHT
TZOFFSETFROM:+0100
TZOFFSETTO:+0200
TZNAME:CEST
DTSTART:20260329T010000
END:DAYLIGHT
BEGIN:STANDARD
TZOFFSETFROM:+0200
TZOFFSETTO:+0100
TZNAME:CET
DTSTART:20261025T010000
END:STANDARD
END:VTIMEZONE
BEGIN:VEVENT
DTSTART;VALUE=DATE:20250925
DTEND;VALUE=DATE:20250926
DTSTAMP:20260421T120426
CREATED:20240827T083109Z
LAST-MODIFIED:20250710T151419Z
UID:8306-1758758400-1758844799@www.frenchtechcotedazur.fr
SUMMARY:Data Analytics & Photonique pour la Santé — Nouvelles perspectives et applications innovantes par AKTANTIS
DESCRIPTION:Une journée unique au croisement de la DeepTech photonique et de la data au service de la santé !Explorez les dernières avancées en recherche biomédicale\, imagerie\, diagnostic et IA médicale grâce à la convergence de l’optique\, de la photonique et des data. \n📅 Jeudi 25 septembre 2025 \n📍 Mines ParisTech Sophia Antipolis 1\, rue Claude Daunesse\, 06904 Sophia-Antipolis Cedex \nAu programme : \n👉 Keynote “État de l’art sur l’utilisation de la photonique en santé” par un Key Opinion Leader👉 Table ronde : “Optique et photonique\, quelles opportunités pour l’analyse\, l’imagerie\, le diagnostic in vitro/in vivo\, les biocapteurs…”👉 Zoom sur : “La valeur ajoutée de l’optique/photonique/quantique pour l’analyse de la data\, des images\, du computing…”👉 Pitchs de startups innovantes dans les domaines photonique\, optique\, IA pour l’imagerie et la recherche biomédicale👉 RDV B2B pour favoriser les rencontres et collaborations entre industriels\, académiques et cliniciens \nPitchs startups : \nVous avez une solution en photonique ou IA appliquée à la santé ?📢 Candidatez avant le 30/07/2025 en envoyant un descriptif de votre solution à Fabienne de Toma. \nModalités & inscription : \n\n\nParticipation gratuite pour les membres AKTANTIS et Eurobiomed \n\n\nTarif 120€ HT pour les non-membres \n\n\nPour vous inscrire\, cliquez ici ! \n\n\nContacts : \n\n\nFabienne de Toma (AKTANTIS) – Conférences \n\n\nEmmanuel Le Bouder (Eurobiomed) – Conférences \n\n\nNe manquez pas ce rendez-vous clé pour connecter innovation\, santé et technologies de rupture en Région Sud !
URL:https://www.frenchtechcotedazur.fr/event/data-analytics-photonique-pour-la-sante-nouvelles-perspectives-et-applications-innovantes-par-aktantis/
ATTACH;FMTTYPE=image/png:https://www.frenchtechcotedazur.fr/wp-content/uploads/2024/08/Capture-decran-2025-07-10-171322.png
END:VEVENT
BEGIN:VEVENT
DTSTART;TZID=Europe/Paris:20250925T083000
DTEND;TZID=Europe/Paris:20250925T173000
DTSTAMP:20260421T120426
CREATED:20240827T083109Z
LAST-MODIFIED:20250901T145003Z
UID:8597-1758789000-1758821400@www.frenchtechcotedazur.fr
SUMMARY:Agile Tour Sophia par Telecom Valley
DESCRIPTION:Telecom Valley organise l’Agile Tour Sophia 2025\, un événement incontournable pour les passionnés d’Agilité et les curieux souhaitant découvrir de nouvelles pratiques\, partager des expériences et s’inspirer des experts du domaine. \n📅 Jeudi 25 septembre 2025\, de 8h30 à 17h30\n📍 Université Côte d’Azur – Campus SophiaTech (Sophia Antipolis) \n📖 Au programme : \n\nKeynote d’ouverture par Nicolas Dolbeau\nDe nombreux ateliers\, talks et retours d’expérience autour de l’agilité\nDes pitchs dynamiques pour découvrir les sessions de la journée\nNetworking et échanges avec la communauté Agile de Sophia Antipolis ✨\n\nPour vous inscrire : cliquez-ici \n 
URL:https://www.frenchtechcotedazur.fr/event/agile-tour-sophia-par-telecom-valley/
ATTACH;FMTTYPE=image/png:https://www.frenchtechcotedazur.fr/wp-content/uploads/2024/08/Affiche-generale-ATSA-2025-1-1.png
END:VEVENT
END:VCALENDAR