BEGIN:VCALENDAR
VERSION:2.0
PRODID:-//French Tech Côte d&#039;Azur - ECPv6.15.20//NONSGML v1.0//EN
CALSCALE:GREGORIAN
METHOD:PUBLISH
X-WR-CALNAME:French Tech Côte d&#039;Azur
X-ORIGINAL-URL:https://www.frenchtechcotedazur.fr
X-WR-CALDESC:Évènements pour French Tech Côte d&#039;Azur
REFRESH-INTERVAL;VALUE=DURATION:PT1H
X-Robots-Tag:noindex
X-PUBLISHED-TTL:PT1H
BEGIN:VTIMEZONE
TZID:Europe/Paris
BEGIN:DAYLIGHT
TZOFFSETFROM:+0100
TZOFFSETTO:+0200
TZNAME:CEST
DTSTART:20240331T010000
END:DAYLIGHT
BEGIN:STANDARD
TZOFFSETFROM:+0200
TZOFFSETTO:+0100
TZNAME:CET
DTSTART:20241027T010000
END:STANDARD
BEGIN:DAYLIGHT
TZOFFSETFROM:+0100
TZOFFSETTO:+0200
TZNAME:CEST
DTSTART:20250330T010000
END:DAYLIGHT
BEGIN:STANDARD
TZOFFSETFROM:+0200
TZOFFSETTO:+0100
TZNAME:CET
DTSTART:20251026T010000
END:STANDARD
BEGIN:DAYLIGHT
TZOFFSETFROM:+0100
TZOFFSETTO:+0200
TZNAME:CEST
DTSTART:20260329T010000
END:DAYLIGHT
BEGIN:STANDARD
TZOFFSETFROM:+0200
TZOFFSETTO:+0100
TZNAME:CET
DTSTART:20261025T010000
END:STANDARD
END:VTIMEZONE
BEGIN:VEVENT
DTSTART;VALUE=DATE:20250923
DTEND;VALUE=DATE:20250924
DTSTAMP:20260421T161533
CREATED:20240827T083109Z
LAST-MODIFIED:20250904T074923Z
UID:8604-1758585600-1758671999@www.frenchtechcotedazur.fr
SUMMARY:Big par Bpifrance
DESCRIPTION:Créateurs\, repreneurs\, dirigeants d’entreprises rendez-vous à Big\, le plus grand rassemblement business d’Europe organisé par Bpifrance \n📅 Mardi 23 Septembre 2025📍 Accor Arena & en ligne – 8\, boulevard de Bercy\, 75012 Paris \nAu programme : \n\nCap Créa : rencontrez les experts de Bpifrance Création et les 26 réseaux d’accompagnement partenaires\, pour tester\, faire héberger\, développer\, et financer votre projet d’entreprise ;\nLa Bulle Coq Créa : profitez d’échanges stimulants entre des créateurs et nos partenaires de l’accompagnement ;\nDes conférences\, ateliers et masterclass retransmis en direct en audio et vidéo et disponibles en replay.\n\nPour plus d’information et vous inscrire\, cliquez-ici \n 
URL:https://www.frenchtechcotedazur.fr/event/big-par-bpifrance/
ATTACH;FMTTYPE=image/png:https://www.frenchtechcotedazur.fr/wp-content/uploads/2024/08/Visuel-BIG-2025.png
END:VEVENT
BEGIN:VEVENT
DTSTART;TZID=Europe/Paris:20250923T190000
DTEND;TZID=Europe/Paris:20250923T220000
DTSTAMP:20260421T161533
CREATED:20240927T083109Z
LAST-MODIFIED:20250904T084823Z
UID:8626-1758654000-1758664800@www.frenchtechcotedazur.fr
SUMMARY:Nuits d’Initiative par Initiative Nice Côte d'Azur
DESCRIPTION:Initiative Nice Côte d’Azur a le plaisir de vous annoncer la 4e édition des Nuits d’Initiative\, notre grande soirée annuelle\, festive et solidaire au profit de l’entrepreneuriat local ! Un cadre idyllique\, au bord de l’eau\, pour une soirée inoubliable placée sous le signe de la convivialité\, du partage et de la solidarité. \n📅 Mardi 23 Septembre – à partir de 19h📍L’Ancora – Villefranche-sur-Mer \nPour plus d’information et vous inscrire\, cliquez-ici
URL:https://www.frenchtechcotedazur.fr/event/nuits-dinitiative-par-initiative-nice-cote-dazur/
ATTACH;FMTTYPE=image/png:https://www.frenchtechcotedazur.fr/wp-content/uploads/2024/09/INVITATION_-_Les_Nuits_dInitiative_-_23_sept_2025_c.png
END:VEVENT
END:VCALENDAR