BEGIN:VCALENDAR
VERSION:2.0
PRODID:-//French Tech Côte d&#039;Azur - ECPv6.15.20//NONSGML v1.0//EN
CALSCALE:GREGORIAN
METHOD:PUBLISH
X-ORIGINAL-URL:https://www.frenchtechcotedazur.fr
X-WR-CALDESC:Évènements pour French Tech Côte d&#039;Azur
REFRESH-INTERVAL;VALUE=DURATION:PT1H
X-Robots-Tag:noindex
X-PUBLISHED-TTL:PT1H
BEGIN:VTIMEZONE
TZID:Europe/Paris
BEGIN:DAYLIGHT
TZOFFSETFROM:+0100
TZOFFSETTO:+0200
TZNAME:CEST
DTSTART:20240331T010000
END:DAYLIGHT
BEGIN:STANDARD
TZOFFSETFROM:+0200
TZOFFSETTO:+0100
TZNAME:CET
DTSTART:20241027T010000
END:STANDARD
BEGIN:DAYLIGHT
TZOFFSETFROM:+0100
TZOFFSETTO:+0200
TZNAME:CEST
DTSTART:20250330T010000
END:DAYLIGHT
BEGIN:STANDARD
TZOFFSETFROM:+0200
TZOFFSETTO:+0100
TZNAME:CET
DTSTART:20251026T010000
END:STANDARD
BEGIN:DAYLIGHT
TZOFFSETFROM:+0100
TZOFFSETTO:+0200
TZNAME:CEST
DTSTART:20260329T010000
END:DAYLIGHT
BEGIN:STANDARD
TZOFFSETFROM:+0200
TZOFFSETTO:+0100
TZNAME:CET
DTSTART:20261025T010000
END:STANDARD
END:VTIMEZONE
BEGIN:VEVENT
DTSTART;VALUE=DATE:20250916
DTEND;VALUE=DATE:20250917
DTSTAMP:20260421T120427
CREATED:20240329T135303Z
LAST-MODIFIED:20250819T082233Z
UID:8512-1757980800-1758067199@www.frenchtechcotedazur.fr
SUMMARY:Forum de l’Alternance par France Travail
DESCRIPTION:L’Agence France Travail Nice Centre organise le Forum de l’Alternance le mardi 16 septembre 2025\, au sein de ses locaux situés 44 rue Berlioz\, 06000 Nice. \nCet événement a pour objectif de mettre en relation les entreprises à la recherche de nouveaux talents et les candidats souhaitant s’orienter vers l’alternance. \nLes entreprises intéressées sont invitées à compléter le formulaire de pré-réservation et à le retourner avant le 15 août 2025.\nLes informations recueillies permettront d’établir la liste définitive des participants. \n⚠️ Le nombre de places étant limité\, nous vous remercions de bien vouloir transmettre vos retours dans les délais impartis. \n📧 Formulaire à renvoyer par courriel à : recrutementnicecentre@francetravail.net
URL:https://www.frenchtechcotedazur.fr/event/forum-de-lalternance-par-france-travail/
ATTACH;FMTTYPE=image/png:https://www.frenchtechcotedazur.fr/wp-content/uploads/2024/03/Design-sans-titre-50.png
END:VEVENT
BEGIN:VEVENT
DTSTART;TZID=Europe/Paris:20250916T083000
DTEND;TZID=Europe/Paris:20250916T160000
DTSTAMP:20260421T120427
CREATED:20240827T083109Z
LAST-MODIFIED:20250912T144749Z
UID:8707-1758011400-1758038400@www.frenchtechcotedazur.fr
SUMMARY:Cloud is Nice par EuroCloud
DESCRIPTION:EuroCloud lance Cloud is Nice\, la conférence régionale dédiée au cloud computing\, à la cybersécurité et à l’éco responsabilité numérique. \nOrganisée dans le cadre de la Cloud Week nationale\, cette journée veut donner la parole aux acteurs locaux et européens du cloud\, en mettant en avant souveraineté\, sécurité et durabilité. \nUn programme engagé et concret\n\n09h30 – Table ronde : Cloud souverain\, cybersécurité et régulation\n\nAvec Noureddine Aboussabr (Centre Scientifique de Monaco)\, Isabelle Deromas-Lebocq (Freenews)\, Olivier Bouzereau (EuroCloud) et d’autres experts. \n\n10h45 – Table ronde : Éco-responsabilité et durabilité des infrastructures cloud\n\nAvec Adina Grigoriu (AAA)\, Xavier Poisson Gouyou Beauchamps (HPE)\, Sylvie Malécot et Corinne Meynier (Kabia). \n\n12h30 – Pause Podcast\n\nAnimée par Laurent Garcia. \n\n13h30 – Table ronde : Inclusion\, formation\, territoires & emploi\n\nAvec Delphine Garcia\, Emma Court\, Marie Nghiem\, Xavier Poisson Gouyou Beauchamps. \n\n14h45 – Podcast en direct : Voix du cloud régional\n\nFormat interactif et sans langue de bois\, mené par Laurent Garcia. \n\n15h30 – Clôture & perspectives\n\nSynthèse collective et ouverture vers la Cloud Week 2026. \nUn direct sur le podcast qui  annonce la saison 3 du podcast EuroCloud France \nPourquoi “Cloud is Nice” ?\nParce que le cloud n’est pas qu’une affaire de technologies. \n👉 Il s’agit de confiance numérique (protection et souveraineté des données). \n👉 Il s’agit de responsabilité écologique (sobriété numérique\, data centers green). \n👉 Il s’agit de valeurs humaines (inclusion\, formation\, emploi local). \nPremier réseau européen dédié au cloud computing\, EuroCloud fédère plus de 1 500 entreprises dans 31 pays. \nÀ propos d’EuroCloud\nMission : développer la confiance dans les technologies cloud\, accompagner l’innovation\, et soutenir la transition digitale des PME et startups. \nÀ propos de Kabia\nCo-fondée à Nice par Corinne Meynier\, Kabia est un acteur français indépendant du cloud et des services numériques managés. Engagée dans une démarche RSE forte\, Kabia combine expertise IT\, durabilité environnementale et inclusion sociale\, et représente la France au sein d’EuroCloud sur les sujets “Femmes & Inclusion” et “Cloud écoresponsable”. \nPour en savoir plus : cliquez-ici
URL:https://www.frenchtechcotedazur.fr/event/cloud-is-nice-par-eurocloud/
ATTACH;FMTTYPE=image/png:https://www.frenchtechcotedazur.fr/wp-content/uploads/2024/08/Copie-de-Nouveau-partenaire.png
END:VEVENT
END:VCALENDAR