BEGIN:VCALENDAR
VERSION:2.0
PRODID:-//French Tech Côte d&#039;Azur - ECPv6.15.20//NONSGML v1.0//EN
CALSCALE:GREGORIAN
METHOD:PUBLISH
X-WR-CALNAME:French Tech Côte d&#039;Azur
X-ORIGINAL-URL:https://www.frenchtechcotedazur.fr
X-WR-CALDESC:Évènements pour French Tech Côte d&#039;Azur
REFRESH-INTERVAL;VALUE=DURATION:PT1H
X-Robots-Tag:noindex
X-PUBLISHED-TTL:PT1H
BEGIN:VTIMEZONE
TZID:Europe/Paris
BEGIN:DAYLIGHT
TZOFFSETFROM:+0100
TZOFFSETTO:+0200
TZNAME:CEST
DTSTART:20240331T010000
END:DAYLIGHT
BEGIN:STANDARD
TZOFFSETFROM:+0200
TZOFFSETTO:+0100
TZNAME:CET
DTSTART:20241027T010000
END:STANDARD
BEGIN:DAYLIGHT
TZOFFSETFROM:+0100
TZOFFSETTO:+0200
TZNAME:CEST
DTSTART:20250330T010000
END:DAYLIGHT
BEGIN:STANDARD
TZOFFSETFROM:+0200
TZOFFSETTO:+0100
TZNAME:CET
DTSTART:20251026T010000
END:STANDARD
BEGIN:DAYLIGHT
TZOFFSETFROM:+0100
TZOFFSETTO:+0200
TZNAME:CEST
DTSTART:20260329T010000
END:DAYLIGHT
BEGIN:STANDARD
TZOFFSETFROM:+0200
TZOFFSETTO:+0100
TZNAME:CET
DTSTART:20261025T010000
END:STANDARD
END:VTIMEZONE
BEGIN:VEVENT
DTSTART;TZID=Europe/Paris:20250708T103000
DTEND;TZID=Europe/Paris:20250708T120000
DTSTAMP:20260419T151828
CREATED:20240329T135303Z
LAST-MODIFIED:20250701T120936Z
UID:8274-1751970600-1751976000@www.frenchtechcotedazur.fr
SUMMARY:Comment concilier performance économique\, sociale et environnementale ? par Éa éco-entreprises
DESCRIPTION:Éa éco-entreprises\, en partenariat avec Canopée\, organise un club innovation\, lors duquel l’accent sera mis sur les outils innovants du FSSD* et du design en stratégie responsable. \nAu-delà des injonctions des réglementations sociales et environnementales\, comment définir son socle stratégique et son plan opérationnel à court et moyen terme pour sécuriser ses investissements et atteindre ses objectifs ? \nC’est par la définition d’une bonne stratégie de marque responsable et par la mise en œuvre d’outils innovants éco-responsables ayant prouvés leurs efficacités\, que vous pourrez embarquer vos équipes dans l’aventure des nouveaux challenges de la transition de votre organisation. \nVenez découvrir le duo inédit FSSD & DESIGN STRATEGIE responsable pour outiller votre entreprise et vos équipes d’une approche stratégique et d’outils pratiques opérationnels. \n📍 8 juillet prochain de 10h30 à 12h \nAu programme :\n\n partage d’expériences\,\nmutualisation de bonnes pratiques\nune présentation concrète des outils du FSSD (Framework for Strategic Sustainable Development) et du design en stratégie responsable par l’agence Canopée.\n\nComment participer ? \nPour participer\, cliquez ici \n 
URL:https://www.frenchtechcotedazur.fr/event/comment-concilier-performance-economique-sociale-et-environnementale-par-ea-eco-entreprises/
ATTACH;FMTTYPE=image/webp:https://www.frenchtechcotedazur.fr/wp-content/uploads/2024/03/lightbulb-g8c498373a_1920-500x311.jpg.webp
END:VEVENT
BEGIN:VEVENT
DTSTART;TZID=Europe/Paris:20250708T113000
DTEND;TZID=Europe/Paris:20250708T123000
DTSTAMP:20260419T151828
CREATED:20240329T135303Z
LAST-MODIFIED:20250627T074302Z
UID:8246-1751974200-1751977800@www.frenchtechcotedazur.fr
SUMMARY:Webinaire de présentation AI4Minerals par  BRGM (Bureau de Recherches Géologiques et Minières)
DESCRIPTION:Le BRGM (Bureau de Recherches Géologiques et Minières) organise un webinaire pour présenter son nouvel appel à projets AI4Minerals – AI-Powered Analysis for Mineral Resource Inventory\, dédié à l’exploration minière assistée par l’intelligence artificielle. \n📅 Mardi 8 juillet de 11H30 à 12h30 \nPour vous inscrire au webinaire\, cliquez ici
URL:https://www.frenchtechcotedazur.fr/event/webinaire-de-presentation-ai4minerals-par-brgm-bureau-de-recherches-geologiques-et-minieres/
ATTACH;FMTTYPE=image/png:https://www.frenchtechcotedazur.fr/wp-content/uploads/2024/03/image001-4.png
END:VEVENT
BEGIN:VEVENT
DTSTART;TZID=Europe/Paris:20250708T190000
DTEND;TZID=Europe/Paris:20250708T235900
DTSTAMP:20260419T151828
CREATED:20240329T135303Z
LAST-MODIFIED:20250516T122633Z
UID:8087-1752001200-1752019140@www.frenchtechcotedazur.fr
SUMMARY:Les Estivales de l'Éco par CCI Nice Côte d'Azur
DESCRIPTION:La CCI Nice Côte d’Azur organise la troisième édition du grand rendez-vous networking de l’été « Les Estivales de l’Éco » lors de laquelle cinq prix seront remis\, en partenariat avec Tribune Côte d’Azur et la Caisse d’Épargne Côte d’Azur. \nL’occasion de réunir les acteurs du monde économique azuréen\, juste avant la pause estivale\, pour une soirée placée sous le signe de la convivialité et du networking ! \n📅 Mardi 8 juillet – à partir de 19h15\n📍 Bastion St Jaume\, Port Vauban Antibes \nAu programme :\n\nAcceuils des participants\nCocktail networking\nRemise des prix\nDîner\n\nPour vous inscrire\, cliquez ici
URL:https://www.frenchtechcotedazur.fr/event/les-estivales-de-leco-par-cci-nice-cote-dazur/
ATTACH;FMTTYPE=image/jpeg:https://www.frenchtechcotedazur.fr/wp-content/uploads/2024/03/unnamed-2.jpg
END:VEVENT
END:VCALENDAR