BEGIN:VCALENDAR
VERSION:2.0
PRODID:-//French Tech Côte d&#039;Azur - ECPv6.15.20//NONSGML v1.0//EN
CALSCALE:GREGORIAN
METHOD:PUBLISH
X-WR-CALNAME:French Tech Côte d&#039;Azur
X-ORIGINAL-URL:https://www.frenchtechcotedazur.fr
X-WR-CALDESC:Évènements pour French Tech Côte d&#039;Azur
REFRESH-INTERVAL;VALUE=DURATION:PT1H
X-Robots-Tag:noindex
X-PUBLISHED-TTL:PT1H
BEGIN:VTIMEZONE
TZID:Europe/Paris
BEGIN:DAYLIGHT
TZOFFSETFROM:+0100
TZOFFSETTO:+0200
TZNAME:CEST
DTSTART:20240331T010000
END:DAYLIGHT
BEGIN:STANDARD
TZOFFSETFROM:+0200
TZOFFSETTO:+0100
TZNAME:CET
DTSTART:20241027T010000
END:STANDARD
BEGIN:DAYLIGHT
TZOFFSETFROM:+0100
TZOFFSETTO:+0200
TZNAME:CEST
DTSTART:20250330T010000
END:DAYLIGHT
BEGIN:STANDARD
TZOFFSETFROM:+0200
TZOFFSETTO:+0100
TZNAME:CET
DTSTART:20251026T010000
END:STANDARD
BEGIN:DAYLIGHT
TZOFFSETFROM:+0100
TZOFFSETTO:+0200
TZNAME:CEST
DTSTART:20260329T010000
END:DAYLIGHT
BEGIN:STANDARD
TZOFFSETFROM:+0200
TZOFFSETTO:+0100
TZNAME:CET
DTSTART:20261025T010000
END:STANDARD
END:VTIMEZONE
BEGIN:VEVENT
DTSTART;TZID=Europe/Paris:20250707T083000
DTEND;TZID=Europe/Paris:20250707T100000
DTSTAMP:20260421T120023
CREATED:20240827T083109Z
LAST-MODIFIED:20250627T073315Z
UID:8244-1751877000-1751882400@www.frenchtechcotedazur.fr
SUMMARY:Rendez-vous Café des Entrepreneurs par Entre Head
DESCRIPTION:Entre Head vous convie autour d’un café pour des moments de partage et de bienveillance ! \n📅 Le lundi 7 juillet 2025 de 8h30 à 10h00 \n📍à LA CAVE MARTA – 3 RUE FRANCOIS 1ER\, 06000 NICE \nAu programme :  \nUne présentation sommaire avec « météo intérieure » de chacun(e)\, échanges conviviaux autour\, soit de : \n👉 problématiques d’entrepreneurs \n👉 projets qui nous tiennent à cœur \n👉 actualités/réflexions autour de notre association \nUn seul objectif : faire grimper notre moral en 1h30 😁🚀🚀🚀🚀🚀 \nOuvert à toutes et à tous ! \nPas d’inscription préalable requise.
URL:https://www.frenchtechcotedazur.fr/event/rendez-vous-cafe-des-entrepreneurs-par-entre-head-5/
ATTACH;FMTTYPE=image/jpeg:https://www.frenchtechcotedazur.fr/wp-content/uploads/2024/08/th.jpeg
END:VEVENT
END:VCALENDAR