BEGIN:VCALENDAR
VERSION:2.0
PRODID:-//French Tech Côte d&#039;Azur - ECPv6.15.20//NONSGML v1.0//EN
CALSCALE:GREGORIAN
METHOD:PUBLISH
X-WR-CALNAME:French Tech Côte d&#039;Azur
X-ORIGINAL-URL:https://www.frenchtechcotedazur.fr
X-WR-CALDESC:Évènements pour French Tech Côte d&#039;Azur
REFRESH-INTERVAL;VALUE=DURATION:PT1H
X-Robots-Tag:noindex
X-PUBLISHED-TTL:PT1H
BEGIN:VTIMEZONE
TZID:Europe/Paris
BEGIN:DAYLIGHT
TZOFFSETFROM:+0100
TZOFFSETTO:+0200
TZNAME:CEST
DTSTART:20240331T010000
END:DAYLIGHT
BEGIN:STANDARD
TZOFFSETFROM:+0200
TZOFFSETTO:+0100
TZNAME:CET
DTSTART:20241027T010000
END:STANDARD
BEGIN:DAYLIGHT
TZOFFSETFROM:+0100
TZOFFSETTO:+0200
TZNAME:CEST
DTSTART:20250330T010000
END:DAYLIGHT
BEGIN:STANDARD
TZOFFSETFROM:+0200
TZOFFSETTO:+0100
TZNAME:CET
DTSTART:20251026T010000
END:STANDARD
BEGIN:DAYLIGHT
TZOFFSETFROM:+0100
TZOFFSETTO:+0200
TZNAME:CEST
DTSTART:20260329T010000
END:DAYLIGHT
BEGIN:STANDARD
TZOFFSETFROM:+0200
TZOFFSETTO:+0100
TZNAME:CET
DTSTART:20261025T010000
END:STANDARD
END:VTIMEZONE
BEGIN:VEVENT
DTSTART;TZID=Europe/Paris:20250626T090000
DTEND;TZID=Europe/Paris:20250626T180000
DTSTAMP:20260419T191554
CREATED:20240827T083109Z
LAST-MODIFIED:20250411T094400Z
UID:7767-1750928400-1750960800@www.frenchtechcotedazur.fr
SUMMARY:Les Entreprenariales par l'UPE06
DESCRIPTION:L’UPE06 est heureuse de vous convier à leur 24ème édition du salon Les Entreprenariales sur le thème du Courage qui se tiendra : \n🗓️ Le jeudi 26 juin de 9h à 18h \n📍Allianz Riviera – Stade de Nice\, Bd des Jardiniers\, 06200 Nice \nUne édition estivale : pour la première fois\, l’événement se déroulera en été à l’Allianz Riviera – Stade de Nice\, avec une exploitation des espaces extérieurs. Résultat : une capacité d’accueil augmentée et des échanges encore plus conviviaux sous le soleil azuréen. \nPlus d’informations prochainement…
URL:https://www.frenchtechcotedazur.fr/event/monaco-women-finance-institute-par-monacotech-startup-program-et-cmb-monaco/
ATTACH;FMTTYPE=image/jpeg:https://www.frenchtechcotedazur.fr/wp-content/uploads/2024/08/1080x1080_POST-INSTA_ENTREPRENARIALES-e1744364104397.jpg
END:VEVENT
BEGIN:VEVENT
DTSTART;TZID=Europe/Paris:20250626T100000
DTEND;TZID=Europe/Paris:20250626T120000
DTSTAMP:20260419T191554
CREATED:20240827T083109Z
LAST-MODIFIED:20250526T084602Z
UID:8150-1750932000-1750939200@www.frenchtechcotedazur.fr
SUMMARY:Webinar “Comment bénéficier de financements pour la R&D et l'innovation ?” par AKTANTIS
DESCRIPTION:Vous êtes une entreprise ou un acteur académique avec un projet innovant à financer ? Ce webinaire est fait pour vous ! Explorez les différents leviers de financement de votre innovation ! \nAU PROGRAMME : \n\nPrésentation des financements déployés dans le cadre de France 2030 pour financer votre innovation – AKTANTIS\nAAP “Recherche Partenariale” du Pôle Universitaire d’Innovation MED’INNOV : “Et si on commençait par un projet de 12 mois ensemble avant de monter un partenariat recherche structurant ?” – Inria\n“Avantage IP Box : comprendre comment ce mécanisme public peut s’appliquer dans les entreprises développant des solutions logicielles ou de l’intelligence embarquée dans leurs produits” – Ayming\n“Financements non dilutifs et financements bancaires : Quelles possibilités ? Facteurs de succès et critères de décisions des banquiers !” – CIC\nDernières actualités AKTANTIS des appels à projets européens – AKTANTIS\n\n📅 Le Jeudi 25 JUIN 2025 – 10h00 à 12h00 \nPour en savoir et vous inscrire : cliquez-ici
URL:https://www.frenchtechcotedazur.fr/event/webinar-comment-beneficier-de-financements-pour-la-rd-et-linnovation-par-aktantis/
ATTACH;FMTTYPE=image/png:https://www.frenchtechcotedazur.fr/wp-content/uploads/2024/08/unnamed-10.png
END:VEVENT
END:VCALENDAR