BEGIN:VCALENDAR
VERSION:2.0
PRODID:-//French Tech Côte d&#039;Azur - ECPv6.15.20//NONSGML v1.0//EN
CALSCALE:GREGORIAN
METHOD:PUBLISH
X-ORIGINAL-URL:https://www.frenchtechcotedazur.fr
X-WR-CALDESC:Évènements pour French Tech Côte d&#039;Azur
REFRESH-INTERVAL;VALUE=DURATION:PT1H
X-Robots-Tag:noindex
X-PUBLISHED-TTL:PT1H
BEGIN:VTIMEZONE
TZID:Europe/Paris
BEGIN:DAYLIGHT
TZOFFSETFROM:+0100
TZOFFSETTO:+0200
TZNAME:CEST
DTSTART:20240331T010000
END:DAYLIGHT
BEGIN:STANDARD
TZOFFSETFROM:+0200
TZOFFSETTO:+0100
TZNAME:CET
DTSTART:20241027T010000
END:STANDARD
BEGIN:DAYLIGHT
TZOFFSETFROM:+0100
TZOFFSETTO:+0200
TZNAME:CEST
DTSTART:20250330T010000
END:DAYLIGHT
BEGIN:STANDARD
TZOFFSETFROM:+0200
TZOFFSETTO:+0100
TZNAME:CET
DTSTART:20251026T010000
END:STANDARD
BEGIN:DAYLIGHT
TZOFFSETFROM:+0100
TZOFFSETTO:+0200
TZNAME:CEST
DTSTART:20260329T010000
END:DAYLIGHT
BEGIN:STANDARD
TZOFFSETFROM:+0200
TZOFFSETTO:+0100
TZNAME:CET
DTSTART:20261025T010000
END:STANDARD
END:VTIMEZONE
BEGIN:VEVENT
DTSTART;TZID=Europe/Paris:20250624T110000
DTEND;TZID=Europe/Paris:20250624T120000
DTSTAMP:20260419T191251
CREATED:20240827T083109Z
LAST-MODIFIED:20250526T085058Z
UID:8154-1750762800-1750766400@www.frenchtechcotedazur.fr
SUMMARY:Webinar “Transition écologique – Frugalité et décarbonation du numérique : focus Datacenters” par AKTANTIS
DESCRIPTION:Comment concilier frugalité énergétique et croissance des besoins en stockage et en Calcul Haute Performance ? Toutes les réponses sont dans ce prochain webinar sur la Transition Ecologique; organisé par Aktantis \nAU PROGRAMME : \n\nIntroduction générale – AKTANTIS\nPrésentation par Policloud et Hivenet de 2 approches nouvelles : l’une par Hivenet sur le stockage et puissance de calcul distribué de données sécurisé et durable; l’autre par Policloud pour une puissance de calcul souveraine et distribuée.\nPour une planète en meilleure santé\, DataGreen vous présentera ses innovations pour rendre les centres de données plus durables et moins énergivores\, par une approche éco-responsable et frugale.\nQuestions/réponses\n\n📅 Le Mardi 24 juin 2025 – 11h00 à 12h00 \nPour en savoir et vous inscrire : cliquez-ici
URL:https://www.frenchtechcotedazur.fr/event/webinar-transition-ecologique-frugalite-et-decarbonation-du-numerique-focus-datacenters-par-aktantis/
ATTACH;FMTTYPE=image/png:https://www.frenchtechcotedazur.fr/wp-content/uploads/2024/08/unnamed-11.png
END:VEVENT
BEGIN:VEVENT
DTSTART;TZID=Europe/Paris:20250624T130000
DTEND;TZID=Europe/Paris:20250624T230000
DTSTAMP:20260419T191251
CREATED:20240329T135303Z
LAST-MODIFIED:20250520T084336Z
UID:8114-1750770000-1750806000@www.frenchtechcotedazur.fr
SUMMARY:10 ans de Nice Start(s) Up
DESCRIPTION:Nice Start(s) Up est heureuse de vous convier à leur célébration de leur 10 ans qui se tiendra : \n📅 Le mardi 24 juin : Dès 13h Accueil et animations sportives – Dès 19h30 : Soirée d’anniversaire\n📍 La Javanaise – Allée Plage des fourmis\, 06310 Beaulieu-sur-Mer \nPour célébrer cette aventure collective\, Nice Start(s) Up vous invite à une journée festive et sportive placée sous le signe de la résilience\, de la discipline et de la ténacité des valeurs qui résonnent si bien avec l’entrepreneuriat \nMais cette fois\, place au challenge ! \nProgramme de la journée : \n\n13h : Accueil café sur la plage de La Javanaise\, Beaulieu S/Mer\n14h – 18h : Animations sportives et ateliers collaboratifs sur le port de plaisance de Beaulieu S/Mer et la plage de la Petite Afrique\n\nLes participants seront répartis en équipes\, chacune défendant fièrement une couleur ! \nAu programme : des défis sportifs et collaboratifs pour se dépasser ensemble\, renforcer les liens et célébrer l’esprit d’équipe dans une ambiance conviviale et stimulante. \nUne belle occasion de se rencontrer autrement\, d’échanger entre membres\, partenaires\, décideurs et curieux de l’écosystème \nProgramme de la soirée : \n\n19h30 : Accueil musical à La Javanaise\n20h00 : Prise de parole officielle\n20h30 : Soirée anniversaire & networking\n\n  \nPour plus d’information et vous inscrire\, cliquez-ici \n 
URL:https://www.frenchtechcotedazur.fr/event/10-ans-de-nice-starts-up/
ATTACH;FMTTYPE=image/png:https://www.frenchtechcotedazur.fr/wp-content/uploads/2024/03/Affiche-NSU-10-ANS--e1747730515610.png
END:VEVENT
END:VCALENDAR