BEGIN:VCALENDAR
VERSION:2.0
PRODID:-//French Tech Côte d&#039;Azur - ECPv6.15.20//NONSGML v1.0//EN
CALSCALE:GREGORIAN
METHOD:PUBLISH
X-WR-CALNAME:French Tech Côte d&#039;Azur
X-ORIGINAL-URL:https://www.frenchtechcotedazur.fr
X-WR-CALDESC:Évènements pour French Tech Côte d&#039;Azur
REFRESH-INTERVAL;VALUE=DURATION:PT1H
X-Robots-Tag:noindex
X-PUBLISHED-TTL:PT1H
BEGIN:VTIMEZONE
TZID:Europe/Paris
BEGIN:DAYLIGHT
TZOFFSETFROM:+0100
TZOFFSETTO:+0200
TZNAME:CEST
DTSTART:20240331T010000
END:DAYLIGHT
BEGIN:STANDARD
TZOFFSETFROM:+0200
TZOFFSETTO:+0100
TZNAME:CET
DTSTART:20241027T010000
END:STANDARD
BEGIN:DAYLIGHT
TZOFFSETFROM:+0100
TZOFFSETTO:+0200
TZNAME:CEST
DTSTART:20250330T010000
END:DAYLIGHT
BEGIN:STANDARD
TZOFFSETFROM:+0200
TZOFFSETTO:+0100
TZNAME:CET
DTSTART:20251026T010000
END:STANDARD
BEGIN:DAYLIGHT
TZOFFSETFROM:+0100
TZOFFSETTO:+0200
TZNAME:CEST
DTSTART:20260329T010000
END:DAYLIGHT
BEGIN:STANDARD
TZOFFSETFROM:+0200
TZOFFSETTO:+0100
TZNAME:CET
DTSTART:20261025T010000
END:STANDARD
END:VTIMEZONE
BEGIN:VEVENT
DTSTART;TZID=Europe/Paris:20250620T180000
DTEND;TZID=Europe/Paris:20250620T230000
DTSTAMP:20260419T191427
CREATED:20240329T135303Z
LAST-MODIFIED:20250521T133051Z
UID:8125-1750442400-1750460400@www.frenchtechcotedazur.fr
SUMMARY:Fête des alumni #3 par l'Université Côte d'Azur
DESCRIPTION:L’université Côte d’Azur est heureuse de vous convier à leur 3ème fête des alumni qui se tiendra : \n🗓️ Le vendredi 20 juin de 18h à 23h \n📍Campus Saint Jean D’Angély\, Nice \nVenez réseauter et partager un moment convivial avec la communauté Alumni Université Côte d’Azur ! \nCette soirée est un moment fort pour les membres de la communauté alumni et l’occasion de se remémorer les plus beaux souvenirs. Ce sera le moment de se retrouver\, de se divertir et de développer son réseau. \nAu programme: \n\nNetworking\nLive DJ\nFoodtrucks   \nAnimations\n\nDress Code\, et si on se reconnaissait en un clin d’œil ? \nCette année\, et pour célébrer les 60 ans de l’Université\, chaque décennie de diplômation se verra attribuer une couleur repère ( un accessoire\, une veste\, un détail… soyez créatif !) \nLe but ? Créer du lien\, échanger avec les autres générations\, et raviver de jolis souvenirs \nVous avez été diplômés dans les années : \n60’s – Jaune\n70’s – Rouge\n80’s – Bleu\n90’s – Vert\n2000 – Violet\n2010 – Orange\n2020 – Marron \nUn clin d’œil générationnel pour mieux se retrouver\, réseauter\, et pourquoi pas créer de nouvelles opportunités \nPour participez\, cliquez-ici
URL:https://www.frenchtechcotedazur.fr/event/fete-des-alumni-3-par-luniversite-cote-dazur/
ATTACH;FMTTYPE=image/png:https://www.frenchtechcotedazur.fr/wp-content/uploads/2024/03/Capture-decran-2025-05-21-a-15.28.59-e1747834207827.png
END:VEVENT
END:VCALENDAR