BEGIN:VCALENDAR
VERSION:2.0
PRODID:-//French Tech Côte d&#039;Azur - ECPv6.15.20//NONSGML v1.0//EN
CALSCALE:GREGORIAN
METHOD:PUBLISH
X-ORIGINAL-URL:https://www.frenchtechcotedazur.fr
X-WR-CALDESC:Évènements pour French Tech Côte d&#039;Azur
REFRESH-INTERVAL;VALUE=DURATION:PT1H
X-Robots-Tag:noindex
X-PUBLISHED-TTL:PT1H
BEGIN:VTIMEZONE
TZID:Europe/Paris
BEGIN:DAYLIGHT
TZOFFSETFROM:+0100
TZOFFSETTO:+0200
TZNAME:CEST
DTSTART:20240331T010000
END:DAYLIGHT
BEGIN:STANDARD
TZOFFSETFROM:+0200
TZOFFSETTO:+0100
TZNAME:CET
DTSTART:20241027T010000
END:STANDARD
BEGIN:DAYLIGHT
TZOFFSETFROM:+0100
TZOFFSETTO:+0200
TZNAME:CEST
DTSTART:20250330T010000
END:DAYLIGHT
BEGIN:STANDARD
TZOFFSETFROM:+0200
TZOFFSETTO:+0100
TZNAME:CET
DTSTART:20251026T010000
END:STANDARD
BEGIN:DAYLIGHT
TZOFFSETFROM:+0100
TZOFFSETTO:+0200
TZNAME:CEST
DTSTART:20260329T010000
END:DAYLIGHT
BEGIN:STANDARD
TZOFFSETFROM:+0200
TZOFFSETTO:+0100
TZNAME:CET
DTSTART:20261025T010000
END:STANDARD
END:VTIMEZONE
BEGIN:VEVENT
DTSTART;TZID=Europe/Paris:20250614T090000
DTEND;TZID=Europe/Paris:20250614T130000
DTSTAMP:20260419T191208
CREATED:20240329T135303Z
LAST-MODIFIED:20250526T080246Z
UID:8140-1749891600-1749906000@www.frenchtechcotedazur.fr
SUMMARY:conférence "IA en entreprise" par l'AFJE Alpes-Maritimes
DESCRIPTION:La délégation Alpes-Maritimes de l’Association française des juristes d’entreprise (AFJE) a l’honneur de célébrer cette année le quinzième anniversaire de sa création. Dans ce cadre\, elle organise une conférence intitulée « L’intelligence artificielle en entreprise ». \nCet événement réunira universitaires\, professionnels du droit et experts du secteur pour échanger sur les enjeux contemporains que soulève l’intelligence artificielle dans le monde de l’entreprise. \nLe programme s’articulera autour de quatre tables rondes : \n\nBrevetabilité des créations par IA dans l’entreprise\nIA\, droit du salarié et formation\nIA : un atout concurrentiel ?\nIA : les enjeux de la mise en conformité\n\n📅 14 juin – de 9h00 – 13h00\n📍 Université Côte d’Azur\, Avenue du Doyen Trotabas\, 06000 Nice \n 
URL:https://www.frenchtechcotedazur.fr/event/conference-ia-en-entreprise-par-lafje-alpes-maritimes/
ATTACH;FMTTYPE=image/png:https://www.frenchtechcotedazur.fr/wp-content/uploads/2024/03/telechargement.png
END:VEVENT
END:VCALENDAR