BEGIN:VCALENDAR
VERSION:2.0
PRODID:-//French Tech Côte d&#039;Azur - ECPv6.15.20//NONSGML v1.0//EN
CALSCALE:GREGORIAN
METHOD:PUBLISH
X-ORIGINAL-URL:https://www.frenchtechcotedazur.fr
X-WR-CALDESC:Évènements pour French Tech Côte d&#039;Azur
REFRESH-INTERVAL;VALUE=DURATION:PT1H
X-Robots-Tag:noindex
X-PUBLISHED-TTL:PT1H
BEGIN:VTIMEZONE
TZID:Europe/Paris
BEGIN:DAYLIGHT
TZOFFSETFROM:+0100
TZOFFSETTO:+0200
TZNAME:CEST
DTSTART:20240331T010000
END:DAYLIGHT
BEGIN:STANDARD
TZOFFSETFROM:+0200
TZOFFSETTO:+0100
TZNAME:CET
DTSTART:20241027T010000
END:STANDARD
BEGIN:DAYLIGHT
TZOFFSETFROM:+0100
TZOFFSETTO:+0200
TZNAME:CEST
DTSTART:20250330T010000
END:DAYLIGHT
BEGIN:STANDARD
TZOFFSETFROM:+0200
TZOFFSETTO:+0100
TZNAME:CET
DTSTART:20251026T010000
END:STANDARD
BEGIN:DAYLIGHT
TZOFFSETFROM:+0100
TZOFFSETTO:+0200
TZNAME:CEST
DTSTART:20260329T010000
END:DAYLIGHT
BEGIN:STANDARD
TZOFFSETFROM:+0200
TZOFFSETTO:+0100
TZNAME:CET
DTSTART:20261025T010000
END:STANDARD
END:VTIMEZONE
BEGIN:VEVENT
DTSTART;VALUE=DATE:20250613
DTEND;VALUE=DATE:20250614
DTSTAMP:20260419T191933
CREATED:20240329T135303Z
LAST-MODIFIED:20250528T090216Z
UID:8167-1749772800-1749859199@www.frenchtechcotedazur.fr
SUMMARY:L'IA & TOI\, l'entrepreneure augmentée par les Premières Sud x La French Tech Côte d'Azur
DESCRIPTION:Les Premières Sud en partenariat avec La French Tech Côte d’Azur vous propose le 13 juin et 1er juillet une formation action en présentiel 100 % gratuite pour vous aider à prendre en main les outils d’IA générative et gagner en productivité qui se tiendra : \n📍Aurlom Education Nice\, Centre Commercial ICONIC –  53 Av. Jean Médecin\, 06000 Nice \nAu programme :\n– Automatiser 3 tâches chronophages → +4h/semaine libérées\n– Décupler ta création de contenu : prompts prêts à l’emploi (posts\, mails\, offres) en seulement 10 min\n– Mettre en pratique des cas d’automatisations directement liés à ton activité » \nNe manquez pas cette occasion de découvrir comment l’intelligence artificielle peut vous aider à automatiser les tâches chronophages\, mieux comprendre vos clients et libérer du temps pour ce qui compte vraiment : faire grandir votre business. \nBonus : une visio de 3h pour découvrir les outils IA qui facilitent vraiment la vie des entrepreneures. \nClôture des candidatures : 29 mai 2025 \nPour vous inscrire*\, cliquez ici – Attention\, les places sont limitées à 12 par session ! \nCe programme a été co-financé dans le cadre du PAREF par Bpifrance\, la Région Sud et la Préfecture de la région Provence-Alpes-Côte d’Azur.
URL:https://www.frenchtechcotedazur.fr/event/lia-toi-lentrepreneure-augmentee-par-les-premieres-sud-x-la-french-tech-cote-dazur/
ATTACH;FMTTYPE=image/png:https://www.frenchtechcotedazur.fr/wp-content/uploads/2024/03/VISUEL-N°1-NICE-e1745830197489.png
END:VEVENT
END:VCALENDAR