BEGIN:VCALENDAR
VERSION:2.0
PRODID:-//French Tech Côte d&#039;Azur - ECPv6.15.20//NONSGML v1.0//EN
CALSCALE:GREGORIAN
METHOD:PUBLISH
X-ORIGINAL-URL:https://www.frenchtechcotedazur.fr
X-WR-CALDESC:Évènements pour French Tech Côte d&#039;Azur
REFRESH-INTERVAL;VALUE=DURATION:PT1H
X-Robots-Tag:noindex
X-PUBLISHED-TTL:PT1H
BEGIN:VTIMEZONE
TZID:Europe/Paris
BEGIN:DAYLIGHT
TZOFFSETFROM:+0100
TZOFFSETTO:+0200
TZNAME:CEST
DTSTART:20240331T010000
END:DAYLIGHT
BEGIN:STANDARD
TZOFFSETFROM:+0200
TZOFFSETTO:+0100
TZNAME:CET
DTSTART:20241027T010000
END:STANDARD
BEGIN:DAYLIGHT
TZOFFSETFROM:+0100
TZOFFSETTO:+0200
TZNAME:CEST
DTSTART:20250330T010000
END:DAYLIGHT
BEGIN:STANDARD
TZOFFSETFROM:+0200
TZOFFSETTO:+0100
TZNAME:CET
DTSTART:20251026T010000
END:STANDARD
BEGIN:DAYLIGHT
TZOFFSETFROM:+0100
TZOFFSETTO:+0200
TZNAME:CEST
DTSTART:20260329T010000
END:DAYLIGHT
BEGIN:STANDARD
TZOFFSETFROM:+0200
TZOFFSETTO:+0100
TZNAME:CET
DTSTART:20261025T010000
END:STANDARD
END:VTIMEZONE
BEGIN:VEVENT
DTSTART;VALUE=DATE:20250609
DTEND;VALUE=DATE:20250612
DTSTAMP:20260419T191250
CREATED:20240329T135303Z
LAST-MODIFIED:20250526T084109Z
UID:8147-1749427200-1749686399@www.frenchtechcotedazur.fr
SUMMARY:NICE OCEAN BUSINESS FORUM par Métropole Nice Côte d'Azur
DESCRIPTION:Dans le cadre de la Conférence des Nations Unies pour l’Océan et de l’Année de la Mer\, la Métropole Nice Côte d’Azur et ses partenaires organisent du 9 au 11 juin : le Nice Ocean Business Forum. Pendant trois jours\, cet événement unique réunira des entreprises de l’économie bleue\, des experts\, des investisseurs\, des représentants de collectivités territoriales et des délégations internationales. \nAu programme :\n9 juin : Attractivité économique et rayonnement international \n10 juin : Economie bleue\, biodiversité et biotechnologies marines \n11 juin : Yachting durable\, drones sous-marins et décarbonation \n📅 du 9 au 11 juin – de 9h à 17h chaque  jours\n📍 Hub de l’Innovation\, 61 avenue Simone Veil – 06200 NICE \nPour vous inscrire\, cliquez ici
URL:https://www.frenchtechcotedazur.fr/event/nice-ocean-business-forum-par-metropole-nice-cote-dazur/
ATTACH;FMTTYPE=image/jpeg:https://www.frenchtechcotedazur.fr/wp-content/uploads/2024/03/unnamed-3.jpg
END:VEVENT
END:VCALENDAR