BEGIN:VCALENDAR
VERSION:2.0
PRODID:-//French Tech Côte d&#039;Azur - ECPv6.15.20//NONSGML v1.0//EN
CALSCALE:GREGORIAN
METHOD:PUBLISH
X-WR-CALNAME:French Tech Côte d&#039;Azur
X-ORIGINAL-URL:https://www.frenchtechcotedazur.fr
X-WR-CALDESC:Évènements pour French Tech Côte d&#039;Azur
REFRESH-INTERVAL;VALUE=DURATION:PT1H
X-Robots-Tag:noindex
X-PUBLISHED-TTL:PT1H
BEGIN:VTIMEZONE
TZID:Europe/Paris
BEGIN:DAYLIGHT
TZOFFSETFROM:+0100
TZOFFSETTO:+0200
TZNAME:CEST
DTSTART:20240331T010000
END:DAYLIGHT
BEGIN:STANDARD
TZOFFSETFROM:+0200
TZOFFSETTO:+0100
TZNAME:CET
DTSTART:20241027T010000
END:STANDARD
BEGIN:DAYLIGHT
TZOFFSETFROM:+0100
TZOFFSETTO:+0200
TZNAME:CEST
DTSTART:20250330T010000
END:DAYLIGHT
BEGIN:STANDARD
TZOFFSETFROM:+0200
TZOFFSETTO:+0100
TZNAME:CET
DTSTART:20251026T010000
END:STANDARD
BEGIN:DAYLIGHT
TZOFFSETFROM:+0100
TZOFFSETTO:+0200
TZNAME:CEST
DTSTART:20260329T010000
END:DAYLIGHT
BEGIN:STANDARD
TZOFFSETFROM:+0200
TZOFFSETTO:+0100
TZNAME:CET
DTSTART:20261025T010000
END:STANDARD
END:VTIMEZONE
BEGIN:VEVENT
DTSTART;TZID=Europe/Paris:20250605T110000
DTEND;TZID=Europe/Paris:20250605T140000
DTSTAMP:20260419T191509
CREATED:20240213T135602Z
LAST-MODIFIED:20250428T134224Z
UID:8017-1749121200-1749132000@www.frenchtechcotedazur.fr
SUMMARY:3IA lunch break par 3IA Côte d'Azur x Telecom Valley
DESCRIPTION:3IA Côte d’Azur et Telecom Valley sont heureux de vous convier à leur événement qui se tiendra: \n📅 Vendredi 5 juin 2025 de 11h00 à 14h00 \n📍Business Pôle\, 1047 Route des Dolines\, Allée Pierre Ziller – 06560 Valbonne \nCe rassemblement a pour but de proposer aux professionnels de la Côte d’Azur l’occasion de se rencontrer et d’échanger des idées sur le thème de l’IA. \nAu programme : \n1/ Modalités de collaboration avec 3IA Côte d’Azur (projets de recherche collaborative\, expertise 3IA Techpool\, thèse CIFRE\, transfert de technologie pour l’exploitation industrielle par l’entreprise\, conseils dans la création de start-up…) présenté par : \n\nAlain PRETTE\, Responsable de l’Innovation et des Partenariats 3IA Côte d’Azur / Inria\n\n2/ AICO Technology et 3IA Côte d’Azur\, un modèle de collaboration réussie avec : \n\nEdgar LEMAIRE\, fondateur et PDG – AICO Technology\nBenoît MIRAMOND\, professeur à l’Université Côte d’Azur\, titulaire de la chaire 3IA et directeur de la recherche et de l’innovation à Polytech Nice-Sophia\, et chef du groupe d’ingénierie neuromorphique de LEAT\n\nPour vous inscrire\, cliquez ici
URL:https://www.frenchtechcotedazur.fr/event/3ia-lunch-break-par-3ia-cote-dazur-x-telecom-valley/
ATTACH;FMTTYPE=image/png:https://www.frenchtechcotedazur.fr/wp-content/uploads/2024/02/2025-06-05-3IA-lunch-break-Telecom-Valley-e1745845747418.png
END:VEVENT
END:VCALENDAR