BEGIN:VCALENDAR
VERSION:2.0
PRODID:-//French Tech Côte d&#039;Azur - ECPv6.15.20//NONSGML v1.0//EN
CALSCALE:GREGORIAN
METHOD:PUBLISH
X-ORIGINAL-URL:https://www.frenchtechcotedazur.fr
X-WR-CALDESC:Évènements pour French Tech Côte d&#039;Azur
REFRESH-INTERVAL;VALUE=DURATION:PT1H
X-Robots-Tag:noindex
X-PUBLISHED-TTL:PT1H
BEGIN:VTIMEZONE
TZID:Europe/Paris
BEGIN:DAYLIGHT
TZOFFSETFROM:+0100
TZOFFSETTO:+0200
TZNAME:CEST
DTSTART:20240331T010000
END:DAYLIGHT
BEGIN:STANDARD
TZOFFSETFROM:+0200
TZOFFSETTO:+0100
TZNAME:CET
DTSTART:20241027T010000
END:STANDARD
BEGIN:DAYLIGHT
TZOFFSETFROM:+0100
TZOFFSETTO:+0200
TZNAME:CEST
DTSTART:20250330T010000
END:DAYLIGHT
BEGIN:STANDARD
TZOFFSETFROM:+0200
TZOFFSETTO:+0100
TZNAME:CET
DTSTART:20251026T010000
END:STANDARD
BEGIN:DAYLIGHT
TZOFFSETFROM:+0100
TZOFFSETTO:+0200
TZNAME:CEST
DTSTART:20260329T010000
END:DAYLIGHT
BEGIN:STANDARD
TZOFFSETFROM:+0200
TZOFFSETTO:+0100
TZNAME:CET
DTSTART:20261025T010000
END:STANDARD
END:VTIMEZONE
BEGIN:VEVENT
DTSTART;TZID=Europe/Paris:20250604T130000
DTEND;TZID=Europe/Paris:20250604T190000
DTSTAMP:20260419T191200
CREATED:20240213T135602Z
LAST-MODIFIED:20250415T130450Z
UID:7963-1749042000-1749063600@www.frenchtechcotedazur.fr
SUMMARY:Convention d'affaires multisectorielle - multiservices par la CCI Nice Côte d'Azur
DESCRIPTION:La CCI Nice Côte d’Azur sont heureuses de vous convier à sa convention d’affaires multisectorielle qui se tiendra: \n📅 Le mercredi 4 juin 2025 de 13h à 19h \n📍ANTIPOLIS – Palais de Congrès\, 60 Chemin des Sables 06160 Antibes \nL’unique rencontre avec des acheteurs privés et publics de la Côte d’Azur\, tous secteurs confondus. \nCet événement a pour objectif de favoriser les échanges et les opportunités de collaboration entre entreprises locales\, en facilitant les rendez-vous d’affaires ciblés. Il s’adresse à toutes les entreprises du territoire souhaitant développer leur réseau\, découvrir de nouveaux partenaires ou renforcer leur ancrage local. \nAvec plusieurs centaines de participants attendus\, cette convention représente une opportunité unique pour booster votre activité en une journée\, au travers d’un format à la fois efficace\, dynamique et convivial. \nAu programme : \n\nRencontres d’affaires BtoB : jusqu’à 14 rendez-vous planifiés de 20 minutes avec des entreprises\, acheteurs publics ou privés\, partenaires économiques.\nVillage des Partenaires : une trentaine de partenaires présents pour vous proposer des solutions adaptées à vos besoins (financement\, accompagnement\, innovation…).\nAteliers thématiques : des sessions courtes et pratiques pour s’informer\, comprendre et passer à l’action sur des sujets concrets liés au développement de votre activité.\nCocktail networking : un moment convivial pour prolonger les échanges de manière informelle.\n\nPour plus d’informations et vous inscrire\, cliquez ici
URL:https://www.frenchtechcotedazur.fr/event/convention-daffaires-multisectorielle-multiservices-par-la-cci-nice-cote-dazur/
ATTACH;FMTTYPE=image/jpeg:https://www.frenchtechcotedazur.fr/wp-content/uploads/2024/02/bandeau-site-ca-ms-lpb-1920x1080px-1-e1744721439635.jpg
END:VEVENT
BEGIN:VEVENT
DTSTART;TZID=Europe/Paris:20250604T140000
DTEND;TZID=Europe/Paris:20250604T210000
DTSTAMP:20260419T191200
CREATED:20240213T135602Z
LAST-MODIFIED:20250428T093633Z
UID:8014-1749045600-1749070800@www.frenchtechcotedazur.fr
SUMMARY:Deeptech Forum Sophia par Dynergie et les Mines PSL
DESCRIPTION:Les étudiants du Mastère Spécialisé Entrepreneuriat Deeptech et Innovation de Mines Paris – PSL en collaboration avec Dynergie. sont heureux de vous convier à leur événement qui se tiendra: \n📅 Mercredi 4 juin 2025 de 14h00 à 21h00 \n📍Campus Pierre Laffitte\, 1 rue Claude Daunesse\, 06904\, Valbonne \nCe rassemblement vise à définir une vision claire du parcours et des étapes critiques du développement d’une start-up Deeptech en région\, de la recherche fondamentale au succès commercial\, à travers des partages d’expériences et des échanges constructifs. \nAu programme : \n\n14h00 – 14h45 : Accueil et Session d’introduction avec Xavier Fernandez – VP Innovation – Université Côte d’Azur et Pauline Penalva – Chargée d’affaires – Incubateur Provence Côte d’Azur\n14h45 – 15h30 : Table Ronde n°1 – Émergence (Profils / Compétences Clés / Formation)\n\nXavier Fernandez – VP Innovation – Université Côte d’Azur\nElie Hachem – Directeur CMEF – Mines Paris – PSL\nStéphanie Morales – Start-up manager – Inria Start-Up Studio\nTo be disclosed – Bpifrance \n\n16h00 – 16h45 : Table ronde n°2 – Croissance : Financement et Amorçage\n\nHugo Charbonnier – Directeur Associé – Dynergie\nAlex Gerbaud – Diercteur Investissements – Innovacom\nValentin Piperno – Directeur Investissements – Leonard (Vinci)\nGuillaume Roux – Innovation funding expert – Amadeus \n\n16h45 – 17h30 : Table ronde n°3 – Témoignages de Startups : commercialisation et scale-up\n\nLaurent Guiraud – Co-founder – ColibriTD\nJustine Lipuma – CEO – Micophyto \n\n17h30 – 18h30 – Session Mix&Match (investissement\, Advisory Board & Association) et/ou Témoignages\n18h30 – 21h – Cocktail de clôture et networking\n\nPour vous inscrire (obligatoire)\, cliquez ici
URL:https://www.frenchtechcotedazur.fr/event/deeptech-forum-sophia-par-dynergie-et-les-mines-psl/
ATTACH;FMTTYPE=image/png:https://www.frenchtechcotedazur.fr/wp-content/uploads/2024/02/Capture-decran-2025-04-28-a-11.35.28-e1745832962297.png
END:VEVENT
BEGIN:VEVENT
DTSTART;TZID=Europe/Paris:20250604T180000
DTEND;TZID=Europe/Paris:20250604T220000
DTSTAMP:20260419T191200
CREATED:20240329T135303Z
LAST-MODIFIED:20250521T125737Z
UID:8122-1749060000-1749074400@www.frenchtechcotedazur.fr
SUMMARY:Demo Day par Nucleate France Unica
DESCRIPTION:Nucleate France Unica est heureux de vous convier à leur événement Demo Day de son programme Activator qui se tiendra : \n🗓️ Le mercredi 4 juin de 18h à 22h \n📍Hyatt Regency Nice Palais de la Méditerranée \nNucleate\, fondé par des étudiants de la Harvard Medical School\, est présent dans une dizaine de pays. En France\, l’antenne azuréenne a été créée grâce à une collaboration entre Université Côte d’Azur et l’organisation internationale\, avec le soutien de l’initiative IDEX/UniCA. \nCet événement mettra en lumière le programme Activator de quatre mois\, conçu pour accompagner des projets de startups issues des sciences du vivant\, de la medtech et des écotechnologies. \nPour vous inscrire\, cliquez-ici
URL:https://www.frenchtechcotedazur.fr/event/demo-day-par-nucleate-france-unica/
ATTACH;FMTTYPE=image/jpeg:https://www.frenchtechcotedazur.fr/wp-content/uploads/2024/03/unnamed-e1747832212363.jpg
END:VEVENT
END:VCALENDAR