BEGIN:VCALENDAR
VERSION:2.0
PRODID:-//French Tech Côte d&#039;Azur - ECPv6.15.20//NONSGML v1.0//EN
CALSCALE:GREGORIAN
METHOD:PUBLISH
X-WR-CALNAME:French Tech Côte d&#039;Azur
X-ORIGINAL-URL:https://www.frenchtechcotedazur.fr
X-WR-CALDESC:Évènements pour French Tech Côte d&#039;Azur
REFRESH-INTERVAL;VALUE=DURATION:PT1H
X-Robots-Tag:noindex
X-PUBLISHED-TTL:PT1H
BEGIN:VTIMEZONE
TZID:Europe/Paris
BEGIN:DAYLIGHT
TZOFFSETFROM:+0100
TZOFFSETTO:+0200
TZNAME:CEST
DTSTART:20240331T010000
END:DAYLIGHT
BEGIN:STANDARD
TZOFFSETFROM:+0200
TZOFFSETTO:+0100
TZNAME:CET
DTSTART:20241027T010000
END:STANDARD
BEGIN:DAYLIGHT
TZOFFSETFROM:+0100
TZOFFSETTO:+0200
TZNAME:CEST
DTSTART:20250330T010000
END:DAYLIGHT
BEGIN:STANDARD
TZOFFSETFROM:+0200
TZOFFSETTO:+0100
TZNAME:CET
DTSTART:20251026T010000
END:STANDARD
BEGIN:DAYLIGHT
TZOFFSETFROM:+0100
TZOFFSETTO:+0200
TZNAME:CEST
DTSTART:20260329T010000
END:DAYLIGHT
BEGIN:STANDARD
TZOFFSETFROM:+0200
TZOFFSETTO:+0100
TZNAME:CET
DTSTART:20261025T010000
END:STANDARD
END:VTIMEZONE
BEGIN:VEVENT
DTSTART;TZID=Europe/Paris:20250603T190000
DTEND;TZID=Europe/Paris:20250603T230000
DTSTAMP:20260419T204555
CREATED:20240329T135303Z
LAST-MODIFIED:20250526T152156Z
UID:8163-1748977200-1748991600@www.frenchtechcotedazur.fr
SUMMARY:Soirée Networking par Telecom Valley
DESCRIPTION:Telecom Valley vous invite à une soirée placée sous le signe de la convivialité\, du fun et des rencontres\, dans un cadre tout simplement magnifique : au cœur d’une pinède\, dans les superbes jardins de la Villa des Amandiers à Sophia Antipolis. \nAu programme :\nAmbiance guinguette\, lampions dans les arbres\, rires sous les pins…\nAnimations détente : pétanque\, ping-pong\, fléchettes – que le meilleur gagne !\nRafraîchissements\, apéritif\, grignotages gourmands… tout y est pour passer un bon moment ! \n📅 le mardi 3 juin 2025 à partir de 19h\n📍 La Villa des Amandiers – 260 route du Pin Montard\, Biot \nPour vous inscrire\, cliquez ici
URL:https://www.frenchtechcotedazur.fr/event/soiree-networking-par-telecom-valley/
ATTACH;FMTTYPE=image/png:https://www.frenchtechcotedazur.fr/wp-content/uploads/2024/03/Header-Soiree-networking-Juin-2025.png
END:VEVENT
END:VCALENDAR