BEGIN:VCALENDAR
VERSION:2.0
PRODID:-//French Tech Côte d&#039;Azur - ECPv6.15.20//NONSGML v1.0//EN
CALSCALE:GREGORIAN
METHOD:PUBLISH
X-WR-CALNAME:French Tech Côte d&#039;Azur
X-ORIGINAL-URL:https://www.frenchtechcotedazur.fr
X-WR-CALDESC:Évènements pour French Tech Côte d&#039;Azur
REFRESH-INTERVAL;VALUE=DURATION:PT1H
X-Robots-Tag:noindex
X-PUBLISHED-TTL:PT1H
BEGIN:VTIMEZONE
TZID:Europe/Paris
BEGIN:DAYLIGHT
TZOFFSETFROM:+0100
TZOFFSETTO:+0200
TZNAME:CEST
DTSTART:20240331T010000
END:DAYLIGHT
BEGIN:STANDARD
TZOFFSETFROM:+0200
TZOFFSETTO:+0100
TZNAME:CET
DTSTART:20241027T010000
END:STANDARD
BEGIN:DAYLIGHT
TZOFFSETFROM:+0100
TZOFFSETTO:+0200
TZNAME:CEST
DTSTART:20250330T010000
END:DAYLIGHT
BEGIN:STANDARD
TZOFFSETFROM:+0200
TZOFFSETTO:+0100
TZNAME:CET
DTSTART:20251026T010000
END:STANDARD
BEGIN:DAYLIGHT
TZOFFSETFROM:+0100
TZOFFSETTO:+0200
TZNAME:CEST
DTSTART:20260329T010000
END:DAYLIGHT
BEGIN:STANDARD
TZOFFSETFROM:+0200
TZOFFSETTO:+0100
TZNAME:CET
DTSTART:20261025T010000
END:STANDARD
END:VTIMEZONE
BEGIN:VEVENT
DTSTART;TZID=Europe/Paris:20250527T170000
DTEND;TZID=Europe/Paris:20250527T210000
DTSTAMP:20260419T192501
CREATED:20240827T083109Z
LAST-MODIFIED:20250411T081458Z
UID:7791-1748365200-1748379600@www.frenchtechcotedazur.fr
SUMMARY:Cocorico Day par la French Tech Côte d'Azur
DESCRIPTION:Afterwork Cocorico Day 🐓 \nL’événement d’onboarding et de pitchs des nouvelles startups membres de la French Tech Côte d’Azur. \n🗓 Mardi 27 mai 2025 à partir de 17h30 \n📍Business Pôle – Pépinière d’entreprises\, 1047 Route des Dolines\, All. Pierre Ziller\, 06560 Valbonne \nTout l’écosystème sera présent pour l’occasion ! \nLe programme sera bientot dévoilé\, patience 🤫 \nNe ratez pas l’occasion\, inscrivez-vous en cliquant ici
URL:https://www.frenchtechcotedazur.fr/event/copy-of-cocorico-day-par-la-french-tech-cote-dazur/
ATTACH;FMTTYPE=image/png:https://www.frenchtechcotedazur.fr/wp-content/uploads/2024/08/Cocorico-Day-27.03.25-1.png
END:VEVENT
END:VCALENDAR