BEGIN:VCALENDAR
VERSION:2.0
PRODID:-//French Tech Côte d&#039;Azur - ECPv6.15.20//NONSGML v1.0//EN
CALSCALE:GREGORIAN
METHOD:PUBLISH
X-ORIGINAL-URL:https://www.frenchtechcotedazur.fr
X-WR-CALDESC:Évènements pour French Tech Côte d&#039;Azur
REFRESH-INTERVAL;VALUE=DURATION:PT1H
X-Robots-Tag:noindex
X-PUBLISHED-TTL:PT1H
BEGIN:VTIMEZONE
TZID:Europe/Paris
BEGIN:DAYLIGHT
TZOFFSETFROM:+0100
TZOFFSETTO:+0200
TZNAME:CEST
DTSTART:20240331T010000
END:DAYLIGHT
BEGIN:STANDARD
TZOFFSETFROM:+0200
TZOFFSETTO:+0100
TZNAME:CET
DTSTART:20241027T010000
END:STANDARD
BEGIN:DAYLIGHT
TZOFFSETFROM:+0100
TZOFFSETTO:+0200
TZNAME:CEST
DTSTART:20250330T010000
END:DAYLIGHT
BEGIN:STANDARD
TZOFFSETFROM:+0200
TZOFFSETTO:+0100
TZNAME:CET
DTSTART:20251026T010000
END:STANDARD
BEGIN:DAYLIGHT
TZOFFSETFROM:+0100
TZOFFSETTO:+0200
TZNAME:CEST
DTSTART:20260329T010000
END:DAYLIGHT
BEGIN:STANDARD
TZOFFSETFROM:+0200
TZOFFSETTO:+0100
TZNAME:CET
DTSTART:20261025T010000
END:STANDARD
END:VTIMEZONE
BEGIN:VEVENT
DTSTART;TZID=Europe/Paris:20250526T123000
DTEND;TZID=Europe/Paris:20250526T133000
DTSTAMP:20260419T191933
CREATED:20240213T135602Z
LAST-MODIFIED:20250429T125701Z
UID:8034-1748262600-1748266200@www.frenchtechcotedazur.fr
SUMMARY:« MEET THE NEWCOMERS » par Hub de l'Innovation
DESCRIPTION:Le Hub de l’Innovation vous invite à rencontrer en avant-première les nouvelles startups hébergées au Hub de l’Innovation et la toute nouvelle promotion de leur programme d’accélération dédiée aux TPE-PME en pleine croissance. \n📅 Lundi 26 mai 2025 de 10h à 13h \n📍61 avenue Simone Veil\, Nice (Salle Openloft – parvis extérieur) \nCe que vous allez en tirer ? \n\nDécouvrir des solutions innovantes lors de pitchs dynamiques et inspirants.\nRencontrer la nouvelle génération d’entrepreneurs et mieux comprendre comment ce programme peut les propulser plus vite\, plus loin.\nÉlargir votre réseau en échangeant avec des entrepreneurs audacieux\, des acteurs clés et des partenaires engagés.\n\nPour vous inscrire\, cliquez ici 
URL:https://www.frenchtechcotedazur.fr/event/meet-the-newcomers-par-hub-de-linnovation/
ATTACH;FMTTYPE=image/jpeg:https://www.frenchtechcotedazur.fr/wp-content/uploads/2024/02/unnamed-1.jpg
END:VEVENT
END:VCALENDAR