BEGIN:VCALENDAR
VERSION:2.0
PRODID:-//French Tech Côte d&#039;Azur - ECPv6.15.20//NONSGML v1.0//EN
CALSCALE:GREGORIAN
METHOD:PUBLISH
X-ORIGINAL-URL:https://www.frenchtechcotedazur.fr
X-WR-CALDESC:Évènements pour French Tech Côte d&#039;Azur
REFRESH-INTERVAL;VALUE=DURATION:PT1H
X-Robots-Tag:noindex
X-PUBLISHED-TTL:PT1H
BEGIN:VTIMEZONE
TZID:Europe/Paris
BEGIN:DAYLIGHT
TZOFFSETFROM:+0100
TZOFFSETTO:+0200
TZNAME:CEST
DTSTART:20240331T010000
END:DAYLIGHT
BEGIN:STANDARD
TZOFFSETFROM:+0200
TZOFFSETTO:+0100
TZNAME:CET
DTSTART:20241027T010000
END:STANDARD
BEGIN:DAYLIGHT
TZOFFSETFROM:+0100
TZOFFSETTO:+0200
TZNAME:CEST
DTSTART:20250330T010000
END:DAYLIGHT
BEGIN:STANDARD
TZOFFSETFROM:+0200
TZOFFSETTO:+0100
TZNAME:CET
DTSTART:20251026T010000
END:STANDARD
BEGIN:DAYLIGHT
TZOFFSETFROM:+0100
TZOFFSETTO:+0200
TZNAME:CEST
DTSTART:20260329T010000
END:DAYLIGHT
BEGIN:STANDARD
TZOFFSETFROM:+0200
TZOFFSETTO:+0100
TZNAME:CET
DTSTART:20261025T010000
END:STANDARD
END:VTIMEZONE
BEGIN:VEVENT
DTSTART;TZID=Europe/Paris:20250522T083000
DTEND;TZID=Europe/Paris:20250522T160000
DTSTAMP:20260419T204115
CREATED:20240827T083109Z
LAST-MODIFIED:20250429T141922Z
UID:8048-1747902600-1747929600@www.frenchtechcotedazur.fr
SUMMARY:Micro innovation day VI par AKTANTIS
DESCRIPTION:Venez rencontrer cet écosystème vivace du Smart Electronics Packaging qui montre qu’il est possible d’assembler des puces de semi-conducteurs dans des produits électroniques en France\, dans des sites de production bas-carbone et éco-conçus\, et que nous avons les talents et les compétences pour le faire ! \nJoignez-vous aux leaders clés de l’industrie de la microélectronique\, de l’électronique hybride\, et du Smart Packaging\, en partenariat avec l-NOVMICRO#2\, pour explorer les dernières avancées et les opportunités offertes. \nEn outre\, le sujet des usines à faible impact environnemental sera traité. Les challenges sont: la réduction des empreintes carbone\, énergétique et environnementale de l’Industrie 4.0\, du recyclage\, de l’optimisation des équipements et des procédés de fabrication\, d’une électronique adaptative\, fiable et durable\, du Re-use by Design et du cycle de vie des matériaux et produits de l’électronique. Une enquête en cours sur l’attractivité de la filière Electronique et les besoins et attentes des entreprises de la filière micro/électronique sera présentée. \nAU PROGRAMME : \n8H30 – Accueil café \n9h – Introduction par les directeurs de AKTANTIS et ST Sophia-Antipolis \n   Session 1 : Electronics Smart Packaging & Assembly \n\nInnovation autour du Smart Packaging – EYCO\, JP Delesse\nCase studies of adanced packaging solutions – EquipIC\, Torsten Krauze \n STMicroelectronics\n\n   Session 2 : Services et Equipements du Packaging (Assemblage\, Métrologie\, Contrôle Qualité) avec Automatisation\, Robotisation et IA \n\nCapabilities & Roadmap Packaging from Synergie Cad PSC – European Assembly & Test House – SYNERGIE CAD Group\nEU Chips Act: Chip Competence Center pour PME et Grands comptes Micro – AKTANTIS\n\n   Break 10min \n   Session 3 : Talents\, compétences & financements – Table ronde avec regards croisés de différents speakers sur les sujet de formation/recrutement/fuite des         talents/besoins en compétences \n\nFinancez votre entreprise MICRO\, grave à un outil de développement économique 100% Plan Climat! – Région Sud Investissement\nLes leviers de l’attractivité de la filière Micro-electronique–Campus d’excellence Industrie du Futur\nQuand l’apprentissage conduit à l’excellence – EYCO\nRecrutement circulaire des talents Tech & Micro – RIVENEUVE & APEC\n« Développer le capital humain et la montée en gamme des PME\, pour une électronique durable » – IRT NANOELEC\nSTMicroelectronics\nEnquête I-NOVMICRO#2 : Exprimez vos besoins et attentes sur les sujets du recrutement\, des compétences et de la formation en micro/électronique – AKTANTIS\n\n   Session 4 : Usine bas carbone\, Site de production eco-conçu\, Cycle de vie et impacts environnementaux des produits électroniques \n\nImpacts environnementaux à la fabrication des puces de semi-conducteurs – CEA-Leti\nEYCO\, Eric Eymard\nQuand l’électronique embarquée vient au secours de L’IA: Eco-conception et Intelligence Artificielle : 2 sœurs ennemies? – 3eco-concept\nSTMicroelectronics\n\n12h30 – Déjeuner de networking de STMicroelectronics Sophia \n13h30 –  Démo dans le FabLab* \n14h – RDV B2B** \n16h – Fin \n📅 Le Jeudi 22 mai 2025 – 08h30 à 16h00 \nPour en savoir et vous inscrire : cliquez-ici
URL:https://www.frenchtechcotedazur.fr/event/micro-innovation-day-vi-par-aktantis/
ATTACH;FMTTYPE=image/png:https://www.frenchtechcotedazur.fr/wp-content/uploads/2024/08/Micro-innovation-day-VI-1.png
END:VEVENT
BEGIN:VEVENT
DTSTART;TZID=Europe/Paris:20250522T173000
DTEND;TZID=Europe/Paris:20250522T190000
DTSTAMP:20260419T204115
CREATED:20240213T135602Z
LAST-MODIFIED:20250502T071314Z
UID:8060-1747935000-1747940400@www.frenchtechcotedazur.fr
SUMMARY:Soirée « Graines de Boss » pour les créateurs d’entreprises par la CCI Nice Côte d'Azur
DESCRIPTION:Le concours Graines de Boss offrent aux jeunes créateurs d’entreprises un environnement de développement business de confiance\, à l’aide d’un réseau de dirigeants et de mentors. Au-delà d’être un concours\, Graines de Boss apporte un véritable accompagnement tout au long des phases de sélection et d’évaluation. Chaque année\, ce sont 50 dirigeants qui sont suivis et qui ont l’opportunité de développer leur activité via des partenariats avec de grandes entreprises. \nParticipez à la soirée Graines de Boss le : \n📅 Jeudi 22 mai 2025 à 17h30 \n📍CCI Nice Côte d’Azur  – 20 bd Carabacel\, Nice \nAu programme :\n17h30 – Table-ronde « Mes premiers pas vers le financement de ma Start-Up » Vous avez une idée de création d’une start-up\, vous souhaitez lancer un nouveau produit ou service\, nous avons le plaisir de vous inviter à notre table ronde autour de l’amorçage de projets innovants.\nTable ronde avec : \nRISING SUD : Quelles solutions pour financer mon projet ?\nInitiative Terres d’Azur : Le Prêt d’Honneur Innovation\, un nouveau dispositif pour aider nos startups\nLa CCI Nice Côte d’Azur : De l’idée au lancement\, comment structurer mon projet ?\nTémoignage d’un dirigeant\nNe manquez pas cette occasion unique de découvrir des solutions d’accompagnement et de financement adaptées à vos besoins et de rencontrer des experts du secteur. \n19h – Témoignage de Florian BARBERO\, dirigeant d’UncovAI \, gagnant national du concours Graine de Boss 2024 \n19h15 – Pitch des 3 candidats 2025 finalistes et annonce du gagnant 2025 qui ira défendre la Côte d’Azur le 24 juin à Paris pour la finale nationale au Medef \n19h30– Cocktail networking \nPour vous inscrire\, cliquez ici 
URL:https://www.frenchtechcotedazur.fr/event/soiree-graines-de-boss-pour-les-createurs-dentreprises-par-la-cci-nice-cote-dazur/
ATTACH;FMTTYPE=image/jpeg:https://www.frenchtechcotedazur.fr/wp-content/uploads/2024/02/1744028645260.jpeg
END:VEVENT
END:VCALENDAR