BEGIN:VCALENDAR
VERSION:2.0
PRODID:-//French Tech Côte d&#039;Azur - ECPv6.15.20//NONSGML v1.0//EN
CALSCALE:GREGORIAN
METHOD:PUBLISH
X-WR-CALNAME:French Tech Côte d&#039;Azur
X-ORIGINAL-URL:https://www.frenchtechcotedazur.fr
X-WR-CALDESC:Évènements pour French Tech Côte d&#039;Azur
REFRESH-INTERVAL;VALUE=DURATION:PT1H
X-Robots-Tag:noindex
X-PUBLISHED-TTL:PT1H
BEGIN:VTIMEZONE
TZID:Europe/Paris
BEGIN:DAYLIGHT
TZOFFSETFROM:+0100
TZOFFSETTO:+0200
TZNAME:CEST
DTSTART:20240331T010000
END:DAYLIGHT
BEGIN:STANDARD
TZOFFSETFROM:+0200
TZOFFSETTO:+0100
TZNAME:CET
DTSTART:20241027T010000
END:STANDARD
BEGIN:DAYLIGHT
TZOFFSETFROM:+0100
TZOFFSETTO:+0200
TZNAME:CEST
DTSTART:20250330T010000
END:DAYLIGHT
BEGIN:STANDARD
TZOFFSETFROM:+0200
TZOFFSETTO:+0100
TZNAME:CET
DTSTART:20251026T010000
END:STANDARD
BEGIN:DAYLIGHT
TZOFFSETFROM:+0100
TZOFFSETTO:+0200
TZNAME:CEST
DTSTART:20260329T010000
END:DAYLIGHT
BEGIN:STANDARD
TZOFFSETFROM:+0200
TZOFFSETTO:+0100
TZNAME:CET
DTSTART:20261025T010000
END:STANDARD
END:VTIMEZONE
BEGIN:VEVENT
DTSTART;TZID=Europe/Paris:20250521T090000
DTEND;TZID=Europe/Paris:20250521T170000
DTSTAMP:20260419T204450
CREATED:20240213T135602Z
LAST-MODIFIED:20250411T100910Z
UID:7850-1747818000-1747846800@www.frenchtechcotedazur.fr
SUMMARY:Spring Tech Industrie par la Métropole Nice Côte d'Azur
DESCRIPTION:La Métropole Nice Côte d’Azur est heureuse de vous convier à leur seconde édition du Spring Tech qui se tiendra: \n📅 Mercredi 21 mai 2025 de 9h à 17h \n📍Campus Sud des Métiers\, 13 Avenue Simone Veil – 06200 NICE \nCet événement s’inscrit dans une démarche ambitieuse pour dynamiser l’innovation\, la compétitivité et l’attractivité de l’industrie. Cette deuxième édition du Spring Tech se consacre entièrement au secteur industriel et vous offre une journée riche en découvertes\, rencontres et opportunités. \nAu programme : \n\nConférence et Tables Rondes : Participez à des échanges concrets sur la transition écologique\, l’innovation\, le financement et les opportunités business\, animés par des experts du secteur et des partenaires institutionnels.\nForum Innovation : Découvrez des technologies de pointe grâce à un espace d’exposition dédié aux solutions innovantes.\nForum Emploi : Boostez votre carrière lors d’un Job Dating interactif et d’ateliers de détection de compétences.\nInauguration (sur invitation) : Présentation de l’École de production « Je fabrique mon avenir » dédiée à la filière électricité.\n\nNe manquez pas cette opportunité unique de façonner l’avenir de l’industrie ! \nPour vous inscrire\, cliquez ici 
URL:https://www.frenchtechcotedazur.fr/event/spring-tech-industrie-par-la-metropole-nice-cote-dazur/
ATTACH;FMTTYPE=image/jpeg:https://www.frenchtechcotedazur.fr/wp-content/uploads/2024/02/sti-2-e1744365909648.jpg
END:VEVENT
END:VCALENDAR