BEGIN:VCALENDAR
VERSION:2.0
PRODID:-//French Tech Côte d&#039;Azur - ECPv6.15.20//NONSGML v1.0//EN
CALSCALE:GREGORIAN
METHOD:PUBLISH
X-WR-CALNAME:French Tech Côte d&#039;Azur
X-ORIGINAL-URL:https://www.frenchtechcotedazur.fr
X-WR-CALDESC:Évènements pour French Tech Côte d&#039;Azur
REFRESH-INTERVAL;VALUE=DURATION:PT1H
X-Robots-Tag:noindex
X-PUBLISHED-TTL:PT1H
BEGIN:VTIMEZONE
TZID:Europe/Paris
BEGIN:DAYLIGHT
TZOFFSETFROM:+0100
TZOFFSETTO:+0200
TZNAME:CEST
DTSTART:20240331T010000
END:DAYLIGHT
BEGIN:STANDARD
TZOFFSETFROM:+0200
TZOFFSETTO:+0100
TZNAME:CET
DTSTART:20241027T010000
END:STANDARD
BEGIN:DAYLIGHT
TZOFFSETFROM:+0100
TZOFFSETTO:+0200
TZNAME:CEST
DTSTART:20250330T010000
END:DAYLIGHT
BEGIN:STANDARD
TZOFFSETFROM:+0200
TZOFFSETTO:+0100
TZNAME:CET
DTSTART:20251026T010000
END:STANDARD
BEGIN:DAYLIGHT
TZOFFSETFROM:+0100
TZOFFSETTO:+0200
TZNAME:CEST
DTSTART:20260329T010000
END:DAYLIGHT
BEGIN:STANDARD
TZOFFSETFROM:+0200
TZOFFSETTO:+0100
TZNAME:CET
DTSTART:20261025T010000
END:STANDARD
END:VTIMEZONE
BEGIN:VEVENT
DTSTART;TZID=Europe/Paris:20250519T150000
DTEND;TZID=Europe/Paris:20250519T190000
DTSTAMP:20260419T220215
CREATED:20240213T135602Z
LAST-MODIFIED:20250514T084331Z
UID:8078-1747666800-1747681200@www.frenchtechcotedazur.fr
SUMMARY:Table ronde sur l'IA et les TPE par BGE Côte d’Azur
DESCRIPTION:Une table ronde interactive suivie d’un cocktail networking\, organisée dans le cadre des Accélérateurs de BGE Côte d’Azur et en partenariat avec le Carrefour de l’Entrepreneuriat\, sur le thème :\n« IA et TPE en croissance : usages concrets pour gagner en efficacité » \n📅 Lundi 19 mai 2025 de 15h à 19h \n📍Hub d’Innovation – 61-63 avenue Simone Veil\, 06200 Nice\n \nCet événement\, présentera des solutions concrètes pour aider les dirigeants de petites entreprises à intégrer l’IA dans leur quotidien\, avec des exemples pratiques adaptés à leurs réalités. \nInscription (gratuite mais obligatoire) : https://2ly.link/26i91 \n \n 
URL:https://www.frenchtechcotedazur.fr/event/table-ronde-sur-lia-et-les-tpe-par-bge-cote-dazur/
ATTACH;FMTTYPE=image/png:https://www.frenchtechcotedazur.fr/wp-content/uploads/2024/02/unnamed-8.png
END:VEVENT
END:VCALENDAR