BEGIN:VCALENDAR
VERSION:2.0
PRODID:-//French Tech Côte d&#039;Azur - ECPv6.15.20//NONSGML v1.0//EN
CALSCALE:GREGORIAN
METHOD:PUBLISH
X-ORIGINAL-URL:https://www.frenchtechcotedazur.fr
X-WR-CALDESC:Évènements pour French Tech Côte d&#039;Azur
REFRESH-INTERVAL;VALUE=DURATION:PT1H
X-Robots-Tag:noindex
X-PUBLISHED-TTL:PT1H
BEGIN:VTIMEZONE
TZID:Europe/Paris
BEGIN:DAYLIGHT
TZOFFSETFROM:+0100
TZOFFSETTO:+0200
TZNAME:CEST
DTSTART:20240331T010000
END:DAYLIGHT
BEGIN:STANDARD
TZOFFSETFROM:+0200
TZOFFSETTO:+0100
TZNAME:CET
DTSTART:20241027T010000
END:STANDARD
BEGIN:DAYLIGHT
TZOFFSETFROM:+0100
TZOFFSETTO:+0200
TZNAME:CEST
DTSTART:20250330T010000
END:DAYLIGHT
BEGIN:STANDARD
TZOFFSETFROM:+0200
TZOFFSETTO:+0100
TZNAME:CET
DTSTART:20251026T010000
END:STANDARD
BEGIN:DAYLIGHT
TZOFFSETFROM:+0100
TZOFFSETTO:+0200
TZNAME:CEST
DTSTART:20260329T010000
END:DAYLIGHT
BEGIN:STANDARD
TZOFFSETFROM:+0200
TZOFFSETTO:+0100
TZNAME:CET
DTSTART:20261025T010000
END:STANDARD
END:VTIMEZONE
BEGIN:VEVENT
DTSTART;TZID=Europe/Paris:20250505T083000
DTEND;TZID=Europe/Paris:20250505T100000
DTSTAMP:20260419T204026
CREATED:20240827T083109Z
LAST-MODIFIED:20250429T135109Z
UID:8040-1746433800-1746439200@www.frenchtechcotedazur.fr
SUMMARY:Rendez-vous Café des Entrepreneurs par Entre Head
DESCRIPTION:Entre Head vous convie autour d’un café pour des moments de partage et de bienveillance ! \n📅 Le lundi 5 mai 2025 de 8h30 à 10h00 \n📍 LA CAVE MARTA\, 3 rue Francois 1er à NICE \nAu programme :  \nUne présentation sommaire avec « météo intérieure » de chacun(e)\, échanges conviviaux autour\, soit de : \n👉 problématiques d’entrepreneurs \n👉 projets qui nous tiennent à cœur \n👉 actualités/réflexions autour de notre association \nUn seul objectif : faire grimper notre moral en 1h30 😁🚀🚀🚀🚀🚀 \nOuvert à toutes et à tous ! \nPas d’inscription préalable requise.
URL:https://www.frenchtechcotedazur.fr/event/copy-of-rendez-vous-cafe-des-entrepreneurs-par-entre-head/
ATTACH;FMTTYPE=image/jpeg:https://www.frenchtechcotedazur.fr/wp-content/uploads/2024/08/th.jpeg
END:VEVENT
BEGIN:VEVENT
DTSTART;TZID=Europe/Paris:20250505T123000
DTEND;TZID=Europe/Paris:20250505T133000
DTSTAMP:20260419T204026
CREATED:20240213T135602Z
LAST-MODIFIED:20250415T094159Z
UID:7950-1746448200-1746451800@www.frenchtechcotedazur.fr
SUMMARY:Webinaire sur la reprise par les Premières Sud
DESCRIPTION:Les Premières Sud sont heureuses de vous convier à leur webinaire autour de la reprise qui se tiendra: \n📅 Le lundi 5 mai 2025 de 12h30 à 13h30 \n📍En ligne \nRejoins Sibylle Sanchez\, manager CAZ des Premières Sud\, Jennifer Roubin\, chargée d’affaires chez Initiative Nice Côte d’Azur\, Loris Pompouye Chargé d’études financement chez BPI France \, et enfin André Didelot\, associé Cessions-Reprises Eurallia pour le webinar autour de la reprise. \nAu programme: \n\nLes typologies de la reprise\nLes avantages de la reprise\nLe process pour reprendre une entreprise\nUn focus sur le Financement de la reprise\nSe mettre dans la peau d’un cédant et les tips pour trouver l’entreprise de vos rêves!\n\nPour vous inscrire\, cliquez ici 
URL:https://www.frenchtechcotedazur.fr/event/webinaire-sur-la-reprise-par-les-premieres-sud/
ATTACH;FMTTYPE=image/webp:https://www.frenchtechcotedazur.fr/wp-content/uploads/2024/02/863b69_cc686df1602546c4a12cfc4e5cc232a6mv2.png-e1744710087351.webp
END:VEVENT
END:VCALENDAR