BEGIN:VCALENDAR
VERSION:2.0
PRODID:-//French Tech Côte d&#039;Azur - ECPv6.15.20//NONSGML v1.0//EN
CALSCALE:GREGORIAN
METHOD:PUBLISH
X-ORIGINAL-URL:https://www.frenchtechcotedazur.fr
X-WR-CALDESC:Évènements pour French Tech Côte d&#039;Azur
REFRESH-INTERVAL;VALUE=DURATION:PT1H
X-Robots-Tag:noindex
X-PUBLISHED-TTL:PT1H
BEGIN:VTIMEZONE
TZID:Europe/Paris
BEGIN:DAYLIGHT
TZOFFSETFROM:+0100
TZOFFSETTO:+0200
TZNAME:CEST
DTSTART:20240331T010000
END:DAYLIGHT
BEGIN:STANDARD
TZOFFSETFROM:+0200
TZOFFSETTO:+0100
TZNAME:CET
DTSTART:20241027T010000
END:STANDARD
BEGIN:DAYLIGHT
TZOFFSETFROM:+0100
TZOFFSETTO:+0200
TZNAME:CEST
DTSTART:20250330T010000
END:DAYLIGHT
BEGIN:STANDARD
TZOFFSETFROM:+0200
TZOFFSETTO:+0100
TZNAME:CET
DTSTART:20251026T010000
END:STANDARD
BEGIN:DAYLIGHT
TZOFFSETFROM:+0100
TZOFFSETTO:+0200
TZNAME:CEST
DTSTART:20260329T010000
END:DAYLIGHT
BEGIN:STANDARD
TZOFFSETFROM:+0200
TZOFFSETTO:+0100
TZNAME:CET
DTSTART:20261025T010000
END:STANDARD
END:VTIMEZONE
BEGIN:VEVENT
DTSTART;TZID=Europe/Paris:20250425T110000
DTEND;TZID=Europe/Paris:20250425T120000
DTSTAMP:20260419T215628
CREATED:20240213T135602Z
LAST-MODIFIED:20250415T100155Z
UID:7960-1745578800-1745582400@www.frenchtechcotedazur.fr
SUMMARY:Webinaire transition écologique par Aktantis
DESCRIPTION:Aktantis est heureux de vous convier à leur webinaire transition écologique « Comment agir sur la consommation énergétique des logiciels ? » qui se tiendra: \n📅 Le vendredi 25 avril 2025 de 11h à 12h \n📍En ligne \nA l’heure de l’essor de l’intelligence artificielle\, l’enjeu autour de la consommation de l’énergie est central pour le développement du numérique. Les efforts sont tout à fait réels mais ils se concentrent avant tout sur les terminaux\, les composants et les infrastructures (datacenters) et dans une moindre mesure sur les parties logicielles. \nAu final\, connaître l’empreinte énergétique des logiciels est donc d’abord liée à celle de l’infrastructure qu’ils exploitent et à l’utilisation faites des applications. Or\, agir sur les logiciels\, c’est pouvoir suivre les consommations et savoir arbitrer entre performance et énergie consommée. \nAu programme : \n\nIntroduction générale d’AKTANTIS\nGrand Témoin :\n\nPrésentation par Amadeus des enjeux et des moyens d’actions pour agir sur la consommation énergétique des solutions logicielles \n\nInsights :\n\nTémoignage de l’’association Boavizta\, qui évalue les impacts environnementaux du numérique des organisations\, \nEclairage de D-Carbonize sur quelques valeurs de référence dans le calcul carbone des solutions logicielles. \n\nTemps d’échange\n\nPour vous inscrire\, cliquez ici
URL:https://www.frenchtechcotedazur.fr/event/webinaire-transition-ecologique-par-aktantis/
ATTACH;FMTTYPE=image/png:https://www.frenchtechcotedazur.fr/wp-content/uploads/2024/02/Capture-decran-2025-04-15-a-11.58.15-e1744711133498.png
END:VEVENT
END:VCALENDAR