BEGIN:VCALENDAR
VERSION:2.0
PRODID:-//French Tech Côte d&#039;Azur - ECPv6.15.20//NONSGML v1.0//EN
CALSCALE:GREGORIAN
METHOD:PUBLISH
X-WR-CALNAME:French Tech Côte d&#039;Azur
X-ORIGINAL-URL:https://www.frenchtechcotedazur.fr
X-WR-CALDESC:Évènements pour French Tech Côte d&#039;Azur
REFRESH-INTERVAL;VALUE=DURATION:PT1H
X-Robots-Tag:noindex
X-PUBLISHED-TTL:PT1H
BEGIN:VTIMEZONE
TZID:Europe/Paris
BEGIN:DAYLIGHT
TZOFFSETFROM:+0100
TZOFFSETTO:+0200
TZNAME:CEST
DTSTART:20240331T010000
END:DAYLIGHT
BEGIN:STANDARD
TZOFFSETFROM:+0200
TZOFFSETTO:+0100
TZNAME:CET
DTSTART:20241027T010000
END:STANDARD
BEGIN:DAYLIGHT
TZOFFSETFROM:+0100
TZOFFSETTO:+0200
TZNAME:CEST
DTSTART:20250330T010000
END:DAYLIGHT
BEGIN:STANDARD
TZOFFSETFROM:+0200
TZOFFSETTO:+0100
TZNAME:CET
DTSTART:20251026T010000
END:STANDARD
BEGIN:DAYLIGHT
TZOFFSETFROM:+0100
TZOFFSETTO:+0200
TZNAME:CEST
DTSTART:20260329T010000
END:DAYLIGHT
BEGIN:STANDARD
TZOFFSETFROM:+0200
TZOFFSETTO:+0100
TZNAME:CET
DTSTART:20261025T010000
END:STANDARD
END:VTIMEZONE
BEGIN:VEVENT
DTSTART;TZID=Europe/Paris:20250424T090000
DTEND;TZID=Europe/Paris:20250424T120000
DTSTAMP:20260419T220054
CREATED:20240827T083109Z
LAST-MODIFIED:20250401T132010Z
UID:7759-1745485200-1745496000@www.frenchtechcotedazur.fr
SUMMARY:Expert Connect#1 – Vos rendez-vous privilégiés avec des experts !par Nice Start(s) Up
DESCRIPTION:Nice Start(s) Up lance un format inédit de permanences pour vous offrir un accompagnement privilégié et personnalisé sur des sujets essentiels à votre développement : \,Finance & levée de fonds\, Propriété intellectuelle & brevets\, Droit des affaires & contrats\, Assurances & gestion des risques. \n📅 Le jeudi 24 avril 2025  de 9hoo à 12h00 \n📍DSO – 455 Promenade des Anglais\, Porte de l’Arénas C\, Nice \n Pourquoi participer ? \n\nAccédez à des conseils d’experts adaptés à votre startup\nGagnez du temps et évitez les erreurs coûteuses\nBénéficiez d’un cadre privilégié pour un échange direct\n\nPour en savoir plus : cliquez-ici
URL:https://www.frenchtechcotedazur.fr/event/expert-connect1-vos-rendez-vous-privilegies-avec-des-experts-par-nice-starts-up/
ATTACH;FMTTYPE=image/png:https://www.frenchtechcotedazur.fr/wp-content/uploads/2024/08/Expert-Connect-NSU-1-1024x1024-1.png
END:VEVENT
BEGIN:VEVENT
DTSTART;TZID=Europe/Paris:20250424T123000
DTEND;TZID=Europe/Paris:20250424T140000
DTSTAMP:20260419T220054
CREATED:20240827T083109Z
LAST-MODIFIED:20250401T131445Z
UID:7757-1745497800-1745503200@www.frenchtechcotedazur.fr
SUMMARY:Contrats commerciaux : Les différents types\, leurs utilités et usages par Business Pôle
DESCRIPTION:Business vous acceuil pour une session sur les contrats commerciaux. Les contrats commerciaux sont un pilier fondamental du succès et de la protection des entreprises\, en particulier pour les startups en pleine croissance. Cependant\, leur complexité juridique peut parfois être un obstacle. \n📅 Le jeudi 24 avril 2025 12h30 à 14h \n📍NIDA – 1047 Route des Dolines\, All. Pierre Ziller\, Valbonne \nAu programme : \n\n les points clés à maîtriser pour garantir la conformité\,\nla sécurité juridique\nune relation commerciale durable avec vos partenaires.
URL:https://www.frenchtechcotedazur.fr/event/contrats-commerciaux-les-differents-types-leurs-utilites-et-usages-par-business-pole/
ATTACH;FMTTYPE=image/jpeg:https://www.frenchtechcotedazur.fr/wp-content/uploads/2024/08/image001.jpg
END:VEVENT
END:VCALENDAR