BEGIN:VCALENDAR
VERSION:2.0
PRODID:-//French Tech Côte d&#039;Azur - ECPv6.15.20//NONSGML v1.0//EN
CALSCALE:GREGORIAN
METHOD:PUBLISH
X-ORIGINAL-URL:https://www.frenchtechcotedazur.fr
X-WR-CALDESC:Évènements pour French Tech Côte d&#039;Azur
REFRESH-INTERVAL;VALUE=DURATION:PT1H
X-Robots-Tag:noindex
X-PUBLISHED-TTL:PT1H
BEGIN:VTIMEZONE
TZID:Europe/Paris
BEGIN:DAYLIGHT
TZOFFSETFROM:+0100
TZOFFSETTO:+0200
TZNAME:CEST
DTSTART:20240331T010000
END:DAYLIGHT
BEGIN:STANDARD
TZOFFSETFROM:+0200
TZOFFSETTO:+0100
TZNAME:CET
DTSTART:20241027T010000
END:STANDARD
BEGIN:DAYLIGHT
TZOFFSETFROM:+0100
TZOFFSETTO:+0200
TZNAME:CEST
DTSTART:20250330T010000
END:DAYLIGHT
BEGIN:STANDARD
TZOFFSETFROM:+0200
TZOFFSETTO:+0100
TZNAME:CET
DTSTART:20251026T010000
END:STANDARD
BEGIN:DAYLIGHT
TZOFFSETFROM:+0100
TZOFFSETTO:+0200
TZNAME:CEST
DTSTART:20260329T010000
END:DAYLIGHT
BEGIN:STANDARD
TZOFFSETFROM:+0200
TZOFFSETTO:+0100
TZNAME:CET
DTSTART:20261025T010000
END:STANDARD
END:VTIMEZONE
BEGIN:VEVENT
DTSTART;TZID=Europe/Paris:20250423T140000
DTEND;TZID=Europe/Paris:20250423T180000
DTSTAMP:20260419T215628
CREATED:20240827T083109Z
LAST-MODIFIED:20250327T170014Z
UID:7712-1745416800-1745431200@www.frenchtechcotedazur.fr
SUMMARY:Unlocking Life Sciences Opportunities in the South of France par Team Nice Côte d'Azur
DESCRIPTION:Team Nice Côte d’Azur\, SIC Venture Studio\, Université Côte d’Azur\, Ulysseus\, Eurobiomed\, et soutenu par RisingSUD sont heureux de vous convier à leur événement qui se tiendra : \n📅 Mercredi 23 avril 2025 de 14h à 18h \n📍EDHEC Business School – 393 Promenade des Anglais\, 06200 Nice \nCet evenement est conçu pour les investisseurs\, les leaders de l’industrie et les innovateurs qui cherchent à explorer les opportunités d’investissement stratégique dans le secteur florissant des Sciences de la Vie dans la région. \nPourquoi participer ? \n\nDécouvrir les principaux projets prêts à être investis dans le secteur des sciences de la vie\nEntrez en contact avec des acteurs de premier plan de l’industrie et des institutions de recherche\nDécouvrez le flux d’affaires et le potentiel de croissance dans la région\nExplorer les partenariats stratégiques dans l’un des écosystèmes de technologies de la santé les plus dynamiques d’Europe.\n\nNe manquez pas cette occasion de débloquer de nouvelles opportunités d’affaires et d’explorer des investissements à fort impact dans les sciences de la vie au cœur de la Côte d’Azur ! \nPour vous inscrire : cliquez-ici
URL:https://www.frenchtechcotedazur.fr/event/unlocking-life-sciences-opportunities-in-the-south-of-france-par-team-nice-cote-dazur/
ATTACH;FMTTYPE=image/png:https://www.frenchtechcotedazur.fr/wp-content/uploads/2024/08/Capture-decran-2025-03-27-a-17.58.21.png
END:VEVENT
BEGIN:VEVENT
DTSTART;TZID=Europe/Paris:20250423T170000
DTEND;TZID=Europe/Paris:20250423T200000
DTSTAMP:20260419T215628
CREATED:20240827T083109Z
LAST-MODIFIED:20250411T082334Z
UID:7835-1745427600-1745438400@www.frenchtechcotedazur.fr
SUMMARY:Afterwork "Dans la peau du banquier" par Start Innovation CIC x French Tech Côte d'Azur
DESCRIPTION:Nous sommes heureux de vous convier à notre afterwork « Dans la peau du banquier » dédié au financement bancaire en collaboration avec notre partenaire Start Innovation CIC qui se tiendra : \n📅 Le mercredi 23 avril de 17h à 20h00 \n📍 Totem French Tech Côte d’Azur\, 9 rue d’Italie Nice \nApprenez à analyser votre dossier comme le ferait un banquier et comprenez les clés de décision du financement bancaire avec l’intervention de Yann Gozlan Animateur commercial de la filière Innovation du CIC Lyonnaise de Banque\, Lucile Eleouet et Florent DEMARIA chargés d’affaires entreprises et innovation 🚀. Grâce à leurs expertises\, vous : \n✅ Comprendrez les différents mécanismes de financement proposés par les banques\n✅Décoderez les critères d’analyse des banquiers\n✅ Identifierez les moments stratégiques pour solliciter un prêt\n✅ Optimiserez la relation avec votre conseiller bancaire \nInscrivez-vous en cliquant ici
URL:https://www.frenchtechcotedazur.fr/event/afterwork-dans-la-peau-du-banquier-par-start-innovation-cic-x-french-tech-cote-dazur/
ATTACH;FMTTYPE=image/png:https://www.frenchtechcotedazur.fr/wp-content/uploads/2024/08/FRENCH-TECH-PARTENAIRES-e1744359780198.png
END:VEVENT
BEGIN:VEVENT
DTSTART;TZID=Europe/Paris:20250423T180000
DTEND;TZID=Europe/Paris:20250423T210000
DTSTAMP:20260419T215628
CREATED:20240213T135602Z
LAST-MODIFIED:20250415T092646Z
UID:7947-1745431200-1745442000@www.frenchtechcotedazur.fr
SUMMARY:Conférence et table ronde sur la gouvernance par Réseau Entreprendre Côte d'Azur x Les Premières Sud
DESCRIPTION:Le Réseau Entreprendre Côte d’Azur en partenariat avec les Premières Sud vous invite à leur conférence sur la gouvernance qui se tiendra: \n📅 Le mercredi 23 avril 2025 de 18h à 21h \n📍Banque Populaire Méditerranée (BPMED) : Auditorium 457 Prom. des Anglais\, 06200 Nice \nCet événement sera rythmé par des témoignages d’entrepreneurs et d’experts : \n\nSandrine MARTIN\, Directrice Générale Adjointe chez osmaïa :\nMarc Raiola\, dirigeant de INTERIMA GROUPE\, réseau indépendant d’intérim (CA ~ 20 M€).\nCaroline L. co-fondatrice de la startup MiYé\, une marque de produits naturels dédiée à l’accompagnement des femmes\, qui a ouvert son capital au laboratoire Pierre Fabre.\nNicolas Ivaldi\, avocat chez EY Ventury Avocats\, spécialiste des levées de fonds.\nThomas Collet\, représentant du fonds d’investissement Turenne Groupe\, expert en capital investissement régional.\n\nPour vous inscrire\, cliquez ici 
URL:https://www.frenchtechcotedazur.fr/event/conference-et-table-ronde-sur-la-gouvernance-par-reseau-entreprendre-cote-dazur-x-les-premieres-sud/
ATTACH;FMTTYPE=image/png:https://www.frenchtechcotedazur.fr/wp-content/uploads/2024/02/Capture-decran-2025-04-15-a-11.21.53-e1744709178563.png
END:VEVENT
END:VCALENDAR