BEGIN:VCALENDAR
VERSION:2.0
PRODID:-//French Tech Côte d&#039;Azur - ECPv6.15.20//NONSGML v1.0//EN
CALSCALE:GREGORIAN
METHOD:PUBLISH
X-ORIGINAL-URL:https://www.frenchtechcotedazur.fr
X-WR-CALDESC:Évènements pour French Tech Côte d&#039;Azur
REFRESH-INTERVAL;VALUE=DURATION:PT1H
X-Robots-Tag:noindex
X-PUBLISHED-TTL:PT1H
BEGIN:VTIMEZONE
TZID:Europe/Paris
BEGIN:DAYLIGHT
TZOFFSETFROM:+0100
TZOFFSETTO:+0200
TZNAME:CEST
DTSTART:20240331T010000
END:DAYLIGHT
BEGIN:STANDARD
TZOFFSETFROM:+0200
TZOFFSETTO:+0100
TZNAME:CET
DTSTART:20241027T010000
END:STANDARD
BEGIN:DAYLIGHT
TZOFFSETFROM:+0100
TZOFFSETTO:+0200
TZNAME:CEST
DTSTART:20250330T010000
END:DAYLIGHT
BEGIN:STANDARD
TZOFFSETFROM:+0200
TZOFFSETTO:+0100
TZNAME:CET
DTSTART:20251026T010000
END:STANDARD
BEGIN:DAYLIGHT
TZOFFSETFROM:+0100
TZOFFSETTO:+0200
TZNAME:CEST
DTSTART:20260329T010000
END:DAYLIGHT
BEGIN:STANDARD
TZOFFSETFROM:+0200
TZOFFSETTO:+0100
TZNAME:CET
DTSTART:20261025T010000
END:STANDARD
END:VTIMEZONE
BEGIN:VEVENT
DTSTART;TZID=Europe/Paris:20250403T180000
DTEND;TZID=Europe/Paris:20250404T220000
DTSTAMP:20260419T215623
CREATED:20240827T083109Z
LAST-MODIFIED:20250401T125927Z
UID:7749-1743703200-1743804000@www.frenchtechcotedazur.fr
SUMMARY:AI-Pepper Talk par I-Pepper
DESCRIPTION:I-Pepper vous convie pour une immersion au cœur de l’IA. \n🗓 Jeudi 3 avril 2025 à partir de 18 \n📍NIDAIX – 1330 avenue Guillibert de la Lauzière\, Aix-en-Provence \nAu programme : \n\ndes cas d’usage concrets\,\ndes échanges avec des experts\,\nune présentation exclusive des partenaire Cleyrop\, spécialiste des plateformes de données souveraines.\n\nNe manquez pas cette occasion unique d’explorer le potentiel de l’IA et de la data pour votre activité. \nLes places sont limitées ! Inscrivez-vous dès maintenant \n Lien d’inscription \n 
URL:https://www.frenchtechcotedazur.fr/event/ai-pepper-talk-par-i-pepper/
ATTACH;FMTTYPE=image/png:https://www.frenchtechcotedazur.fr/wp-content/uploads/2024/08/unnamed-6.png
END:VEVENT
END:VCALENDAR