BEGIN:VCALENDAR
VERSION:2.0
PRODID:-//French Tech Côte d&#039;Azur - ECPv6.15.20//NONSGML v1.0//EN
CALSCALE:GREGORIAN
METHOD:PUBLISH
X-ORIGINAL-URL:https://www.frenchtechcotedazur.fr
X-WR-CALDESC:Évènements pour French Tech Côte d&#039;Azur
REFRESH-INTERVAL;VALUE=DURATION:PT1H
X-Robots-Tag:noindex
X-PUBLISHED-TTL:PT1H
BEGIN:VTIMEZONE
TZID:Europe/Paris
BEGIN:DAYLIGHT
TZOFFSETFROM:+0100
TZOFFSETTO:+0200
TZNAME:CEST
DTSTART:20240331T010000
END:DAYLIGHT
BEGIN:STANDARD
TZOFFSETFROM:+0200
TZOFFSETTO:+0100
TZNAME:CET
DTSTART:20241027T010000
END:STANDARD
BEGIN:DAYLIGHT
TZOFFSETFROM:+0100
TZOFFSETTO:+0200
TZNAME:CEST
DTSTART:20250330T010000
END:DAYLIGHT
BEGIN:STANDARD
TZOFFSETFROM:+0200
TZOFFSETTO:+0100
TZNAME:CET
DTSTART:20251026T010000
END:STANDARD
BEGIN:DAYLIGHT
TZOFFSETFROM:+0100
TZOFFSETTO:+0200
TZNAME:CEST
DTSTART:20260329T010000
END:DAYLIGHT
BEGIN:STANDARD
TZOFFSETFROM:+0200
TZOFFSETTO:+0100
TZNAME:CET
DTSTART:20261025T010000
END:STANDARD
END:VTIMEZONE
BEGIN:VEVENT
DTSTART;TZID=Europe/Paris:20250325T120000
DTEND;TZID=Europe/Paris:20250325T133000
DTSTAMP:20260419T232736
CREATED:20240827T083109Z
LAST-MODIFIED:20250305T114631Z
UID:7644-1742904000-1742909400@www.frenchtechcotedazur.fr
SUMMARY:Communautés open source x Cybersécurité par Telecom Valley
DESCRIPTION:Les communautés Open Source X Cybersécurité par Telecom Valley vous proposent une rencontre commune qui se tiendra : \n📅 Le mardi 25 mars 2025 12h à 13h30 \n📍 Business Pole – 1047 route des Dolines\, Allée Pierre Ziller 06560 Valbonne Sophia Antipolis \n« Sécurité des modèles LLM pour l’IA générative »\n\nChatGPT\, DeepSeek\, programme Stargate\, l’IA est en train de révolutionner les entreprises et la société en même temps qu’elle entraine de nombreux enjeux dont celui de la sécurité des modèles de LLM. \nDans ce cadre\, Slim Trabelsi\, nous présentera un nouvel outil opensource développé au sein de SAP afin de réaliser des tests d’intrusion sur les modèles LLM et identifier les vulnérabilités qui pourraient être exploitées en cas d’utilisation dans les applications. \n\nPour vous inscrire : cliquez-ici
URL:https://www.frenchtechcotedazur.fr/event/communautes-open-source-x-cybersecurite-par-telecom-valley-2/
LOCATION:Sophia Antipolis
ATTACH;FMTTYPE=image/png:https://www.frenchtechcotedazur.fr/wp-content/uploads/2024/08/Header-communautes-open-source-x-cybersecurite-e1741175047646.png
END:VEVENT
BEGIN:VEVENT
DTSTART;TZID=Europe/Paris:20250325T183000
DTEND;TZID=Europe/Paris:20250325T213000
DTSTAMP:20260419T232736
CREATED:20240213T135602Z
LAST-MODIFIED:20250305T112001Z
UID:7632-1742927400-1742938200@www.frenchtechcotedazur.fr
SUMMARY:Ap€uro #9 Protégez vos idées sans prise de tête ! par Nice Start(s) Up
DESCRIPTION:Nice Start(s) Up organise la neuvième édition de leur Ap€uro « rotégez vos idées sans prise de tête ! »  en partenariat avec Cabinet Hautier qui se tiendra: \n📅 Mardi 25 mars de 18h30 à 21h30 \n📌 École ISCAE\, 15/17 rue de la Liberté\, Nice \nUn afterwork convivial et interactif sur la propriété intellectuelle\, en compagnie d’experts juristes en PI et ingénieurs brevets prêts à répondre à toutes vos questions ! suivie d’un moment de networking autour d’un cocktail ! 🥂 \nÉvénement gratuit sur inscription (places limitées): lien d’inscription
URL:https://www.frenchtechcotedazur.fr/event/apeuro-9-protegez-vos-idees-sans-prise-de-tete-par-nice-starts-up/
ATTACH;FMTTYPE=image/png:https://www.frenchtechcotedazur.fr/wp-content/uploads/2024/02/ap-uro-9-hautier-nsu-8451e5de4f954711b6aa96ba66a88d63-e1741173574951.png
END:VEVENT
BEGIN:VEVENT
DTSTART;TZID=Europe/Paris:20250325T183000
DTEND;TZID=Europe/Paris:20250325T220000
DTSTAMP:20260419T232736
CREATED:20240827T083109Z
LAST-MODIFIED:20250325T142927Z
UID:7706-1742927400-1742940000@www.frenchtechcotedazur.fr
SUMMARY:Générez de nouvelles opportunités business ! par CJD - Section Cannes Sophia Antipolis
DESCRIPTION:CJD – Section Cannes Sophia Antipolis est heureux de vous convier à leur conférence qui se tiendra : \n🗓 Mardi 25 mars 2025 de 18h30 à 22h \n📍Cannes Bastide Rouge – Avenue Francis Tonner\, 06150 Cannes \nDans cette conférence dynamique et pragmatique animée par Bruno LOPEZ\, consultant en stratégie et en prospection commerciale\, nous allons voir comment structurer\, optimiser et sécuriser votre croissance commerciale pour devenir un expert en vente\, sans en être un ! \nAu programme : \n\nComment arrêter de subir son chiffre d’affaires ?\nComment bâtir une vraie machine de prospection ?\nRecruter\, externaliser ou déléguer : quelle solution pour son entreprise ?\nQuelles sont les indicateurs de performance clés à suivre pour ne plus naviguer à l’aveugle ?\nComment structurer une offre irrésistible pour éviter la guerre des prix ?\n\nPour vous inscrire : cliquez-ici
URL:https://www.frenchtechcotedazur.fr/event/generez-de-nouvelles-opportunites-business-par-cjd-section-cannes-sophia-antipolis/
ATTACH;FMTTYPE=image/jpeg:https://www.frenchtechcotedazur.fr/wp-content/uploads/2024/08/cjd-cannes_bruno-lopez-25-mars_4-e33adce6e5d4470e93ba0503f626f362-scaled-e1742912953566.jpg
END:VEVENT
END:VCALENDAR