BEGIN:VCALENDAR
VERSION:2.0
PRODID:-//French Tech Côte d&#039;Azur - ECPv6.15.20//NONSGML v1.0//EN
CALSCALE:GREGORIAN
METHOD:PUBLISH
X-WR-CALNAME:French Tech Côte d&#039;Azur
X-ORIGINAL-URL:https://www.frenchtechcotedazur.fr
X-WR-CALDESC:Évènements pour French Tech Côte d&#039;Azur
REFRESH-INTERVAL;VALUE=DURATION:PT1H
X-Robots-Tag:noindex
X-PUBLISHED-TTL:PT1H
BEGIN:VTIMEZONE
TZID:Europe/Paris
BEGIN:DAYLIGHT
TZOFFSETFROM:+0100
TZOFFSETTO:+0200
TZNAME:CEST
DTSTART:20240331T010000
END:DAYLIGHT
BEGIN:STANDARD
TZOFFSETFROM:+0200
TZOFFSETTO:+0100
TZNAME:CET
DTSTART:20241027T010000
END:STANDARD
BEGIN:DAYLIGHT
TZOFFSETFROM:+0100
TZOFFSETTO:+0200
TZNAME:CEST
DTSTART:20250330T010000
END:DAYLIGHT
BEGIN:STANDARD
TZOFFSETFROM:+0200
TZOFFSETTO:+0100
TZNAME:CET
DTSTART:20251026T010000
END:STANDARD
BEGIN:DAYLIGHT
TZOFFSETFROM:+0100
TZOFFSETTO:+0200
TZNAME:CEST
DTSTART:20260329T010000
END:DAYLIGHT
BEGIN:STANDARD
TZOFFSETFROM:+0200
TZOFFSETTO:+0100
TZNAME:CET
DTSTART:20261025T010000
END:STANDARD
END:VTIMEZONE
BEGIN:VEVENT
DTSTART;TZID=Europe/Paris:20250320T113000
DTEND;TZID=Europe/Paris:20250320T123000
DTSTAMP:20260419T232419
CREATED:20240213T135602Z
LAST-MODIFIED:20250306T104440Z
UID:7656-1742470200-1742473800@www.frenchtechcotedazur.fr
SUMMARY:Maximisez votre impact sur les salons : Stratégies et Retours d'Expérience par le Hub de l'Innovation
DESCRIPTION:Le Hub de l’Innovation est heureux de vous convier à son événement qui se tiendra: \n📅 Jeudi 20 mars de 11h30 à 12h30 \n📌 Hub de l’Innovation\, 61-63 Avenue Simone Veil\, 06200 Nice \nCet événement vous offre l’opportunité d’apprendre des meilleures pratiques pour tirer le meilleur parti de votre participation aux salons. Découvrez des stratégies efficaces et des retours d’expérience inspirants pour vous démarquer lors de vos prochains salons. Ne manquez pas cette occasion d’améliorer votre impact et de booster votre visibilité. \nÉvénement gratuit sur inscription : cliquez-ici
URL:https://www.frenchtechcotedazur.fr/event/maximisez-votre-impact-sur-les-salons-strategies-et-retours-dexperience-par-le-hub-de-linnovation/
ATTACH;FMTTYPE=image/jpeg:https://www.frenchtechcotedazur.fr/wp-content/uploads/2024/02/unnamed-2.jpg
END:VEVENT
BEGIN:VEVENT
DTSTART;TZID=Europe/Paris:20250320T140000
DTEND;TZID=Europe/Paris:20250320T153000
DTSTAMP:20260419T232419
CREATED:20240827T083109Z
LAST-MODIFIED:20250306T111802Z
UID:7668-1742479200-1742484600@www.frenchtechcotedazur.fr
SUMMARY:WEBINAIRE - Mener un entretien professionnel\, les incontournables par l'APEC Provence Alpes Côte d'Azur et Corse
DESCRIPTION:L’APEC Provence Alpes Côte d’Azur et Corse a le plaisir de vous inviter à son événement en ligne qui se tiendra : \n📅 Le jeudi 20 mars de 14h à 15h30 \nLes objectifs de cet atelier : \n\nIdentifier les éléments essentiels de l’entretien professionnel\nSensibiliser aux incontournables de cet échange\nRépartir avec des idées et conseils directement applicables\n\nPour vous inscrire : envoyer « Je souhaite m’inscrire à un Webatelier ! » à scnice@apec.fr
URL:https://www.frenchtechcotedazur.fr/event/webinaire-mener-un-entretien-professionnel-les-incontournables-par-lapec-provence-alpes-cote-dazur-et-corse/
ATTACH;FMTTYPE=image/png:https://www.frenchtechcotedazur.fr/wp-content/uploads/2024/08/Capture-decran-2025-03-06-a-12.16.55-e1741259852609.png
END:VEVENT
END:VCALENDAR