BEGIN:VCALENDAR
VERSION:2.0
PRODID:-//French Tech Côte d&#039;Azur - ECPv6.15.20//NONSGML v1.0//EN
CALSCALE:GREGORIAN
METHOD:PUBLISH
X-ORIGINAL-URL:https://www.frenchtechcotedazur.fr
X-WR-CALDESC:Évènements pour French Tech Côte d&#039;Azur
REFRESH-INTERVAL;VALUE=DURATION:PT1H
X-Robots-Tag:noindex
X-PUBLISHED-TTL:PT1H
BEGIN:VTIMEZONE
TZID:Europe/Paris
BEGIN:DAYLIGHT
TZOFFSETFROM:+0100
TZOFFSETTO:+0200
TZNAME:CEST
DTSTART:20240331T010000
END:DAYLIGHT
BEGIN:STANDARD
TZOFFSETFROM:+0200
TZOFFSETTO:+0100
TZNAME:CET
DTSTART:20241027T010000
END:STANDARD
BEGIN:DAYLIGHT
TZOFFSETFROM:+0100
TZOFFSETTO:+0200
TZNAME:CEST
DTSTART:20250330T010000
END:DAYLIGHT
BEGIN:STANDARD
TZOFFSETFROM:+0200
TZOFFSETTO:+0100
TZNAME:CET
DTSTART:20251026T010000
END:STANDARD
BEGIN:DAYLIGHT
TZOFFSETFROM:+0100
TZOFFSETTO:+0200
TZNAME:CEST
DTSTART:20260329T010000
END:DAYLIGHT
BEGIN:STANDARD
TZOFFSETFROM:+0200
TZOFFSETTO:+0100
TZNAME:CET
DTSTART:20261025T010000
END:STANDARD
END:VTIMEZONE
BEGIN:VEVENT
DTSTART;TZID=Europe/Paris:20250318T090000
DTEND;TZID=Europe/Paris:20250318T120000
DTSTAMP:20260419T232735
CREATED:20240827T083109Z
LAST-MODIFIED:20250305T111259Z
UID:7629-1742288400-1742299200@www.frenchtechcotedazur.fr
SUMMARY:Café Connect#4 par Nice Start(s) Up
DESCRIPTION:Nice Start(s) Up vous convie autour d’un petit-déjeuner pour découvrir l’association et échanger avec des entrepreneurs qui vous ressemblent ! \n📅 Le mardi 18 mars 2025  de 9hoo à 12h00 \n📍Hub de l’Innovation Métropole Nice Côte d’Azur – Openloft\, RDC – 61 Av. Simone Veil\, 06200 Nice \nPour vous inscrire : cliquez-ici
URL:https://www.frenchtechcotedazur.fr/event/cafe-connect4-par-nice-starts-up/
ATTACH;FMTTYPE=image/png:https://www.frenchtechcotedazur.fr/wp-content/uploads/2024/08/cafe-connect-nsu-4-3-dc85f71f6db04012973289ec37d47a00-e1741173155877.png
END:VEVENT
END:VCALENDAR